BEGIN:VCALENDAR
VERSION:2.0
PRODID:-//Annette Morris Art - ECPv6.9.0//NONSGML v1.0//EN
CALSCALE:GREGORIAN
METHOD:PUBLISH
X-ORIGINAL-URL:https://annettemorris.art
X-WR-CALDESC:Events for Annette Morris Art
REFRESH-INTERVAL;VALUE=DURATION:PT1H
X-Robots-Tag:noindex
X-PUBLISHED-TTL:PT1H
BEGIN:VTIMEZONE
TZID:Europe/Paris
BEGIN:DAYLIGHT
TZOFFSETFROM:+0100
TZOFFSETTO:+0200
TZNAME:CEST
DTSTART:20230326T010000
END:DAYLIGHT
BEGIN:STANDARD
TZOFFSETFROM:+0200
TZOFFSETTO:+0100
TZNAME:CET
DTSTART:20231029T010000
END:STANDARD
BEGIN:DAYLIGHT
TZOFFSETFROM:+0100
TZOFFSETTO:+0200
TZNAME:CEST
DTSTART:20240331T010000
END:DAYLIGHT
BEGIN:STANDARD
TZOFFSETFROM:+0200
TZOFFSETTO:+0100
TZNAME:CET
DTSTART:20241027T010000
END:STANDARD
BEGIN:DAYLIGHT
TZOFFSETFROM:+0100
TZOFFSETTO:+0200
TZNAME:CEST
DTSTART:20250330T010000
END:DAYLIGHT
BEGIN:STANDARD
TZOFFSETFROM:+0200
TZOFFSETTO:+0100
TZNAME:CET
DTSTART:20251026T010000
END:STANDARD
END:VTIMEZONE
BEGIN:VEVENT
DTSTART;TZID=Europe/Paris:20250219T100000
DTEND;TZID=Europe/Paris:20250219T130000
DTSTAMP:20260423T194449
CREATED:20241231T122048Z
LAST-MODIFIED:20241231T122104Z
UID:10002631-1739959200-1739970000@annettemorris.art
SUMMARY:USk Languedoc-Roussillon - Trèbes
DESCRIPTION:For details see the Facebook page http://www.facebook.com/urbansketcherslanguedoc/events
URL:https://annettemorris.art/event/usk-languedoc-roussillon-12-3/
LOCATION:Trèbes\, Trebes\, 11800\, France
CATEGORIES:Sketch Languedoc!,Urban Sketchers
ATTACH;FMTTYPE=image/jpeg:https://annettemorris.art/wp-content/uploads/2023/04/USk-logo-LR23.jpg
ORGANIZER;CN="USk Languedoc":MAILTO:usk@sketchlanguedoc.com
GEO:43.2097;2.4428
END:VEVENT
BEGIN:VEVENT
DTSTART;TZID=Europe/Paris:20240718T100000
DTEND;TZID=Europe/Paris:20240718T130000
DTSTAMP:20260423T194449
CREATED:20240604T144550Z
LAST-MODIFIED:20240604T144551Z
UID:10002121-1721296800-1721307600@annettemorris.art
SUMMARY:USk Languedoc-Roussillon - Trèbes
DESCRIPTION:For details see the Facebook page http://www.facebook.com/urbansketcherslanguedoc/events
URL:https://annettemorris.art/event/usk-languedoc-roussillon-6/
LOCATION:Trebes\, 11800\, France
CATEGORIES:Sketch Languedoc!,Urban Sketchers
ATTACH;FMTTYPE=image/jpeg:https://annettemorris.art/wp-content/uploads/2023/04/USk-logo-LR23.jpg
ORGANIZER;CN="USk Languedoc":MAILTO:usk@sketchlanguedoc.com
END:VEVENT
BEGIN:VEVENT
DTSTART;TZID=Europe/Paris:20230711T093000
DTEND;TZID=Europe/Paris:20230711T123000
DTSTAMP:20260423T194449
CREATED:20221229T115637Z
LAST-MODIFIED:20230412T075015Z
UID:10001842-1689067800-1689078600@annettemorris.art
SUMMARY:Life in the Slow Lane!  Sketch the Canal du Midi - Trèbes
DESCRIPTION:The Canal du Midi is a UNESCO heritage site which runs right through the heart of Languedoc and the wine-growing area of the Minervois – there are some idyllic and fascinating spaces where you can unwind and watch the barges slowly passing by and sketch in the shade of the trees. \nThese relaxed half-day workshops take place in 5 lesser known locations right alongside the Canal. Each workshop starts at 09.30 giving us a chance to work on our drawings in the cooler part of the day.  You will not need previous art experience to enjoy this event – just an interest in travel sketching with watercolour and learning more about the area! \nStep-by-step you will work through drawing what you see\, and there will be plenty of guidance on mixing colours and adding washes of watercolour to bring your sketch to life.  Each workshop is designed for a small friendly group and packed with arty tips and tricks such as painting reflections\, drawing people and how to plan your sketchbook pages. \nDates & locations: \n\nTuesday 20 June Le Somail\nTuesday 11 July Trèbes\nTuesday 18 July Puicheric\nTuesday 25 July Sallèles-d’Aude\nTuesday 8 August Homps\n\n  \nYou will need a sketchbook\, pencil\, ink pen (waterproof ink)\, watercolours\, water & water pot and tissues/rag. A portable folding chair or stool is strongly advised. \n(For a small additional charge\, a complete sketch kit can be provided on loan) \nPlaces for each workshop are limited – advanced booking is essential.
URL:https://annettemorris.art/event/life-in-the-slow-lane-sketch-the-canal-du-midi-le-somail-trebes/
LOCATION:Trèbes\, Trebes\, 11800\, France
CATEGORIES:Sketch Languedoc!,Soldes Hiver,Workshops
ATTACH;FMTTYPE=image/jpeg:https://annettemorris.art/wp-content/uploads/2022/12/sketch-canal-midi.jpeg
ORGANIZER;CN="Annette Morris":MAILTO:sketch@annettemorris.art
GEO:43.2097;2.4428
END:VEVENT
END:VCALENDAR