BEGIN:VCALENDAR
VERSION:2.0
PRODID:-//Annette Morris Art - ECPv6.9.0//NONSGML v1.0//EN
CALSCALE:GREGORIAN
METHOD:PUBLISH
X-WR-CALNAME:Annette Morris Art
X-ORIGINAL-URL:https://annettemorris.art
X-WR-CALDESC:Events for Annette Morris Art
REFRESH-INTERVAL;VALUE=DURATION:PT1H
X-Robots-Tag:noindex
X-PUBLISHED-TTL:PT1H
BEGIN:VTIMEZONE
TZID:Europe/Paris
BEGIN:DAYLIGHT
TZOFFSETFROM:+0100
TZOFFSETTO:+0200
TZNAME:CEST
DTSTART:20210328T010000
END:DAYLIGHT
BEGIN:STANDARD
TZOFFSETFROM:+0200
TZOFFSETTO:+0100
TZNAME:CET
DTSTART:20211031T010000
END:STANDARD
BEGIN:DAYLIGHT
TZOFFSETFROM:+0100
TZOFFSETTO:+0200
TZNAME:CEST
DTSTART:20220327T010000
END:DAYLIGHT
BEGIN:STANDARD
TZOFFSETFROM:+0200
TZOFFSETTO:+0100
TZNAME:CET
DTSTART:20221030T010000
END:STANDARD
END:VTIMEZONE
BEGIN:VEVENT
DTSTART;TZID=Europe/Paris:20220810T100000
DTEND;TZID=Europe/Paris:20220810T130000
DTSTAMP:20260423T212509
CREATED:20220226T124023Z
LAST-MODIFIED:20221026T053558Z
UID:10001678-1660125600-1660136400@annettemorris.art
SUMMARY:Workshop Wednesday - Tourbes
DESCRIPTION:A fun workshop suitable for sketchers of all levels of experience in the lovely town of Tourbes. \nYou’ll learn more about using ink and watercolour\, planning your page and how to sketch on location with more confidence. \nPrice 75€ excludes lunch and refreshments. \nThis workshop is ideal for beginners and materials can be provided if you do not have your own. \nPlaces are limited – please email annette@sketchlanguedoc.com to book
URL:https://annettemorris.art/event/workshop-wednesday-tourbes/
LOCATION:Tourbes\, 34120\, France
CATEGORIES:Sketch Languedoc!,Sketching France,Workshops
ATTACH;FMTTYPE=image/jpeg:https://annettemorris.art/wp-content/uploads/2022/02/teaching-in-beziers.jpg
ORGANIZER;CN="Annette Morris":MAILTO:sketch@annettemorris.art
GEO:43.4526085;3.3993751
END:VEVENT
BEGIN:VEVENT
DTSTART;TZID=Europe/Paris:20211127T100000
DTEND;TZID=Europe/Paris:20211127T150000
DTSTAMP:20260423T212509
CREATED:20211029T132933Z
LAST-MODIFIED:20211029T132933Z
UID:10001555-1638007200-1638025200@annettemorris.art
SUMMARY:USk Languedoc - Tourbes
DESCRIPTION:For details see the Facebook group http://facebook.com/groups/urbansketcherslanguedoc/events
URL:https://annettemorris.art/event/usk-languedoc-tourbes/
LOCATION:Tourbes\, 34120\, France
CATEGORIES:Sketch Languedoc!,Urban Sketchers
ATTACH;FMTTYPE=image/jpeg:https://annettemorris.art/wp-content/uploads/2019/09/USk-logo-LR.jpg
ORGANIZER;CN="USk Languedoc":MAILTO:usk@sketchlanguedoc.com
GEO:43.4526085;3.3993751
END:VEVENT
END:VCALENDAR