BEGIN:VCALENDAR
VERSION:2.0
PRODID:-//Annette Morris Art - ECPv6.9.0//NONSGML v1.0//EN
CALSCALE:GREGORIAN
METHOD:PUBLISH
X-ORIGINAL-URL:https://annettemorris.art
X-WR-CALDESC:Events for Annette Morris Art
REFRESH-INTERVAL;VALUE=DURATION:PT1H
X-Robots-Tag:noindex
X-PUBLISHED-TTL:PT1H
BEGIN:VTIMEZONE
TZID:Europe/Paris
BEGIN:DAYLIGHT
TZOFFSETFROM:+0100
TZOFFSETTO:+0200
TZNAME:CEST
DTSTART:20230326T010000
END:DAYLIGHT
BEGIN:STANDARD
TZOFFSETFROM:+0200
TZOFFSETTO:+0100
TZNAME:CET
DTSTART:20231029T010000
END:STANDARD
BEGIN:DAYLIGHT
TZOFFSETFROM:+0100
TZOFFSETTO:+0200
TZNAME:CEST
DTSTART:20240331T010000
END:DAYLIGHT
BEGIN:STANDARD
TZOFFSETFROM:+0200
TZOFFSETTO:+0100
TZNAME:CET
DTSTART:20241027T010000
END:STANDARD
TZID:UTC
BEGIN:STANDARD
TZOFFSETFROM:+0000
TZOFFSETTO:+0000
TZNAME:UTC
DTSTART:20190101T000000
END:STANDARD
END:VTIMEZONE
BEGIN:VEVENT
DTSTART;TZID=Europe/Paris:20240705T093000
DTEND;TZID=Europe/Paris:20240705T123000
DTSTAMP:20260421T095723
CREATED:20240120T114816Z
LAST-MODIFIED:20240531T085208Z
UID:10002315-1720171800-1720182600@annettemorris.art
SUMMARY:Watercolour sketching in Peyriac-de-Mer
DESCRIPTION:This 3-hour sketch workshop by the sea is suitable for beginners and more experienced sketchers. \nThe far reaching views and boardwalks across the water will give us so much inspiration – we’ll create some beautiful sketchbook pages with a variety of ink and watercolour techniques. \nClass starts at 9.30am. Places must be booked and paid-for in advance. Further details about the meeting point will be provided with booking confirmation.
URL:https://annettemorris.art/event/watercolour-sketching-in-peyriac-de-mer/
LOCATION:Peyriac-de-Mer\, Peyriac-sur-Mer\, 11440\, France
CATEGORIES:Sketch Languedoc!,Workshops
ATTACH;FMTTYPE=image/jpeg:https://annettemorris.art/wp-content/uploads/2017/07/peyriac-1566231_1920.jpg
ORGANIZER;CN="Annette Morris":MAILTO:sketch@annettemorris.art
GEO:43.0884159;2.9475662
END:VEVENT
BEGIN:VEVENT
DTSTART;TZID=Europe/Paris:20240503T100000
DTEND;TZID=Europe/Paris:20240503T130000
DTSTAMP:20260421T095723
CREATED:20240401T144744Z
LAST-MODIFIED:20240401T144744Z
UID:10002378-1714730400-1714741200@annettemorris.art
SUMMARY:USk Languedoc-Roussillon - Peyriac-de-Mer
DESCRIPTION:For details see the Facebook page http://www.facebook.com/urbansketcherslanguedoc/events
URL:https://annettemorris.art/event/usk-languedoc-roussillon-peyriac-de-mer/
LOCATION:Peyriac-de-Mer\, Peyriac-sur-Mer\, 11440\, France
CATEGORIES:Sketch Languedoc!,Urban Sketchers
ATTACH;FMTTYPE=image/jpeg:https://annettemorris.art/wp-content/uploads/2023/04/USk-logo-LR23.jpg
ORGANIZER;CN="USk Languedoc":MAILTO:usk@sketchlanguedoc.com
GEO:43.0884159;2.9475662
END:VEVENT
BEGIN:VEVENT
DTSTART;TZID=Europe/Paris:20230829T100000
DTEND;TZID=Europe/Paris:20230829T130000
DTSTAMP:20260421T095723
CREATED:20230424T123509Z
LAST-MODIFIED:20230828T160803Z
UID:10001945-1693303200-1693314000@annettemorris.art
SUMMARY:Watercolour sketching in Peyriac-de-Mer
DESCRIPTION:This 3-hour sketch workshop by the sea is suitable for beginners and more experienced sketchers. \nThe far reaching views and boardwalks across the water will give us so much inspiration – we’ll create some beautiful sketchbook pages with a variety of ink and watercolour techniques. \nClass starts at 10.00am. Places must be booked and paid-for in advance. Further details about the meeting point will be provided with booking confirmation.
URL:https://annettemorris.art/event/sketching-in-peyriac-de-mer/
LOCATION:Peyriac-de-Mer\, Peyriac-sur-Mer\, 11440\, France
CATEGORIES:Sketch Languedoc!,Workshops
ATTACH;FMTTYPE=image/jpeg:https://annettemorris.art/wp-content/uploads/2017/07/peyriac-1566231_1920.jpg
ORGANIZER;CN="Annette Morris":MAILTO:sketch@annettemorris.art
GEO:43.0884159;2.9475662
END:VEVENT
BEGIN:VEVENT
DTSTART;TZID=UTC:20190830T100000
DTEND;TZID=UTC:20190830T130000
DTSTAMP:20260421T095723
CREATED:20170711T132413Z
LAST-MODIFIED:20191220T070529Z
UID:10001269-1567159200-1567170000@annettemorris.art
SUMMARY:Sketch Workshop Peyriac-de-Mer
DESCRIPTION:This 3-hour sketch workshop is suitable for beginners and more experienced sketchers. \nClass starts at 10.00am. Places must be booked and paid-for in advance. Further details about the meeting point will be provided with booking confirmation.
URL:https://annettemorris.art/event/workshop-peyriac-de-mer/
LOCATION:Peyriac-de-Mer\, Peyriac-sur-Mer\, 11440\, France
CATEGORIES:Workshops
ATTACH;FMTTYPE=image/jpeg:https://annettemorris.art/wp-content/uploads/2017/07/peyriac-1566231_1920.jpg
ORGANIZER;CN="Annette Morris":MAILTO:sketch@annettemorris.art
GEO:43.0884159;2.9475662
END:VEVENT
END:VCALENDAR