BEGIN:VCALENDAR
VERSION:2.0
PRODID:-//Annette Morris Art - ECPv6.9.0//NONSGML v1.0//EN
CALSCALE:GREGORIAN
METHOD:PUBLISH
X-ORIGINAL-URL:https://annettemorris.art
X-WR-CALDESC:Events for Annette Morris Art
REFRESH-INTERVAL;VALUE=DURATION:PT1H
X-Robots-Tag:noindex
X-PUBLISHED-TTL:PT1H
BEGIN:VTIMEZONE
TZID:Europe/Paris
BEGIN:DAYLIGHT
TZOFFSETFROM:+0100
TZOFFSETTO:+0200
TZNAME:CEST
DTSTART:20230326T010000
END:DAYLIGHT
BEGIN:STANDARD
TZOFFSETFROM:+0200
TZOFFSETTO:+0100
TZNAME:CET
DTSTART:20231029T010000
END:STANDARD
BEGIN:DAYLIGHT
TZOFFSETFROM:+0100
TZOFFSETTO:+0200
TZNAME:CEST
DTSTART:20240331T010000
END:DAYLIGHT
BEGIN:STANDARD
TZOFFSETFROM:+0200
TZOFFSETTO:+0100
TZNAME:CET
DTSTART:20241027T010000
END:STANDARD
END:VTIMEZONE
BEGIN:VEVENT
DTSTART;TZID=Europe/Paris:20240514T100000
DTEND;TZID=Europe/Paris:20240514T120000
DTSTAMP:20260421T051649
CREATED:20240120T110049Z
LAST-MODIFIED:20240501T170926Z
UID:10002297-1715680800-1715688000@annettemorris.art
SUMMARY:Nos 17 Villages: Travel Sketching Workshops\, Montels
DESCRIPTION:This series of short workshops invites you to explore and discover the 17 villages of Canal Lirou – with a sketchbook!   Each workshop takes place in a different location and last approximately 2 hours.  You do not need any previous drawing or watercolour experience to take part.  You’ll be amazed at what you can sketch in just a short space of time! \nPlease bring along your usual sketch kit (sketchbook\, pencil\, watercolours & brush) a small pot of water\, and a small folding stool if you have one.  A sketch kit can be provided on loan if requested in advance. \nCost per workshop 30€ \n20€ per workshop when you book 5 workshops or more – click here to select your dates! \nDates : \n\nTuesday 9 April – 10am: Babeau-Bouldoux\nTuesday 30 April – 10am: Puisserguier  / 2pm: Creissan\nTuesday 14 May – 10am: Montels / 2pm: Capestang\nTuesday 18 June – 10am: Poilhes\nTuesday 9 July – 10am: Saint Chinian / 2pm: Assignan\nTuesday 23 July – 10am: Cessenon-sur-Orb\nTuesday 30 July – 10am: Quarante\nTuesday 20 August – 10am: Villespassans / 2pm: Cébazan\nTuesday 27 August – 10am: Pierrerue / 2pm Prades-sur-Vernazobre\nTuesday 22 October – 10am: Montouliers / 2pm: Cruzy\nTuesday 29 October 10am: Cazedarnes\n\n 
URL:https://annettemorris.art/event/nos-17-villages-travel-sketching-workshops-montels/
LOCATION:Montels\, Montels\, 34310\, France
CATEGORIES:Du Canal du Midi au St Chinian,Sketch Languedoc!,Workshops
ORGANIZER;CN="Annette Morris":MAILTO:sketch@annettemorris.art
END:VEVENT
BEGIN:VEVENT
DTSTART;TZID=Europe/Paris:20230524T100000
DTEND;TZID=Europe/Paris:20230524T120000
DTSTAMP:20260421T051649
CREATED:20221229T102541Z
LAST-MODIFIED:20240121T150858Z
UID:10001815-1684922400-1684929600@annettemorris.art
SUMMARY:Nos 17 Villages: Montels
DESCRIPTION:These relaxed morning sketch walks invite you to discover and draw the 17 villages of Canal Lirou.\nThe morning includes a sketch demonstration and guidance on applying watercolour to your own drawings. \nThese sessions are ideal if you are new to sketching\, or lack the confidence to sketch on location on your own.  They are also a great opportunity to discover some lesser known locations right in the heart of Languedoc! \nYou will need a sketchbook\, pencil\, ink pen (waterproof ink)\, watercolours\, water & water pot and tissues/rag.  A portable folding chair or stool is strongly advised. \n(For a small additional charge\, a complete sketch kit can be provided on loan) \nProgramme \nWednesday 24 May – Montels\nWednesday 31 May – Babeau-Bouldoux\nWednesday 14 June – Prades-sur-Vernazobre\nWednesday 21 June – Capestang\nWednesday 28 June – Saint-Chinian\nWednesday 12 July – Creissan\nWednesday 19 July – Cessenon-sur-Orb\nWednesday 26 July – Montouliers\nWednesday 9 August – Cébazan\nWednesday 16 August – Puisserguier\nWednesday 23 August – Quarante\nWednesday 30 August – Assignan\nWednesday 13 September – Pierrerue\nWednesday 27 September – Poilhes\nWednesday 11 October – Cazedarnes\nWednesday 18 October – Cruzy\nWednesday 25 October – Villespassans \nPlease note that some locations do not have cafés or public toilets.  \n25€ per workshop – advanced booking essential
URL:https://annettemorris.art/product/du-canal-du-midi-au-saint-chinian-2023/
LOCATION:Montels\, Montels\, 34310\, France
CATEGORIES:Du Canal du Midi au St Chinian,Sketch Languedoc!,Soldes Hiver,Workshops
ATTACH;FMTTYPE=image/jpeg:https://annettemorris.art/wp-content/uploads/2022/12/17-villages.jpeg
ORGANIZER;CN="Annette Morris":MAILTO:sketch@annettemorris.art
END:VEVENT
END:VCALENDAR