BEGIN:VCALENDAR
VERSION:2.0
PRODID:-//Annette Morris Art - ECPv6.9.0//NONSGML v1.0//EN
CALSCALE:GREGORIAN
METHOD:PUBLISH
X-WR-CALNAME:Annette Morris Art
X-ORIGINAL-URL:https://annettemorris.art
X-WR-CALDESC:Events for Annette Morris Art
REFRESH-INTERVAL;VALUE=DURATION:PT1H
X-Robots-Tag:noindex
X-PUBLISHED-TTL:PT1H
BEGIN:VTIMEZONE
TZID:Europe/Paris
BEGIN:DAYLIGHT
TZOFFSETFROM:+0100
TZOFFSETTO:+0200
TZNAME:CEST
DTSTART:20200329T010000
END:DAYLIGHT
BEGIN:STANDARD
TZOFFSETFROM:+0200
TZOFFSETTO:+0100
TZNAME:CET
DTSTART:20201025T010000
END:STANDARD
BEGIN:DAYLIGHT
TZOFFSETFROM:+0100
TZOFFSETTO:+0200
TZNAME:CEST
DTSTART:20210328T010000
END:DAYLIGHT
BEGIN:STANDARD
TZOFFSETFROM:+0200
TZOFFSETTO:+0100
TZNAME:CET
DTSTART:20211031T010000
END:STANDARD
BEGIN:DAYLIGHT
TZOFFSETFROM:+0100
TZOFFSETTO:+0200
TZNAME:CEST
DTSTART:20220327T010000
END:DAYLIGHT
BEGIN:STANDARD
TZOFFSETFROM:+0200
TZOFFSETTO:+0100
TZNAME:CET
DTSTART:20221030T010000
END:STANDARD
BEGIN:DAYLIGHT
TZOFFSETFROM:+0100
TZOFFSETTO:+0200
TZNAME:CEST
DTSTART:20230326T010000
END:DAYLIGHT
BEGIN:STANDARD
TZOFFSETFROM:+0200
TZOFFSETTO:+0100
TZNAME:CET
DTSTART:20231029T010000
END:STANDARD
BEGIN:DAYLIGHT
TZOFFSETFROM:+0100
TZOFFSETTO:+0200
TZNAME:CEST
DTSTART:20240331T010000
END:DAYLIGHT
BEGIN:STANDARD
TZOFFSETFROM:+0200
TZOFFSETTO:+0100
TZNAME:CET
DTSTART:20241027T010000
END:STANDARD
TZID:UTC
BEGIN:STANDARD
TZOFFSETFROM:+0000
TZOFFSETTO:+0000
TZNAME:UTC
DTSTART:20190101T000000
END:STANDARD
END:VTIMEZONE
BEGIN:VEVENT
DTSTART;TZID=Europe/Paris:20240617T093000
DTEND;TZID=Europe/Paris:20240617T123000
DTSTAMP:20260423T124311
CREATED:20240120T120945Z
LAST-MODIFIED:20240206T084426Z
UID:10002322-1718616600-1718627400@annettemorris.art
SUMMARY:Watercolour Sketch Workshop: Panoramic Views
DESCRIPTION:The small hilltop town of Montady is known for its incredible vista overlooking the incredible Etang de Montady below. \nIn this fun workshop you’ll learn some basic watercolour skills and all sorts of tips and tricks for simplifying what you see to capture a dramatic panoramic view in your sketchbook! You do not need previous artistic experience to join\, just an interest in travel sketching and a willingness to ‘loosen up’ your painting style! \nWorkshop starts 9.30am with a quick warm up sketch over coffee. \nYou will need a sketchbook with paper suitable for watercolour (220gsm or higher)\, pencil waterproof ink pen\, watercolour pencils\, basic watercolour kit\, brush\, water pot and a small folding stool.  Materials can be available on loan if you do not have your own.
URL:https://annettemorris.art/event/watercolour-sketch-workshop-panoramic-views/
LOCATION:Montady\, Montady\, 34310\, France
CATEGORIES:Sketch Languedoc!,Workshops
ATTACH;FMTTYPE=image/jpeg:https://annettemorris.art/wp-content/uploads/2017/09/teaching-montady.jpg
ORGANIZER;CN="Annette Morris":MAILTO:sketch@annettemorris.art
END:VEVENT
BEGIN:VEVENT
DTSTART;TZID=Europe/Paris:20220326T100000
DTEND;TZID=Europe/Paris:20220326T160000
DTSTAMP:20260423T124311
CREATED:20221005T080000Z
LAST-MODIFIED:20220310T160618Z
UID:10001672-1648288800-1648310400@annettemorris.art
SUMMARY:USk Languedoc - Montady
DESCRIPTION:For details see the Facebook page http://www.facebook.com/urbansketcherslanguedoc/events
URL:https://annettemorris.art/event/usk-languedoc-2022-03-26/
LOCATION:Montady\, Montady\, 34310\, France
CATEGORIES:Sketch Languedoc!,Urban Sketchers
ATTACH;FMTTYPE=image/jpeg:https://annettemorris.art/wp-content/uploads/2019/09/USk-logo-LR.jpg
ORGANIZER;CN="USk Languedoc":MAILTO:usk@sketchlanguedoc.com
END:VEVENT
BEGIN:VEVENT
DTSTART;TZID=Europe/Paris:20200304T080000
DTEND;TZID=Europe/Paris:20200304T170000
DTSTAMP:20260423T124311
CREATED:20200304T211045Z
LAST-MODIFIED:20200304T211045Z
UID:10001421-1583308800-1583341200@annettemorris.art
SUMMARY:USk Languedoc - Montady
DESCRIPTION:
URL:http://facebook.com/groups/sketchlanguedoc/events
LOCATION:Montady\, Montady\, 34310\, France
CATEGORIES:Sketch Languedoc!,Urban Sketchers
ATTACH;FMTTYPE=image/jpeg:https://annettemorris.art/wp-content/uploads/2019/09/USk-logo-LR.jpg
ORGANIZER;CN="USk Languedoc":MAILTO:usk@sketchlanguedoc.com
END:VEVENT
BEGIN:VEVENT
DTSTART;TZID=UTC:20190912T100000
DTEND;TZID=UTC:20190912T130000
DTSTAMP:20260423T124311
CREATED:20170905T174411Z
LAST-MODIFIED:20190905T120115Z
UID:10001258-1568282400-1568293200@annettemorris.art
SUMMARY:Patchwork Landscapes
DESCRIPTION:When we look at a view we usually see trees\, fields\, clouds\, fences and possibly more.  In this workshop we’ll look at the relationship between these shapes to create some dynamic\, interesting and vibrant sketches – it will be a little bit abstract and a lot of fun. \nMaterials required:  \nSketchbook\, Travel watercolour set & brush\, Pencil (sharpener and eraser)\, water pot and tissues.  (Can be available on loan if you do not have your own) \n  \n 
URL:https://annettemorris.art/event/patchwork-landscapes/
LOCATION:Montady\, Montady\, 34310\, France
CATEGORIES:Sketch Languedoc!,Workshops
ATTACH;FMTTYPE=image/jpeg:https://annettemorris.art/wp-content/uploads/2017/09/teaching-montady.jpg
ORGANIZER;CN="Annette Morris":MAILTO:sketch@annettemorris.art
END:VEVENT
END:VCALENDAR