BEGIN:VCALENDAR
VERSION:2.0
PRODID:-//Annette Morris Art - ECPv6.9.0//NONSGML v1.0//EN
CALSCALE:GREGORIAN
METHOD:PUBLISH
X-WR-CALNAME:Annette Morris Art
X-ORIGINAL-URL:https://annettemorris.art
X-WR-CALDESC:Events for Annette Morris Art
REFRESH-INTERVAL;VALUE=DURATION:PT1H
X-Robots-Tag:noindex
X-PUBLISHED-TTL:PT1H
BEGIN:VTIMEZONE
TZID:UTC
BEGIN:STANDARD
TZOFFSETFROM:+0000
TZOFFSETTO:+0000
TZNAME:UTC
DTSTART:20210101T000000
END:STANDARD
END:VTIMEZONE
BEGIN:VEVENT
DTSTART;TZID=UTC:20210818T100000
DTEND;TZID=UTC:20210818T130000
DTSTAMP:20260425T201530
CREATED:20170707T031132Z
LAST-MODIFIED:20200929T045225Z
UID:10001261-1629280800-1629291600@annettemorris.art
SUMMARY:Watercolour Sketching in Minerve
DESCRIPTION:Join me in one of the most beautiful villages of France! \nThis 3-hour Sketching Workshop is an introduction to travel sketching – ideal if you haven’t sketched before or do not think you can!  Step by step you’ll learn some of the essentials of how to sketch with watercolour on location. \nPlease bring a sketchbook suitable for watercolour (min 160gsm)\, a pencil\, watercolour set and brush\, water pot and rag/tissues. \nMaterials can be purchase on the day if arranged in advance.
URL:https://annettemorris.art/event/watercolour-workshop-minerve/
LOCATION:Minerve\, Minerve\, 34210\, France
CATEGORIES:Sketch Languedoc!,Workshops
ATTACH;FMTTYPE=image/jpeg:https://annettemorris.art/wp-content/uploads/2017/07/IMG_9445-e1531056900794.jpg
ORGANIZER;CN="Annette Morris":MAILTO:sketch@annettemorris.art
GEO:43.3541;2.7466
END:VEVENT
END:VCALENDAR