BEGIN:VCALENDAR
VERSION:2.0
PRODID:-//Annette Morris Art - ECPv6.9.0//NONSGML v1.0//EN
CALSCALE:GREGORIAN
METHOD:PUBLISH
X-ORIGINAL-URL:https://annettemorris.art
X-WR-CALDESC:Events for Annette Morris Art
REFRESH-INTERVAL;VALUE=DURATION:PT1H
X-Robots-Tag:noindex
X-PUBLISHED-TTL:PT1H
BEGIN:VTIMEZONE
TZID:Europe/Paris
BEGIN:DAYLIGHT
TZOFFSETFROM:+0100
TZOFFSETTO:+0200
TZNAME:CEST
DTSTART:20240331T010000
END:DAYLIGHT
BEGIN:STANDARD
TZOFFSETFROM:+0200
TZOFFSETTO:+0100
TZNAME:CET
DTSTART:20241027T010000
END:STANDARD
BEGIN:DAYLIGHT
TZOFFSETFROM:+0100
TZOFFSETTO:+0200
TZNAME:CEST
DTSTART:20250330T010000
END:DAYLIGHT
BEGIN:STANDARD
TZOFFSETFROM:+0200
TZOFFSETTO:+0100
TZNAME:CET
DTSTART:20251026T010000
END:STANDARD
END:VTIMEZONE
BEGIN:VEVENT
DTSTART;TZID=Europe/Paris:20250315T100000
DTEND;TZID=Europe/Paris:20250315T130000
DTSTAMP:20260425T031513
CREATED:20250210T202231Z
LAST-MODIFIED:20250210T202231Z
UID:10002673-1742032800-1742043600@annettemorris.art
SUMMARY:USk Languedoc-Roussillon - Limoux
DESCRIPTION:For details see the Facebook page http://www.facebook.com/urbansketcherslanguedoc/events
URL:https://annettemorris.art/event/usk-languedoc-roussillon-limoux-25/
LOCATION:Limoux\, Limoux\, 11300\, France
CATEGORIES:Sketch Languedoc!,Urban Sketchers
ATTACH;FMTTYPE=image/jpeg:https://annettemorris.art/wp-content/uploads/2023/04/USk-logo-LR23.jpg
ORGANIZER;CN="USk Languedoc":MAILTO:usk@sketchlanguedoc.com
GEO:43.053215122954;2.2177116841458
END:VEVENT
BEGIN:VEVENT
DTSTART;TZID=Europe/Paris:20241113T100000
DTEND;TZID=Europe/Paris:20241113T130000
DTSTAMP:20260425T031513
CREATED:20241029T112247Z
LAST-MODIFIED:20241108T121815Z
UID:10002125-1731492000-1731502800@annettemorris.art
SUMMARY:USk Languedoc-Roussillon - Limoux
DESCRIPTION:For details see the Facebook page http://www.facebook.com/urbansketcherslanguedoc/events
URL:https://annettemorris.art/event/usk-languedoc-roussillon-10/
LOCATION:Limoux\, Limoux\, 11300\, France
CATEGORIES:Sketch Languedoc!,Urban Sketchers
ATTACH;FMTTYPE=image/jpeg:https://annettemorris.art/wp-content/uploads/2023/04/USk-logo-LR23.jpg
ORGANIZER;CN="USk Languedoc":MAILTO:usk@sketchlanguedoc.com
GEO:43.053215122954;2.2177116841458
END:VEVENT
BEGIN:VEVENT
DTSTART;TZID=Europe/Paris:20240106T100000
DTEND;TZID=Europe/Paris:20240106T160000
DTSTAMP:20260425T031513
CREATED:20231220T094335Z
LAST-MODIFIED:20231220T094335Z
UID:10002230-1704535200-1704556800@annettemorris.art
SUMMARY:USk Languedoc-Roussillon - Limoux
DESCRIPTION:For details see the Facebook page http://www.facebook.com/urbansketcherslanguedoc/events
URL:https://annettemorris.art/event/usk-languedoc-roussillon-limoux/
LOCATION:Limoux\, Limoux\, 11300\, France
CATEGORIES:Sketch Languedoc!,Urban Sketchers
ATTACH;FMTTYPE=image/jpeg:https://annettemorris.art/wp-content/uploads/2023/04/USk-logo-LR23.jpg
ORGANIZER;CN="USk Languedoc":MAILTO:usk@sketchlanguedoc.com
GEO:43.053215122954;2.2177116841458
END:VEVENT
END:VCALENDAR