BEGIN:VCALENDAR
VERSION:2.0
PRODID:-//Annette Morris Art - ECPv6.9.0//NONSGML v1.0//EN
CALSCALE:GREGORIAN
METHOD:PUBLISH
X-WR-CALNAME:Annette Morris Art
X-ORIGINAL-URL:https://annettemorris.art
X-WR-CALDESC:Events for Annette Morris Art
REFRESH-INTERVAL;VALUE=DURATION:PT1H
X-Robots-Tag:noindex
X-PUBLISHED-TTL:PT1H
BEGIN:VTIMEZONE
TZID:Europe/Paris
BEGIN:DAYLIGHT
TZOFFSETFROM:+0100
TZOFFSETTO:+0200
TZNAME:CEST
DTSTART:20240331T010000
END:DAYLIGHT
BEGIN:STANDARD
TZOFFSETFROM:+0200
TZOFFSETTO:+0100
TZNAME:CET
DTSTART:20241027T010000
END:STANDARD
END:VTIMEZONE
BEGIN:VEVENT
DTSTART;TZID=Europe/Paris:20240210T100000
DTEND;TZID=Europe/Paris:20240210T160000
DTSTAMP:20260422T075757
CREATED:20240104T132005Z
LAST-MODIFIED:20240104T132005Z
UID:10002250-1707559200-1707580800@annettemorris.art
SUMMARY:USk Languedoc-Roussillon - Lézignan-la-Cèbe
DESCRIPTION:For details see the Facebook page http://www.facebook.com/urbansketcherslanguedoc/events
URL:https://annettemorris.art/event/usk-languedoc-roussillon-lezignan-la-cebe/
LOCATION:Lézignan-la-Cèbe\, Lézignan-la-Cèbe\, 34120\, France
CATEGORIES:Sketch Languedoc!,Urban Sketchers
ATTACH;FMTTYPE=image/jpeg:https://annettemorris.art/wp-content/uploads/2023/04/USk-logo-LR23.jpg
ORGANIZER;CN="USk Languedoc":MAILTO:usk@sketchlanguedoc.com
END:VEVENT
END:VCALENDAR