BEGIN:VCALENDAR
VERSION:2.0
PRODID:-//Annette Morris Art - ECPv6.9.0//NONSGML v1.0//EN
CALSCALE:GREGORIAN
METHOD:PUBLISH
X-ORIGINAL-URL:https://annettemorris.art
X-WR-CALDESC:Events for Annette Morris Art
REFRESH-INTERVAL;VALUE=DURATION:PT1H
X-Robots-Tag:noindex
X-PUBLISHED-TTL:PT1H
BEGIN:VTIMEZONE
TZID:Europe/Paris
BEGIN:DAYLIGHT
TZOFFSETFROM:+0100
TZOFFSETTO:+0200
TZNAME:CEST
DTSTART:20200329T010000
END:DAYLIGHT
BEGIN:STANDARD
TZOFFSETFROM:+0200
TZOFFSETTO:+0100
TZNAME:CET
DTSTART:20201025T010000
END:STANDARD
BEGIN:DAYLIGHT
TZOFFSETFROM:+0100
TZOFFSETTO:+0200
TZNAME:CEST
DTSTART:20210328T010000
END:DAYLIGHT
BEGIN:STANDARD
TZOFFSETFROM:+0200
TZOFFSETTO:+0100
TZNAME:CET
DTSTART:20211031T010000
END:STANDARD
BEGIN:DAYLIGHT
TZOFFSETFROM:+0100
TZOFFSETTO:+0200
TZNAME:CEST
DTSTART:20220327T010000
END:DAYLIGHT
BEGIN:STANDARD
TZOFFSETFROM:+0200
TZOFFSETTO:+0100
TZNAME:CET
DTSTART:20221030T010000
END:STANDARD
END:VTIMEZONE
BEGIN:VEVENT
DTSTART;TZID=Europe/Paris:20220522T100000
DTEND;TZID=Europe/Paris:20220522T170000
DTSTAMP:20260421T030757
CREATED:20220204T091246Z
LAST-MODIFIED:20220204T091318Z
UID:10001637-1653213600-1653238800@annettemorris.art
SUMMARY:USk Languedoc - Leucate
DESCRIPTION:For details see the Facebook page http://www.facebook.com/urbansketcherslanguedoc/events
URL:https://annettemorris.art/event/usk-languedoc-leucate/
LOCATION:Leucate\, Leucate\, 11370\, France
CATEGORIES:Sketch Languedoc!,Urban Sketchers
ATTACH;FMTTYPE=image/jpeg:https://annettemorris.art/wp-content/uploads/2019/09/USk-logo-LR.jpg
ORGANIZER;CN="USk Languedoc":MAILTO:usk@sketchlanguedoc.com
GEO:42.892058;3.0275802
END:VEVENT
BEGIN:VEVENT
DTSTART;TZID=Europe/Paris:20200919T100000
DTEND;TZID=Europe/Paris:20200919T150000
DTSTAMP:20260421T030757
CREATED:20200617T135847Z
LAST-MODIFIED:20200617T135847Z
UID:10001439-1600509600-1600527600@annettemorris.art
SUMMARY:USk Languedoc - Leucate
DESCRIPTION:
URL:https://www.facebook.com/groups/sketchlanguedoc/events/#new_tab
LOCATION:Leucate\, Leucate\, 11370\, France
CATEGORIES:Urban Sketchers
ATTACH;FMTTYPE=image/jpeg:https://annettemorris.art/wp-content/uploads/2018/10/USk-logo-LR.jpg
ORGANIZER;CN="USk Languedoc":MAILTO:usk@sketchlanguedoc.com
GEO:42.892058;3.0275802
END:VEVENT
END:VCALENDAR