BEGIN:VCALENDAR
VERSION:2.0
PRODID:-//Annette Morris Art - ECPv6.9.0//NONSGML v1.0//EN
CALSCALE:GREGORIAN
METHOD:PUBLISH
X-WR-CALNAME:Annette Morris Art
X-ORIGINAL-URL:https://annettemorris.art
X-WR-CALDESC:Events for Annette Morris Art
REFRESH-INTERVAL;VALUE=DURATION:PT1H
X-Robots-Tag:noindex
X-PUBLISHED-TTL:PT1H
BEGIN:VTIMEZONE
TZID:Europe/Paris
BEGIN:DAYLIGHT
TZOFFSETFROM:+0100
TZOFFSETTO:+0200
TZNAME:CEST
DTSTART:20210328T010000
END:DAYLIGHT
BEGIN:STANDARD
TZOFFSETFROM:+0200
TZOFFSETTO:+0100
TZNAME:CET
DTSTART:20211031T010000
END:STANDARD
BEGIN:DAYLIGHT
TZOFFSETFROM:+0100
TZOFFSETTO:+0200
TZNAME:CEST
DTSTART:20220327T010000
END:DAYLIGHT
BEGIN:STANDARD
TZOFFSETFROM:+0200
TZOFFSETTO:+0100
TZNAME:CET
DTSTART:20221030T010000
END:STANDARD
BEGIN:DAYLIGHT
TZOFFSETFROM:+0100
TZOFFSETTO:+0200
TZNAME:CEST
DTSTART:20230326T010000
END:DAYLIGHT
BEGIN:STANDARD
TZOFFSETFROM:+0200
TZOFFSETTO:+0100
TZNAME:CET
DTSTART:20231029T010000
END:STANDARD
BEGIN:DAYLIGHT
TZOFFSETFROM:+0100
TZOFFSETTO:+0200
TZNAME:CEST
DTSTART:20240331T010000
END:DAYLIGHT
BEGIN:STANDARD
TZOFFSETFROM:+0200
TZOFFSETTO:+0100
TZNAME:CET
DTSTART:20241027T010000
END:STANDARD
BEGIN:DAYLIGHT
TZOFFSETFROM:+0100
TZOFFSETTO:+0200
TZNAME:CEST
DTSTART:20250330T010000
END:DAYLIGHT
BEGIN:STANDARD
TZOFFSETFROM:+0200
TZOFFSETTO:+0100
TZNAME:CET
DTSTART:20251026T010000
END:STANDARD
TZID:Europe/Helsinki
BEGIN:DAYLIGHT
TZOFFSETFROM:+0200
TZOFFSETTO:+0300
TZNAME:EEST
DTSTART:20190331T010000
END:DAYLIGHT
BEGIN:STANDARD
TZOFFSETFROM:+0300
TZOFFSETTO:+0200
TZNAME:EET
DTSTART:20191027T010000
END:STANDARD
END:VTIMEZONE
BEGIN:VEVENT
DTSTART;TZID=Europe/Paris:20250725T093000
DTEND;TZID=Europe/Paris:20250725T120000
DTSTAMP:20260420T222120
CREATED:20250612T124445Z
LAST-MODIFIED:20250612T125206Z
UID:10002705-1753435800-1753444800@annettemorris.art
SUMMARY:Watercolour Sketching Workshop - Lagrasse
DESCRIPTION:This short workshop invites you to explore and discover towns and villages of Languedoc – with a sketchbook!   With lines and watercolour and different techniques\, we will capture the essence of our surroundings creating a colourful memento of the location! \nPlease bring along your usual sketch kit (sketchbook\, pencil\, watercolours & brush) a small pot of water\, and a small folding stool if you have one.  A sketch kit can be provided on loan if requested in advance. \n  \n 
URL:https://annettemorris.art/event/watercolour-sketching-workshop-lagrasse/
LOCATION:Lagrasse\, Lagrasse\, 11220\, France
CATEGORIES:Sketch Languedoc!,Workshops
ATTACH;FMTTYPE=image/jpeg:https://annettemorris.art/wp-content/uploads/2020/02/lagrasse-668372_1920.jpg
ORGANIZER;CN="Annette Morris":MAILTO:sketch@annettemorris.art
GEO:43.0915;2.618532
END:VEVENT
BEGIN:VEVENT
DTSTART;TZID=Europe/Paris:20230706T100000
DTEND;TZID=Europe/Paris:20230706T150000
DTSTAMP:20260420T222120
CREATED:20230331T180135Z
LAST-MODIFIED:20230628T090841Z
UID:10001889-1688637600-1688655600@annettemorris.art
SUMMARY:Lovely Lagrasse
DESCRIPTION:Fun sketch workshops suitable for sketchers of all levels of experience. \nIn one of France’s most beautiful villages\, you’ll learn more about using ink and watercolour\, planning your page and how to sketch on location with more confidence. \nThis workshop is ideal for beginners and materials can be provided if you do not have your own.
URL:https://annettemorris.art/event/sketch-lagrasse/
LOCATION:Lagrasse\, Lagrasse\, 11220\, France
CATEGORIES:Sketch Languedoc!,Sketching France,Workshops
ATTACH;FMTTYPE=image/jpeg:https://annettemorris.art/wp-content/uploads/2020/02/lagrasse-668372_1920.jpg
ORGANIZER;CN="Annette Morris":MAILTO:sketch@annettemorris.art
GEO:43.0915;2.618532
END:VEVENT
BEGIN:VEVENT
DTSTART;TZID=Europe/Paris:20220727T100000
DTEND;TZID=Europe/Paris:20220727T150000
DTSTAMP:20260420T222120
CREATED:20220226T124023Z
LAST-MODIFIED:20221026T053559Z
UID:10001670-1658916000-1658934000@annettemorris.art
SUMMARY:Workshop Wednesday - Lovely Lagrasse
DESCRIPTION:Fun sketch workshops suitable for sketchers of all levels of experience. \nIn one of France’s most beautiful villages\, you’ll learn more about using ink and watercolour\, planning your page and how to sketch on location with more confidence. \nThis workshop is ideal for beginners and materials can be provided if you do not have your own.
URL:https://annettemorris.art/event/workshop-wednesday-lagrasse/
LOCATION:Lagrasse\, Lagrasse\, 11220\, France
CATEGORIES:Sketch Languedoc!,Sketching France,Workshops
ATTACH;FMTTYPE=image/jpeg:https://annettemorris.art/wp-content/uploads/2020/02/lagrasse-668372_1920.jpg
ORGANIZER;CN="Annette Morris":MAILTO:sketch@annettemorris.art
GEO:43.0915;2.618532
END:VEVENT
BEGIN:VEVENT
DTSTART;TZID=Europe/Paris:20210829T093000
DTEND;TZID=Europe/Paris:20210829T123000
DTSTAMP:20260420T222120
CREATED:20200225T155902Z
LAST-MODIFIED:20210815T084300Z
UID:10001397-1630229400-1630240200@annettemorris.art
SUMMARY:Lovely Lagrasse
DESCRIPTION:A fun sketching workshop in magnificent Lagrasse\, one of the most beautiful villages in France. \nYou don’t need previous art experience to take part – step-by-step you will learn how to plan your pages and simple ways to work with ink and watercolour on location. \nWorkshop starts 9.30am\, and we will stroll our way through the cobbled streets sketching the stone buildings and the river below\, then finishing our sketches over lunch at a local café. \nYou will need a sketchbook with paper 160gsm or higher – which can be purchased on the day if you do not have your own. \nWe will also use a black waterproof ink pen\, HB pencil\, basic watercolour kit\, brush and water pot. \nA portable folding stool and comfortable shoes are also recommended.
URL:https://annettemorris.art/event/lovely-lagrasse/
LOCATION:Lagrasse\, Lagrasse\, 11220\, France
CATEGORIES:Sketch Languedoc!,Workshops
ATTACH;FMTTYPE=image/jpeg:https://annettemorris.art/wp-content/uploads/2020/02/lagrasse-668372_1920.jpg
ORGANIZER;CN="Annette Morris":MAILTO:sketch@annettemorris.art
GEO:43.0915;2.618532
END:VEVENT
BEGIN:VEVENT
DTSTART;TZID=Europe/Paris:20210709T093000
DTEND;TZID=Europe/Paris:20210709T123000
DTSTAMP:20260420T222120
CREATED:20200302T194557Z
LAST-MODIFIED:20210628T132835Z
UID:10001404-1625823000-1625833800@annettemorris.art
SUMMARY:Lovely Lagrasse
DESCRIPTION:A fun sketching workshop in magnificent Lagrasse\, one of the most beautiful villages in France. \nYou don’t need previous art experience to take part – step-by-step you will learn how to plan your pages and simple ways to work with ink and watercolour on location. \nWorkshop starts 9.30am\, and we will stroll our way through the cobbled streets sketching the stone buildings and the river below\, then finishing our sketches over lunch at a local café. \nYou will need a sketchbook with paper 160gsm or higher – which can be purchased on the day if you do not have your own. \nWe will also use a black waterproof ink pen\, HB pencil\, basic watercolour kit\, brush and water pot. \nA portable folding stool and comfortable shoes are also recommended.
URL:https://annettemorris.art/event/lovely-lagrasse-9july/
LOCATION:Lagrasse\, Lagrasse\, 11220\, France
CATEGORIES:Sketch Languedoc!,Workshops
ATTACH;FMTTYPE=image/jpeg:https://annettemorris.art/wp-content/uploads/2018/06/IMG_5265-e1528909840877.jpg
ORGANIZER;CN="Annette Morris":MAILTO:sketch@annettemorris.art
GEO:43.0915;2.618532
END:VEVENT
BEGIN:VEVENT
DTSTART;TZID=Europe/Helsinki:20191011T100000
DTEND;TZID=Europe/Helsinki:20191011T130000
DTSTAMP:20260420T222121
CREATED:20190905T105334Z
LAST-MODIFIED:20190905T105334Z
UID:10001299-1570788000-1570798800@annettemorris.art
SUMMARY:Beautiful Buildings
DESCRIPTION:Medieval Lagrasse is officially one of the most beautiful villages in France – a perfect location for us to observe and sketch ancient French architecture\, windows\, doorways and archways.   \nSuitable for all levels.\nPlease bring a sketchbook with paper suitable for watercolour (160gsm+).
URL:https://annettemorris.art/event/beautiful-buildings/
LOCATION:Lagrasse\, Lagrasse\, 11220\, France
CATEGORIES:Sketch Languedoc!,Workshops
ATTACH;FMTTYPE=image/jpeg:https://annettemorris.art/wp-content/uploads/2018/06/IMG_5265-e1528909840877.jpg
ORGANIZER;CN="Annette Morris":MAILTO:sketch@annettemorris.art
GEO:43.0915;2.618532
END:VEVENT
END:VCALENDAR