BEGIN:VCALENDAR
VERSION:2.0
PRODID:-//Annette Morris Art - ECPv6.9.0//NONSGML v1.0//EN
CALSCALE:GREGORIAN
METHOD:PUBLISH
X-ORIGINAL-URL:https://annettemorris.art
X-WR-CALDESC:Events for Annette Morris Art
REFRESH-INTERVAL;VALUE=DURATION:PT1H
X-Robots-Tag:noindex
X-PUBLISHED-TTL:PT1H
BEGIN:VTIMEZONE
TZID:Europe/Paris
BEGIN:DAYLIGHT
TZOFFSETFROM:+0100
TZOFFSETTO:+0200
TZNAME:CEST
DTSTART:20220327T010000
END:DAYLIGHT
BEGIN:STANDARD
TZOFFSETFROM:+0200
TZOFFSETTO:+0100
TZNAME:CET
DTSTART:20221030T010000
END:STANDARD
BEGIN:DAYLIGHT
TZOFFSETFROM:+0100
TZOFFSETTO:+0200
TZNAME:CEST
DTSTART:20230326T010000
END:DAYLIGHT
BEGIN:STANDARD
TZOFFSETFROM:+0200
TZOFFSETTO:+0100
TZNAME:CET
DTSTART:20231029T010000
END:STANDARD
BEGIN:DAYLIGHT
TZOFFSETFROM:+0100
TZOFFSETTO:+0200
TZNAME:CEST
DTSTART:20240331T010000
END:DAYLIGHT
BEGIN:STANDARD
TZOFFSETFROM:+0200
TZOFFSETTO:+0100
TZNAME:CET
DTSTART:20241027T010000
END:STANDARD
BEGIN:DAYLIGHT
TZOFFSETFROM:+0100
TZOFFSETTO:+0200
TZNAME:CEST
DTSTART:20250330T010000
END:DAYLIGHT
BEGIN:STANDARD
TZOFFSETFROM:+0200
TZOFFSETTO:+0100
TZNAME:CET
DTSTART:20251026T010000
END:STANDARD
TZID:Europe/Helsinki
BEGIN:DAYLIGHT
TZOFFSETFROM:+0200
TZOFFSETTO:+0300
TZNAME:EEST
DTSTART:20210328T010000
END:DAYLIGHT
BEGIN:STANDARD
TZOFFSETFROM:+0300
TZOFFSETTO:+0200
TZNAME:EET
DTSTART:20211031T010000
END:STANDARD
TZID:UTC
BEGIN:STANDARD
TZOFFSETFROM:+0000
TZOFFSETTO:+0000
TZNAME:UTC
DTSTART:20210101T000000
END:STANDARD
END:VTIMEZONE
BEGIN:VEVENT
DTSTART;TZID=Europe/Paris:20250804T093000
DTEND;TZID=Europe/Paris:20250804T120000
DTSTAMP:20260422T031215
CREATED:20250612T130807Z
LAST-MODIFIED:20250612T130807Z
UID:10002710-1754299800-1754308800@annettemorris.art
SUMMARY:Watercolour Sketching Workshop - Gruissan
DESCRIPTION:  \nThis short workshop invites you to explore and discover towns and villages of Languedoc – with a sketchbook!   With lines and watercolour and different techniques\, we will capture the essence of our surroundings creating a colourful memento of the location! \nPlease bring along your usual sketch kit (sketchbook\, pencil\, watercolours & brush) a small pot of water\, and a small folding stool if you have one.  A sketch kit can be provided on loan if requested in advance. \n  \n 
URL:https://annettemorris.art/event/watercolour-sketching-workshop-gruissan/
LOCATION:Gruissan\, Gruissan\, 11430\, France
CATEGORIES:Sketch Languedoc!,Workshops
ATTACH;FMTTYPE=image/jpeg:https://annettemorris.art/wp-content/uploads/2022/02/0AB8448A-DC33-4CC2-A103-EC5BCE5FA073_1_201_a-scaled.jpeg
ORGANIZER;CN="Annette Morris":MAILTO:sketch@annettemorris.art
GEO:43.1071;3.0862
END:VEVENT
BEGIN:VEVENT
DTSTART;TZID=Europe/Paris:20250507T100000
DTEND;TZID=Europe/Paris:20250507T130000
DTSTAMP:20260422T031215
CREATED:20250322T142143Z
LAST-MODIFIED:20250322T142942Z
UID:10002458-1746612000-1746622800@annettemorris.art
SUMMARY:USk Languedoc-Roussillon - Gruissan
DESCRIPTION:For details see the Facebook page http://www.facebook.com/urbansketcherslanguedoc/events
URL:https://annettemorris.art/event/usk-languedoc-roussillon-2025-3/
LOCATION:Gruissan\, Gruissan\, 11430\, France
CATEGORIES:Sketch Languedoc!,Urban Sketchers
ATTACH;FMTTYPE=image/jpeg:https://annettemorris.art/wp-content/uploads/2023/04/USk-logo-LR23.jpg
ORGANIZER;CN="USk Languedoc":MAILTO:usk@sketchlanguedoc.com
GEO:43.1071;3.0862
END:VEVENT
BEGIN:VEVENT
DTSTART;TZID=Europe/Paris:20240417T100000
DTEND;TZID=Europe/Paris:20240417T130000
DTSTAMP:20260422T031215
CREATED:20240120T112446Z
LAST-MODIFIED:20240121T144205Z
UID:10002308-1713348000-1713358800@annettemorris.art
SUMMARY:French market sketch workshop - Gruissan
DESCRIPTION:Who doesn’t enjoy browsing a French market?!   There’s so much atmosphere – all the sights and sounds and energy of people busy buying and selling gorgeous local produce – the smells\, shapes\, flavours and colours are an absolute treat for the senses! \nSketching a market is great fun too\, but it may seem a bit daunting at first…  Fear not\, in this workshop we will see how to simplify the drawing to capture the essence of the day\, and then use washes of bright watercolour to enhance our final sketch. \nThe workshop is designed for anyone interested in getting started with travel and urban sketching\, or someone who may not feel confident with watercolour and would like to work in a brighter\, looser style! \nYou will not need many materials\, recommended items include a sketchbook\, pencil\, basic set of watercolours and a few ink pens with waterproof ink.  If you do not have your own sketch kit then one can be provided on loan\, by prior arrangement. \nNo previous art experience is necessary\, all you’ll need is a basic sketch kit\, an open-mind and a love of traditional French markets! \n\n  \n 
URL:https://annettemorris.art/event/french-market-sketching-workshop-gruissan/
LOCATION:Gruissan\, Gruissan\, 11430\, France
CATEGORIES:Sketch Languedoc!,Soldes Hiver,Workshops
ATTACH;FMTTYPE=image/png:https://annettemorris.art/wp-content/uploads/2024/01/markets-2024.png
ORGANIZER;CN="Annette Morris":MAILTO:sketch@annettemorris.art
GEO:43.1071;3.0862
END:VEVENT
BEGIN:VEVENT
DTSTART;TZID=Europe/Paris:20230510T093000
DTEND;TZID=Europe/Paris:20230510T123000
DTSTAMP:20260422T031215
CREATED:20221228T170453Z
LAST-MODIFIED:20230111T110110Z
UID:10001806-1683711000-1683721800@annettemorris.art
SUMMARY:French market sketch workshop - Gruissan
DESCRIPTION:Who doesn’t enjoy browsing a French market?!   There’s so much atmosphere – all the sights and sounds and energy of people busy buying and selling gorgeous local produce – the smells\, shapes\, flavours and colours are an absolute treat for the senses! \nSketching a market is great fun too\, but it may seem a bit daunting at first…  Fear not\, in this workshop we will see how to simplify the drawing to capture the essence of the day\, and then use washes of bright watercolour to enhance our final sketch. \nThe workshop is designed for anyone interested in getting started with travel and urban sketching\, or someone who may not feel confident with watercolour and would like to work in a brighter\, looser style! \nYou will not need many materials\, recommended items include a sketchbook\, pencil\, basic set of watercolours and a few ink pens with waterproof ink.  If you do not have your own sketch kit then one can be provided on loan\, by prior arrangement. \nThere are 8 different markets in the series\, so you can choose a date and location to suit you.  No previous art experience is necessary\, all you’ll need is a basic sketch kit\, an open-mind and a love of traditional French markets! \n\nTuesday 11 April – Olonzac\nWednesday 10 May – Gruissan\nFriday 23 June – Béziers\nSunday 9 July – Saint Chinian\nSunday 20 August – Capestang\nThursday 31 August – Carcassonne\nThursday 14 September – Narbonne\nSaturday 14 October – Pézenas\n\n\n  \n 
URL:https://annettemorris.art/event/french-market-sketch-workshop-gruissan/
LOCATION:Gruissan\, Gruissan\, 11430\, France
CATEGORIES:Sketch Languedoc!,Soldes Hiver,Workshops
ATTACH;FMTTYPE=image/jpeg:https://annettemorris.art/wp-content/uploads/2022/12/market-sketch-workshops.jpeg
ORGANIZER;CN="Annette Morris":MAILTO:sketch@annettemorris.art
GEO:43.1071;3.0862
END:VEVENT
BEGIN:VEVENT
DTSTART;TZID=Europe/Paris:20220608T100000
DTEND;TZID=Europe/Paris:20220608T150000
DTSTAMP:20260422T031215
CREATED:20220226T124023Z
LAST-MODIFIED:20221026T053600Z
UID:10001660-1654682400-1654700400@annettemorris.art
SUMMARY:Workshop Wednesday - Gruissan
DESCRIPTION:Fun sketch workshops suitable for sketchers of all levels of experience. \nIn this historic Mediterranean port\, you’ll learn more about using ink and watercolour\, planning your page and how to sketch on location with more confidence. \nThis workshop is ideal for beginners and materials can be provided if you do not have your own.
URL:https://annettemorris.art/event/workshop-wednesday-gruissan/
LOCATION:Gruissan\, Gruissan\, 11430\, France
CATEGORIES:Sketch Languedoc!,Sketching France,Workshops
ATTACH;FMTTYPE=image/jpeg:https://annettemorris.art/wp-content/uploads/2017/07/gruissan.jpg
ORGANIZER;CN="Annette Morris":MAILTO:sketch@annettemorris.art
GEO:43.1071;3.0862
END:VEVENT
BEGIN:VEVENT
DTSTART;TZID=Europe/Helsinki:20211007T093000
DTEND;TZID=Europe/Helsinki:20211007T150000
DTSTAMP:20260422T031215
CREATED:20200224T192111Z
LAST-MODIFIED:20210622T130954Z
UID:10001374-1633599000-1633618800@annettemorris.art
SUMMARY:Mediterranean Sketchbook\, Gruissan
DESCRIPTION:Discover glorious Gruissan!   This fascinating old town has a historic heart and a vibrant new port. \nYou don’t need previous art experience to join this workshop – just an interest in travel sketching and a willingness to learn.  We’ll look at composition\, sketchbook storytelling and learning how to simplify what we see in ink and watercolour. \nWorkshop starts 10am with a quick warm up sketch over coffee. \nYou will need a sketchbook with paper 160gsm or higher – which can be purchased on the day if you do not have your own. \nWe will also use a black waterproof ink pen\, HB pencil\, basic watercolour kit\, brush and water pot.
URL:https://annettemorris.art/event/mediterranean-sketchbook-gruissan/
LOCATION:Gruissan\, Gruissan\, 11430\, France
CATEGORIES:Sketch Languedoc!,Workshops
ATTACH;FMTTYPE=image/jpeg:https://annettemorris.art/wp-content/uploads/2018/06/20170922-Gruissan-sketching-at-the-port.jpg
ORGANIZER;CN="Annette Morris":MAILTO:sketch@annettemorris.art
GEO:43.1071;3.0862
END:VEVENT
BEGIN:VEVENT
DTSTART;TZID=UTC:20210606T100000
DTEND;TZID=UTC:20210606T130000
DTSTAMP:20260422T031215
CREATED:20170701T081127Z
LAST-MODIFIED:20210604T064722Z
UID:10001277-1622973600-1622984400@annettemorris.art
SUMMARY:Sketching Workshop Gruissan
DESCRIPTION:Discover glorious Gruissan!   This fascinating old town has a historic heart and a vibrant new port. \nYou don’t need previous art experience to join this workshop – just an interest in travel sketching and a willingness to learn.  We’ll look at composition\, sketchbook storytelling and learning how to simplify what we see in ink and watercolour. \nWorkshop starts 10am with a quick warm up sketch over coffee. \nYou will need a sketchbook with paper 160gsm or higher – which can be purchased on the day if you do not have your own. \nWe will also use a black waterproof ink pen\, HB pencil\, basic watercolour kit\, brush and water pot.
URL:https://annettemorris.art/event/sketching-workshop-gruissan-2/
LOCATION:Gruissan\, Gruissan\, 11430\, France
CATEGORIES:Workshops
ATTACH;FMTTYPE=image/jpeg:https://annettemorris.art/wp-content/uploads/2017/07/gruissan.jpg
ORGANIZER;CN="Annette Morris":MAILTO:sketch@annettemorris.art
GEO:43.1071;3.0862
END:VEVENT
END:VCALENDAR