BEGIN:VCALENDAR
VERSION:2.0
PRODID:-//Annette Morris Art - ECPv6.9.0//NONSGML v1.0//EN
CALSCALE:GREGORIAN
METHOD:PUBLISH
X-ORIGINAL-URL:https://annettemorris.art
X-WR-CALDESC:Events for Annette Morris Art
REFRESH-INTERVAL;VALUE=DURATION:PT1H
X-Robots-Tag:noindex
X-PUBLISHED-TTL:PT1H
BEGIN:VTIMEZONE
TZID:Europe/Paris
BEGIN:DAYLIGHT
TZOFFSETFROM:+0100
TZOFFSETTO:+0200
TZNAME:CEST
DTSTART:20230326T010000
END:DAYLIGHT
BEGIN:STANDARD
TZOFFSETFROM:+0200
TZOFFSETTO:+0100
TZNAME:CET
DTSTART:20231029T010000
END:STANDARD
END:VTIMEZONE
BEGIN:VEVENT
DTSTART;TZID=Europe/Paris:20230912T100000
DTEND;TZID=Europe/Paris:20230912T130000
DTSTAMP:20260422T090739
CREATED:20230418T154026Z
LAST-MODIFIED:20230821T141312Z
UID:10001928-1694512800-1694523600@annettemorris.art
SUMMARY:USk Languedoc-Roussillon - Fanjeaux
DESCRIPTION:For details see the Facebook page http://www.facebook.com/urbansketcherslanguedoc/events
URL:https://annettemorris.art/event/usk-languedoc-roussillon-fanjeaux/
LOCATION:Fanjeaux\, Fanjeaux\, 11270\, France
CATEGORIES:Sketch Languedoc!,Urban Sketchers
ATTACH;FMTTYPE=image/jpeg:https://annettemorris.art/wp-content/uploads/2023/04/USk-logo-LR23.jpg
ORGANIZER;CN="USk Languedoc":MAILTO:usk@sketchlanguedoc.com
GEO:43.185262;2.035645
END:VEVENT
END:VCALENDAR