BEGIN:VCALENDAR
VERSION:2.0
PRODID:-//Annette Morris Art - ECPv6.9.0//NONSGML v1.0//EN
CALSCALE:GREGORIAN
METHOD:PUBLISH
X-ORIGINAL-URL:https://annettemorris.art
X-WR-CALDESC:Events for Annette Morris Art
REFRESH-INTERVAL;VALUE=DURATION:PT1H
X-Robots-Tag:noindex
X-PUBLISHED-TTL:PT1H
BEGIN:VTIMEZONE
TZID:Europe/Helsinki
BEGIN:DAYLIGHT
TZOFFSETFROM:+0200
TZOFFSETTO:+0300
TZNAME:EEST
DTSTART:20210328T010000
END:DAYLIGHT
BEGIN:STANDARD
TZOFFSETFROM:+0300
TZOFFSETTO:+0200
TZNAME:EET
DTSTART:20211031T010000
END:STANDARD
BEGIN:DAYLIGHT
TZOFFSETFROM:+0200
TZOFFSETTO:+0300
TZNAME:EEST
DTSTART:20220327T010000
END:DAYLIGHT
BEGIN:STANDARD
TZOFFSETFROM:+0300
TZOFFSETTO:+0200
TZNAME:EET
DTSTART:20221030T010000
END:STANDARD
BEGIN:DAYLIGHT
TZOFFSETFROM:+0200
TZOFFSETTO:+0300
TZNAME:EEST
DTSTART:20230326T010000
END:DAYLIGHT
BEGIN:STANDARD
TZOFFSETFROM:+0300
TZOFFSETTO:+0200
TZNAME:EET
DTSTART:20231029T010000
END:STANDARD
END:VTIMEZONE
BEGIN:VEVENT
DTSTART;TZID=Europe/Helsinki:20231102T093000
DTEND;TZID=Europe/Helsinki:20231102T123000
DTSTAMP:20260422T001149
CREATED:20230424T124817Z
LAST-MODIFIED:20231031T084944Z
UID:10001949-1698917400-1698928200@annettemorris.art
SUMMARY:Chateau Sketchbook\, Capestang
DESCRIPTION:Treat yourself to a memorable day out and develop your sketching skills at the stunning Chateau les Carrasses. \nYou don’t need previous art experience to join this workshop – just an interest in travel sketching and a willingness to learn.  We’ll look at page planning\, how to get started with tricky compositions and the essentials of working with ink and watercolour on location. \nWorkshop starts 9.30am with a quick warm up sketch over coffee before exploring the Chateau grounds in more detail. \nYou will need a sketchbook with paper 160gsm or higher – which can be purchased on the day if you do not have your own. \nWe will also use a black waterproof ink pen\, HB pencil\, basic watercolour kit\, brush and water pot.\nA sketch kit can be provided on loan if you do not have your own.
URL:https://annettemorris.art/event/chateau-sketchbook-capestang-2023/
LOCATION:Chateau les Carrasses\, Lieu dit Les Carrasses\, Capestang\, 34310\, France
CATEGORIES:Du Canal du Midi au St Chinian,Sketch Languedoc!,Workshops
ATTACH;FMTTYPE=image/jpeg:https://annettemorris.art/wp-content/uploads/2020/02/carrasses-sketching-scaled.jpg
ORGANIZER;CN="Annette Morris":MAILTO:sketch@annettemorris.art
GEO:43.344343;3.023557
X-APPLE-STRUCTURED-LOCATION;VALUE=URI;X-ADDRESS=Chateau les Carrasses Lieu dit Les Carrasses Capestang 34310 France;X-APPLE-RADIUS=500;X-TITLE=Lieu dit Les Carrasses:geo:3.023557,43.344343
END:VEVENT
BEGIN:VEVENT
DTSTART;TZID=Europe/Helsinki:20210922T100000
DTEND;TZID=Europe/Helsinki:20210922T150000
DTSTAMP:20260422T001149
CREATED:20200225T131126Z
LAST-MODIFIED:20210822T083027Z
UID:10001383-1632304800-1632322800@annettemorris.art
SUMMARY:Château Views
DESCRIPTION:Treat yourself to a memorable day out and develop your sketching skills at the stunning Chateau les Carrasses. \nYou don’t need previous art experience to join this workshop – just an interest in travel sketching and a willingness to learn.  We’ll look at page planning\, how to get started with tricky compositions and the essentials of working with ink and watercolour on location. \nWorkshop starts 10am with a quick warm up sketch over coffee before exploring the Chateau grounds in more detail. \nYou will need a sketchbook with paper 160gsm or higher – which can be purchased on the day if you do not have your own. \nWe will also use a black waterproof ink pen\, HB pencil\, basic watercolour kit\, brush and water pot.
URL:https://annettemorris.art/event/chateau-views/
LOCATION:Chateau les Carrasses\, Lieu dit Les Carrasses\, Capestang\, 34310\, France
CATEGORIES:Du Canal du Midi au St Chinian,Sketch Languedoc!,Workshops
ATTACH;FMTTYPE=image/jpeg:https://annettemorris.art/wp-content/uploads/2020/02/carrasses-sketching-scaled.jpg
ORGANIZER;CN="Annette Morris":MAILTO:sketch@annettemorris.art
GEO:43.344343;3.023557
X-APPLE-STRUCTURED-LOCATION;VALUE=URI;X-ADDRESS=Chateau les Carrasses Lieu dit Les Carrasses Capestang 34310 France;X-APPLE-RADIUS=500;X-TITLE=Lieu dit Les Carrasses:geo:3.023557,43.344343
END:VEVENT
BEGIN:VEVENT
DTSTART;TZID=Europe/Helsinki:20210617T100000
DTEND;TZID=Europe/Helsinki:20210617T150000
DTSTAMP:20260422T001149
CREATED:20200224T165933Z
LAST-MODIFIED:20210428T110310Z
UID:10001372-1623924000-1623942000@annettemorris.art
SUMMARY:Chateau Sketchbook\, Capestang
DESCRIPTION:Treat yourself to a memorable day out and develop your sketching skills at the stunning Chateau les Carrasses. \nYou don’t need previous art experience to join this workshop – just an interest in travel sketching and a willingness to learn.  We’ll look at page planning\, how to get started with tricky compositions and the essentials of working with ink and watercolour on location. \nWorkshop starts 10am with a quick warm up sketch over coffee before exploring the Chateau grounds in more detail. We’ll pause for lunch before finishing our sketches in the afternoon. \nYou will need a sketchbook with paper 160gsm or higher – which can be purchased on the day if you do not have your own. \nWe will also use a black waterproof ink pen\, HB pencil\, basic watercolour kit\, brush and water pot.\nA sketch kit can be provided on loan if you do not have your own.
URL:https://annettemorris.art/event/chateau-sketchbook-capestang/
LOCATION:Chateau les Carrasses\, Lieu dit Les Carrasses\, Capestang\, 34310\, France
CATEGORIES:Du Canal du Midi au St Chinian,Sketch Languedoc!,Workshops
ATTACH;FMTTYPE=image/jpeg:https://annettemorris.art/wp-content/uploads/2020/02/carrasses-sketching-scaled.jpg
ORGANIZER;CN="Annette Morris":MAILTO:sketch@annettemorris.art
GEO:43.344343;3.023557
X-APPLE-STRUCTURED-LOCATION;VALUE=URI;X-ADDRESS=Chateau les Carrasses Lieu dit Les Carrasses Capestang 34310 France;X-APPLE-RADIUS=500;X-TITLE=Lieu dit Les Carrasses:geo:3.023557,43.344343
END:VEVENT
END:VCALENDAR