BEGIN:VCALENDAR
VERSION:2.0
PRODID:-//Annette Morris Art - ECPv6.9.0//NONSGML v1.0//EN
CALSCALE:GREGORIAN
METHOD:PUBLISH
X-ORIGINAL-URL:https://annettemorris.art
X-WR-CALDESC:Events for Annette Morris Art
REFRESH-INTERVAL;VALUE=DURATION:PT1H
X-Robots-Tag:noindex
X-PUBLISHED-TTL:PT1H
BEGIN:VTIMEZONE
TZID:UTC
BEGIN:STANDARD
TZOFFSETFROM:+0000
TZOFFSETTO:+0000
TZNAME:UTC
DTSTART:20210101T000000
END:STANDARD
END:VTIMEZONE
BEGIN:VEVENT
DTSTART;TZID=UTC:20211014T100000
DTEND;TZID=UTC:20211014T120000
DTSTAMP:20260421T193036
CREATED:20210924T080000Z
LAST-MODIFIED:20211003T154215Z
UID:10001272-1634205600-1634212800@annettemorris.art
SUMMARY:Inspiré Sketchbook!
DESCRIPTION:A special ‘pop-up’ event at Inspiré Art Gallery on Thursday 14 October at 10am! \nThis event invites you to bring along your sketchbook to discover some of the essentials of travel sketching with ink and with watercolour. Whilst we sketch a local scene\, find out more about materials\, techniques\, gallery events\, and of course\, you’ll be able to enjoy a coffee or a glass of something local from the Minervois! \nIf you’d like to attend in person please register below or contact Angie at Inspiré inspireazille@gmail.com. The event will be approximately 2 hours and suitable for complete beginners as well as more experienced sketchers. \n\n\n  \n\n\n\n Your Name *\n \n \n Student Name(s) (if different from above)\n \n \n Your Email *\n \n \n Contact phone number *\n \n\nI would like to register for the event at Inspiré 10am\n \nNumber of places \n \n\nI would like to receive a copy of the newsletter Yes pleaseNo thanks
URL:https://annettemorris.art/event/pop-up-sketchbook-inspire-azille/
LOCATION:Azille\, Azille\, 11700
CATEGORIES:Sketch Languedoc!,Workshops
ATTACH;FMTTYPE=image/jpeg:https://annettemorris.art/wp-content/uploads/2019/04/inspirejuly-scaled.jpg
ORGANIZER;CN="Annette Morris":MAILTO:sketch@annettemorris.art
GEO:43.2740099;2.668592
END:VEVENT
END:VCALENDAR