BEGIN:VCALENDAR
VERSION:2.0
PRODID:-//Annette Morris Art - ECPv6.9.0//NONSGML v1.0//EN
CALSCALE:GREGORIAN
METHOD:PUBLISH
X-ORIGINAL-URL:https://annettemorris.art
X-WR-CALDESC:Events for Annette Morris Art
REFRESH-INTERVAL;VALUE=DURATION:PT1H
X-Robots-Tag:noindex
X-PUBLISHED-TTL:PT1H
BEGIN:VTIMEZONE
TZID:Europe/Paris
BEGIN:DAYLIGHT
TZOFFSETFROM:+0100
TZOFFSETTO:+0200
TZNAME:CEST
DTSTART:20230326T010000
END:DAYLIGHT
BEGIN:STANDARD
TZOFFSETFROM:+0200
TZOFFSETTO:+0100
TZNAME:CET
DTSTART:20231029T010000
END:STANDARD
END:VTIMEZONE
BEGIN:VEVENT
DTSTART;TZID=Europe/Paris:20231116T100000
DTEND;TZID=Europe/Paris:20231116T130000
DTSTAMP:20260421T175713
CREATED:20230418T154859Z
LAST-MODIFIED:20230824T112842Z
UID:10001930-1700128800-1700139600@annettemorris.art
SUMMARY:USk Languedoc-Roussillon - Villegly
DESCRIPTION:For details see the Facebook page http://www.facebook.com/urbansketcherslanguedoc/events
URL:https://annettemorris.art/event/usk-languedoc-roussillon-villegly/
LOCATION:Villegly\, Villegly\, 11600\, France
CATEGORIES:Sketch Languedoc!,Urban Sketchers
ATTACH;FMTTYPE=image/jpeg:https://annettemorris.art/wp-content/uploads/2023/04/USk-logo-LR23.jpg
GEO:43.286242;2.440103
END:VEVENT
BEGIN:VEVENT
DTSTART;TZID=Europe/Paris:20230615T100000
DTEND;TZID=Europe/Paris:20230615T130000
DTSTAMP:20260421T175713
CREATED:20230412T130343Z
LAST-MODIFIED:20230601T064418Z
UID:10001903-1686823200-1686834000@annettemorris.art
SUMMARY:USk Languedoc-Roussillon - Montolieu
DESCRIPTION:For details see the Facebook page http://www.facebook.com/urbansketcherslanguedoc/events
URL:https://annettemorris.art/event/usk-languedoc-roussillon-montolieu/
LOCATION:Montolieu\, Montolieu\, 11170\, France
CATEGORIES:Sketch Languedoc!,Urban Sketchers
ATTACH;FMTTYPE=image/jpeg:https://annettemorris.art/wp-content/uploads/2023/04/USk-logo-LR23.jpg
GEO:43.314948;2.221722
END:VEVENT
END:VCALENDAR