BEGIN:VCALENDAR
VERSION:2.0
PRODID:-//Annette Morris Art - ECPv6.9.0//NONSGML v1.0//EN
CALSCALE:GREGORIAN
METHOD:PUBLISH
X-WR-CALNAME:Annette Morris Art
X-ORIGINAL-URL:https://annettemorris.art
X-WR-CALDESC:Events for Annette Morris Art
REFRESH-INTERVAL;VALUE=DURATION:PT1H
X-Robots-Tag:noindex
X-PUBLISHED-TTL:PT1H
BEGIN:VTIMEZONE
TZID:Europe/Paris
BEGIN:DAYLIGHT
TZOFFSETFROM:+0100
TZOFFSETTO:+0200
TZNAME:CEST
DTSTART:20200329T010000
END:DAYLIGHT
BEGIN:STANDARD
TZOFFSETFROM:+0200
TZOFFSETTO:+0100
TZNAME:CET
DTSTART:20201025T010000
END:STANDARD
END:VTIMEZONE
BEGIN:VEVENT
DTSTART;TZID=Europe/Paris:20201201T100000
DTEND;TZID=Europe/Paris:20201215T170000
DTSTAMP:20260421T110731
CREATED:20200703T094412Z
LAST-MODIFIED:20201129T103046Z
UID:10001442-1606816800-1608051600@annettemorris.art
SUMMARY:Nos 17 villages en Lumière
DESCRIPTION:Exposition de Croquis d’Annette Morris à l’Office de Tourisme du Canal du Midi et St Chinian 1 – 15 décembre 2020 \nA voir dans les deux points d’accueil à Capestang et à Saint Chinian \nInfos & renseignements:\n+33 (0)4 67 37 85 29\naccueil@tourismecanaldumidi.fr\nhttp://www.tourismecanaldumidi.fr \n\n	 \n\n	1000 piece jigsaw – Sous Les Platanes Verts		\n	\n	59\,00€\n\n	Add to cart	\n			\n\n	 \n\n	500 piece jigsaw – Le Marché Saint Chinian		\n	\n	45\,00€\n\n	Add to cart	\n			\n\n	 \n\n	500 piece jigsaw – Pierrerue		\n	\n	45\,00€\n\n	Add to cart	\n			\n\n	 \n\n	Assignan		\n	\n	160\,00€\n\n	Add to cart	\n			\n\n	 \n\n	Babeau-Bouldoux		\n	\n	150\,00€\n\n	Add to cart	\n			\n\n	Sold \n\n	Capestang		\n	\n	0\,00€\n\n	Read more	\n			\n\n	Sold \n\n	Cazedarnes		\n	\n	0\,00€\n\n	Read more	\n			\n\n	Sold \n\n	Cebazan		\n	\n	0\,00€\n\n	Read more	\n			\n\n	Sold \n\n	Cessenon-sur-Orb		\n	\n	0\,00€\n\n	Read more	\n			\n\n	Sold \n\n	La Place\, Cruzy		\n	\n	0\,00€\n\n	Read more	\n			\n\n	Sold \n\n	Le Marché\, Saint-Chinian		\n	\n	0\,00€\n\n	Read more	\n			\n\n	Sold \n\n	Le Moulin\, Saint-Chinian		\n	\n	150\,00€\n\n	Read more	\n			\n\n	 \n\n	Montels		\n	\n	160\,00€\n\n	Add to cart	\n			\n\n	Sold \n\n	Montouliers		\n	\n	0\,00€\n\n	Read more	\n			\n\n	Sold \n\n	Pierrerue		\n	\n	0\,00€\n\n	Read more	\n			\n\n	Sold \n\n	Place de l’Abbadie\, Quarante		\n	\n	0\,00€\n\n	Read more	\n			\n\n	Sold \n\n	Place de la République\, Creissan		\n	\n	0\,00€\n\n	Read more	\n			\n\n	Sold \n\n	Poilhes		\n	\n	0\,00€\n\n	Read more	\n			\n\n	Sold \n\n	Prades-sur-Vernazobre		\n	\n	0\,00€\n\n	Read more	\n			\n\n	 \n\n	Puisserguier		\n	\n	160\,00€\n\n	Add to cart	\n			\n\n	 \n\n	Villespassans		\n	\n	160\,00€\n\n	Add to cart
URL:https://annettemorris.art/event/nos-17-villages-en-lumiere/
LOCATION:Capestang\, Capestang\, 34310\, France
CATEGORIES:Du Canal du Midi au St Chinian,Exhibitions,Sketch Languedoc!
ATTACH;FMTTYPE=image/jpeg:https://annettemorris.art/wp-content/uploads/2020/07/FB-EventDec-scaled.jpg
GEO:43.3278;3.0441
END:VEVENT
END:VCALENDAR