BEGIN:VCALENDAR
VERSION:2.0
PRODID:-//Annette Morris Art - ECPv6.9.0//NONSGML v1.0//EN
CALSCALE:GREGORIAN
METHOD:PUBLISH
X-ORIGINAL-URL:https://annettemorris.art
X-WR-CALDESC:Events for Annette Morris Art
REFRESH-INTERVAL;VALUE=DURATION:PT1H
X-Robots-Tag:noindex
X-PUBLISHED-TTL:PT1H
BEGIN:VTIMEZONE
TZID:Europe/Paris
BEGIN:DAYLIGHT
TZOFFSETFROM:+0100
TZOFFSETTO:+0200
TZNAME:CEST
DTSTART:20240331T010000
END:DAYLIGHT
BEGIN:STANDARD
TZOFFSETFROM:+0200
TZOFFSETTO:+0100
TZNAME:CET
DTSTART:20241027T010000
END:STANDARD
END:VTIMEZONE
BEGIN:VEVENT
DTSTART;TZID=Europe/Paris:20240301T093000
DTEND;TZID=Europe/Paris:20240301T123000
DTSTAMP:20260420T181126
CREATED:20231122T122652Z
LAST-MODIFIED:20240217T152652Z
UID:10002213-1709285400-1709296200@annettemorris.art
SUMMARY:Carnet de Voyage Workshop
DESCRIPTION:A series of 2 fabulous new workshops taking place in conjunction with the association CroqaVif – choose to join one or both! \nEach workshop takes place in Servian from 10am – 1pm and will be indoors – if the weather is fine there is the option for the group to continue sketching outdoors in the afternoon. \nYou will need to bring your own sketchbook and a suggested materials list will be supplied. If staying for the afternoon you will also need to bring a packed lunch. \n\nFriday 16 February: Composition and linework – what to look for in a composition and tips for create dynamic sketches using ink\nFriday 1 March: Finding the light – choosing and celebrating colour in your watercolour sketches\n\nPlaces are limited so early booking is advised. \n\nIndividual workshop price: 50€\nBoth workshops: 80€\n\nThe workshops will be in French – with English subtitles 😉  If you would like any more information before booking\, please don’t hesitate to emailme@annettemorris.art \n 
URL:https://annettemorris.art/event/carnet-de-voyage-workshop/
LOCATION:Servian\, Servian\, 34290\, France
CATEGORIES:Sketch Languedoc!,Workshops
ATTACH;FMTTYPE=image/png:https://annettemorris.art/wp-content/uploads/2023/11/carnetdevoyage2.png
ORGANIZER;CN="Croq'aVif":MAILTO:bernard@bernardazema.fr
END:VEVENT
BEGIN:VEVENT
DTSTART;TZID=Europe/Paris:20240216T100000
DTEND;TZID=Europe/Paris:20240216T130000
DTSTAMP:20260420T181126
CREATED:20231122T122648Z
LAST-MODIFIED:20231216T090418Z
UID:10002212-1708077600-1708088400@annettemorris.art
SUMMARY:Travel Sketching Workshop: Carnet de Voyage
DESCRIPTION:A series of 2 fabulous new workshops taking place in conjunction with the association CroqaVif – choose to join one or both! \nEach workshop takes place in Servian from 10am – 1pm and will be indoors – if the weather is fine there is the option for the group to continue sketching outdoors in the afternoon. \nYou will need to bring your own sketchbook and a suggested materials list will be supplied. If staying for the afternoon you will also need to bring a packed lunch. \n\nFriday 16 February: Composition and linework – what to look for in a composition and tips for create dynamic sketches using ink\nFriday 1 March: Mixing media – using different methods and materials to create beautiful sketchbook pages\n\nPlaces are limited so early booking is advised. \n\nIndividual workshop price: 50€\nBoth workshops: 80€\n\nThe workshops will be in French – with English subtitles 😉  If you would like any more information before booking\, please don’t hesitate to emailme@annettemorris.art \n 
URL:https://annettemorris.art/event/travel-sketching-workshop-carnet-de-voyage-ink/
LOCATION:Servian\, Servian\, 34290\, France
CATEGORIES:Sketch Languedoc!,Workshops
ATTACH;FMTTYPE=image/png:https://annettemorris.art/wp-content/uploads/2023/11/carnetdevoyage2.png
ORGANIZER;CN="Croq'aVif":MAILTO:bernard@bernardazema.fr
END:VEVENT
END:VCALENDAR