BEGIN:VCALENDAR
VERSION:2.0
PRODID:-//Annette Morris Art - ECPv6.9.0//NONSGML v1.0//EN
CALSCALE:GREGORIAN
METHOD:PUBLISH
X-ORIGINAL-URL:https://annettemorris.art/fr/
X-WR-CALDESC:Events for Annette Morris Art
REFRESH-INTERVAL;VALUE=DURATION:PT1H
X-Robots-Tag:noindex
X-PUBLISHED-TTL:PT1H
BEGIN:VTIMEZONE
TZID:Europe/Paris
BEGIN:DAYLIGHT
TZOFFSETFROM:+0100
TZOFFSETTO:+0200
TZNAME:CEST
DTSTART:20260329T010000
END:DAYLIGHT
BEGIN:STANDARD
TZOFFSETFROM:+0200
TZOFFSETTO:+0100
TZNAME:CET
DTSTART:20261025T010000
END:STANDARD
END:VTIMEZONE
BEGIN:VEVENT
DTSTART;TZID=Europe/Paris:20260527T180000
DTEND;TZID=Europe/Paris:20260614T180000
DTSTAMP:20260420T182455
CREATED:20260308T111156Z
LAST-MODIFIED:20260308T111156Z
UID:10002890-1779904800-1781460000@annettemorris.art
SUMMARY:Exhibition at La Maison Romane\, Capestang
DESCRIPTION:Exhibition at La Maison Romane\, Capestang – a collection of my original watercolours\, limited edition prints and greetings cards will be for sale alongside works by artist Jacques D’Auteuil. \n 
URL:https://annettemorris.art/fr/event/exhibition-at-la-maison-romane-capestang/
LOCATION:La Maison Romane\, 7 bis Rue Emile Zola\, Capestang\, 34310\, France
ORGANIZER;CN="Annette Morris":MAILTO:sketch@annettemorris.art
END:VEVENT
BEGIN:VEVENT
DTSTART;TZID=Europe/Paris:20260529T160000
DTEND;TZID=Europe/Paris:20260601T120000
DTSTAMP:20260420T182455
CREATED:20250707T114045Z
LAST-MODIFIED:20260307T131557Z
UID:10002719-1780070400-1780315200@annettemorris.art
SUMMARY:Springtime in Paris Travel Sketching Weekend
DESCRIPTION:Come and join me in Paris for a wonderful few days of watercolour\, travel sketching and sightseeing in the most popular city in the world! \nExplore the city of light with your sketchbook – the mood\, the pace and the colours will be bright!  In this action-packed weekend I’ll show you some of my favourite places to sketch where we can capture special moments in line and in colour.  This is an incredible experience for sketchers of any level of experience. \nI recommend staying in the 5th arrondissement of Paris – it’s a fabulous but quieter location which gives us access to many of the best sites for sketching. \nWe start on Friday evening with some warm-up sketches before heading out into the city on Saturday morning. I suggest you have comfortable shoes for walking and a sketch kit which includes both an A4 sketchbook for watercolour and pocket sized book for quick drawings & notes. A full list of materials will be provided on request. \nSuggested hotels in the 5th arrondissement a short distance from the Latin Quarter: \n\nHotel Studia\nHotel Minerve\nHotel College de France\nFamilia Hotel\n\nIf you would like to know more before booking\, please send me an email to annette@sketchingfrance.com \nWorkshop price: 395€ – reduced to 350€ for bookings before 1 April ! \nI attended a Paris weekend earlier this year with Annette Morris Art. It was fantastic\, we really explored Paris and captured lots of memories in our sketching. Highly recommended! \n  \nI thoroughly enjoyed my experience on the sketching weekend in Paris with Annette Morris. Annette led a well thought out and interesting course. I had not sketched in a long time and was a relative beginner\, but I grew and was challenged in a good way during this weekend. The group size was perfect and Annette helped create a cohesive group spirit and a supportive atmosphere. This sketching weekend was a marvelous way to see a city with fresh eyes! Meeting lovely people with the same interests in art was an added bonus. \n  \nI attended a Paris weekend in April 2022. Annette put so much work into ensuring we had some wonderful and unique views of Paris to sketch\, plus the usual sites. If you think you know Paris\, then look again with Annette. We created lovely memories. \n  \nJust enjoyed an energetic weekend in Paris sketching with Annette Morris Art . We covered many of the best known landmarks\, and managed very brief\, longer\, and full-length sketching sessions. It was wonderful to concentrate on drawing\, without having to think about route-finding\, where to eat\, and locations for coffee and recuperation\, because Annette had that all planned. it was fun to work with like-minded people\, and as usual\, we all looked at the same thing but saw something completely different. I have ended up with some memorable sketches in themselves\, some sketch material to develop\, and enough photographs to take me through the winter! I genuinely recommend any session Annette runs as manager: I look forward to another one myself. \n  \nJust home after an amazing sketching trip to Paris with Annette and a fabulous group. Can’t recommend this trip highly enough! It was a brilliant experience seeing Paris as a sketcher. Lots of opportunities for quick sketches\, photographs\, interspersed with sightseeing whilst walking and bus trips but plenty of stops for refreshments at some fantastic cafés and restaurants. Annette made the weekend such a special experience with attention to detail\, making sure we had a memorable trip seeing lots of what Paris has to offer and have many lovely memories – and sketches- of a great weekend. Looking forward to adding to my sketchbook now that I’m home. Thank you so much Annette ‍
URL:https://annettemorris.art/fr/event/springtime-in-paris-travel-sketching-weekend/
LOCATION:Paris\, Paris\, 75000\, France
ATTACH;FMTTYPE=image/png:https://annettemorris.art/wp-content/uploads/2025/07/Paris2026.png
ORGANIZER;CN="Annette Morris":MAILTO:sketch@annettemorris.art
END:VEVENT
BEGIN:VEVENT
DTSTART;TZID=Europe/Paris:20260602T140000
DTEND;TZID=Europe/Paris:20260602T153000
DTSTAMP:20260420T182455
CREATED:20260103T072459Z
LAST-MODIFIED:20260103T072616Z
UID:10002852-1780408800-1780414200@annettemorris.art
SUMMARY:Zoom Workshop
DESCRIPTION:These online sessions are for a small group only and take place via Zoom where you can participate in ‘real time’\, ask questions and get feedback. Even if you are unable to join the Zoom the video from the workshop is recorded and will be available after the event to anyone pre-registered in advance. \nEach Zoom workshop lasts approximately 90 minutes-2 hours.  Before each workshop you will receive an email invite with a Zoom link. \nSummer programme (start time 2pm Paris time (CET) \n\nTuesday 2 June\nTuesday 7 July\nTuesday 4 August\n\nBasic materials suggested: \n\nSketchbook suitable for ink and watercolour\nPencils\nWatercolour pencils\nWatercolours\nWhite gouache\nHairdryer (recommended)\nJar of water\, tissue/paper towel\, scrap paper\, small water spray\n\nFurther information: \n\nLimited participants for a small group setting\nDirect\, live interaction with the artist\nStep by Step instruction\nTime to complete each step in real-time\nRecording available to watch on replay\nAppearing on camera or voice is not necessary\n3-5 days after the live session\, you will get a link to the recording. By purchasing a Zoom workshop\, you agree that other viewers may hear your voice in the recording.\n\nPlease emailme@annettemorris.art if you would like any further information before booking. \n 
URL:https://annettemorris.art/fr/event/zoom-workshop-summer26/2026-06-02/
LOCATION:Online
ORGANIZER;CN="Annette Morris":MAILTO:sketch@annettemorris.art
END:VEVENT
BEGIN:VEVENT
DTSTART;TZID=Europe/Paris:20260603T100000
DTEND;TZID=Europe/Paris:20260603T130000
DTSTAMP:20260420T182455
CREATED:20260102T075021Z
LAST-MODIFIED:20260102T092511Z
UID:10002775-1780480800-1780491600@annettemorris.art
SUMMARY:USk Languedoc-Roussillon
DESCRIPTION:For details see the Facebook page http://www.facebook.com/urbansketcherslanguedoc/events
URL:https://annettemorris.art/fr/event/usk-languedoc-roussillon-2025-8/2026-06-03/
ATTACH;FMTTYPE=image/jpeg:https://annettemorris.art/wp-content/uploads/2025/12/usk-lr-logo2026.jpg
ORGANIZER;CN="USk Languedoc":MAILTO:usk@sketchlanguedoc.com
END:VEVENT
BEGIN:VEVENT
DTSTART;TZID=Europe/Paris:20260605T100000
DTEND;TZID=Europe/Paris:20260607T160000
DTSTAMP:20260420T182455
CREATED:20250930T164845Z
LAST-MODIFIED:20260307T112633Z
UID:10002734-1780653600-1780848000@annettemorris.art
SUMMARY:Sketching Sète: The Venice of Languedoc
DESCRIPTION:Stunning Sète is located not far from Montpellier and Béziers on the Mediterranean coast.  In the centre of Sète is the Mont St Clair\, which\, at almost 200m above sea level offers panoramic views of the city below\, also known as “Venice of the Languedoc” for its charming network of canals.  Sète is a major port city in the southeast region of France and bordered by the Étang de Thau\, a biodiverse saltwater lagoon. Sète’s Mediterranean coast is lined with sandy beaches and the historic city centre has an abundance of winding streets\, markets\, shops and restaurants. \nSketching in Sète offers travel sketchers a diverse range of subjects\, from old fishing boats and canal bridges to market shoppers and historic architecture. Over the course of the weekend we will work with different line and watercolour techniques to capture the vibrant essence of this characterful city. \nThese sketching workshops are suitable for people with some or no art experience and materials can be provided on loan if you do not have your own. \nWhere to stay: \nIdeally in the area of the Canal Royal \n\nHotel de Paris\nLe Grand Hotel\nHôtel L’orque Bleue\nFive to Sete\n\nTransport recommendations:\nFly to Béziers with Ryanair or Montpellier\, Toulouse or Perpignan with other airlines\nClosest rail station: Sète station is approximately a 15 minute walk from the city centre. Buses run regularly from the station if you prefer not to walk. \nWhat to bring:\nSketchbook\, Portable sketching stool\, Basic watercolour travel set\, Watercolour brush\, ink pens (waterproof ink)\, pencil\, watercolour pencils.  A detailed materials list will be sent with booking confirmation or by request. Simply email annette@sketchingfrance.com for full details.  If you need to use a sketch kit on loan\, this can also be arranged in advance. \nAdditional notes: \nThere will be some walking up and down hills and steps\, so please wear comfortable footwear and bring a waterproof in the event of inclement weather. \nPrice: 295€ per person  \nThe tuition price excludes meals\, transport and accommodation. \nIf you would like more information before booking – please don’t hesitate to email me annette@sketchingfrance.com
URL:https://annettemorris.art/fr/event/sketching-sete-the-venice-of-languedoc-2026/
LOCATION:Sète\, 34000\, France
ATTACH;FMTTYPE=image/png:https://annettemorris.art/wp-content/uploads/2025/09/sete-2026.png
ORGANIZER;CN="Annette Morris":MAILTO:sketch@annettemorris.art
GEO:43.4079;3.7008
END:VEVENT
BEGIN:VEVENT
DTSTART;TZID=Europe/Paris:20260610T180000
DTEND;TZID=Europe/Paris:20260614T160000
DTSTAMP:20260420T182455
CREATED:20250902T091214Z
LAST-MODIFIED:20260309T064113Z
UID:10002728-1781114400-1781452800@annettemorris.art
SUMMARY:Colours of the Mediterranean Sketching Workshops
DESCRIPTION:Indulge in 4 glorious days sketching by the sea along the Vermillion Coast not far from Spain!   Your workshops are based in the quaint and colourful town of Collioure\, which is a treasure trove for sketchers!  It has a small port\, beaches\, cobbled streets\, a popular market and iconic views around the old chateau.  Our sketchbooks will be filled with colour as we study boats\, water and the hustle bustle of the busy cafés that surround the beach. \nFor many decades Collioure has remained a very popular destination for artists – rich in history it offers a huge variety of subjects for painting and drawing and in fantastic light. \nOver the course of these 4 days we will also spend time in the nearby coastal villages of Port-Vendres and Banyuls-sur-Mer.  Port-Vendres is a larger town with a busy fishing port and renowned for its numerous fish and sea food restaurants. Banyuls-sur-Mer is considered a jewel of the Mediterranean with a stunning coastline and the famous old vineyards on the slopes of the Catalan which source the fortified wine\, Banyuls. \nEach of the charming locations gives you the chance to experience a real taste of Catalonia in the south of France. It will be a wonderful few days to relax and immerse yourself in drawing and painting with a small group of like-minded people. \nThis creative break is suitable for anyone new to urban sketching or artists with some experience but looking for a looser watercolour style. \nSuggested hotel a short walk from the station and the port: \n\nHotel Mediterranée\n\nYou will need to bring your own sketching materials (paper\, paints etc) and list of recommended items will be provided on request.  Maximum group size: 8 sketchers. \nWorkshop price: 395€
URL:https://annettemorris.art/fr/event/colours-of-the-mediterranean-sketching-workshops/
LOCATION:Collioure\, Collioure\, 66190\, France
ATTACH;FMTTYPE=image/png:https://annettemorris.art/wp-content/uploads/2025/09/collioure2026.png
ORGANIZER;CN="Annette Morris":MAILTO:sketch@annettemorris.art
GEO:42.5148006;3.0726468
END:VEVENT
BEGIN:VEVENT
DTSTART;TZID=Europe/Paris:20260617T100000
DTEND;TZID=Europe/Paris:20260617T130000
DTSTAMP:20260420T182456
CREATED:20260407T143254Z
LAST-MODIFIED:20260408T063112Z
UID:10003018-1781690400-1781701200@annettemorris.art
SUMMARY:USk Languedoc-Roussillon
DESCRIPTION:For details see the Facebook page http://www.facebook.com/urbansketcherslanguedoc/events
URL:https://annettemorris.art/fr/event/usk-languedoc-roussillon-12-10-2/2026-06-17/
ATTACH;FMTTYPE=image/jpeg:https://annettemorris.art/wp-content/uploads/2025/12/usk-lr-logo2026.jpg
ORGANIZER;CN="USk Languedoc":MAILTO:usk@sketchlanguedoc.com
END:VEVENT
BEGIN:VEVENT
DTSTART;TZID=Europe/Paris:20260621T180000
DTEND;TZID=Europe/Paris:20260626T180000
DTSTAMP:20260420T182456
CREATED:20250707T123850Z
LAST-MODIFIED:20260228T100838Z
UID:10002720-1782064800-1782496800@annettemorris.art
SUMMARY:A Week in Provence: Sketching Holiday 2026
DESCRIPTION:Join me for a wonderful week sketching in watercolour and a taste of local life in sunny Provence!  For this trip we will be based in the walled city of Avignon\, also known as the City of Popes.  Sitting alongside the Rhone river\, the city has so many treasures to sketch including historic palaces and gardens\, quant cobbled streets and bistros\, ancient waterwheels\, churches and market squares. \nIn addition to urban sketching and city life we will also take a day trip into the countryside where we can capture some iconic Provençal views over lavender fields and hilltop villages. \nThe holiday starts on Sunday evening where we’ll get together over a welcome apèritif to talk through plans for the week.  Each day will include sketching guidance and tuition and the opportunity to lunch together.  The itinerary will be flexible so there will be the possibility of free time in the afternoon for you to explore or relax on your own or … sketch some more! \nAvignon is easily accessible by train and the station is a very short walk from the city centre.  You can travel by TGV to Avignon from several major cities including Paris\, Montpellier\, Nîmes\, Béziers\, Nice and Marseille.  Closest airports include Montpellier\, Nîmes\, Béziers\, Nice and Marseille.  Please just let me know if you have any questions about getting here. \nPrice includes daily tuition (5 hours) and a day trip to sketch the Lavender fields\, but does not include accommodation in Avignon\, other transport\, meals or refreshments. \nSuggestions of places to stay: \n\nHotel de l’Angleterre\nHotel le Medieval\nRégina Boutique Hotel\n\nWorkshop price including private day tour to the lavender fields and hilltop villages: 595€ –  price is reduced for early-bird bookings !
URL:https://annettemorris.art/fr/event/a-week-in-provence-sketching-holiday-2026/
LOCATION:Avignon\, Avignon\, 84000\, France
ATTACH;FMTTYPE=image/png:https://annettemorris.art/wp-content/uploads/2025/07/Provence2026.png
ORGANIZER;CN="Annette Morris":MAILTO:sketch@annettemorris.art
GEO:43.9470042;4.8209596
END:VEVENT
END:VCALENDAR