BEGIN:VCALENDAR
VERSION:2.0
PRODID:-//Annette Morris Art - ECPv6.9.0//NONSGML v1.0//EN
CALSCALE:GREGORIAN
METHOD:PUBLISH
X-ORIGINAL-URL:https://annettemorris.art/fr/
X-WR-CALDESC:Events for Annette Morris Art
REFRESH-INTERVAL;VALUE=DURATION:PT1H
X-Robots-Tag:noindex
X-PUBLISHED-TTL:PT1H
BEGIN:VTIMEZONE
TZID:Europe/Paris
BEGIN:DAYLIGHT
TZOFFSETFROM:+0100
TZOFFSETTO:+0200
TZNAME:CEST
DTSTART:20250330T010000
END:DAYLIGHT
BEGIN:STANDARD
TZOFFSETFROM:+0200
TZOFFSETTO:+0100
TZNAME:CET
DTSTART:20251026T010000
END:STANDARD
END:VTIMEZONE
BEGIN:VEVENT
DTSTART;TZID=Europe/Paris:20251104T140000
DTEND;TZID=Europe/Paris:20251104T153000
DTSTAMP:20260423T063345
CREATED:20251030T175633Z
LAST-MODIFIED:20251030T175633Z
UID:10002737-1762264800-1762270200@annettemorris.art
SUMMARY:Zoom Workshop - Glittering Lights
DESCRIPTION:
URL:https://annettemorris.art/product/zoom-workshops-november-2025/#new_tab
LOCATION:Online
ATTACH;FMTTYPE=image/jpeg:https://annettemorris.art/wp-content/uploads/2025/09/zoomsnov25-scaled.jpg
ORGANIZER;CN="Annette Morris":MAILTO:sketch@annettemorris.art
END:VEVENT
BEGIN:VEVENT
DTSTART;TZID=Europe/Paris:20251105T100000
DTEND;TZID=Europe/Paris:20251105T130000
DTSTAMP:20260423T063345
CREATED:20241127T151501Z
LAST-MODIFIED:20241127T210408Z
UID:10002464-1762336800-1762347600@annettemorris.art
SUMMARY:USk Languedoc-Roussillon
DESCRIPTION:For details see the Facebook page http://www.facebook.com/urbansketcherslanguedoc/events
URL:https://annettemorris.art/fr/event/usk-languedoc-roussillon-2025/2025-11-05/
ATTACH;FMTTYPE=image/jpeg:https://annettemorris.art/wp-content/uploads/2023/04/USk-logo-LR23.jpg
ORGANIZER;CN="USk Languedoc":MAILTO:usk@sketchlanguedoc.com
END:VEVENT
BEGIN:VEVENT
DTSTART;TZID=Europe/Paris:20251118T140000
DTEND;TZID=Europe/Paris:20251118T153000
DTSTAMP:20260423T063345
CREATED:20251030T175732Z
LAST-MODIFIED:20251030T175732Z
UID:10002738-1763474400-1763479800@annettemorris.art
SUMMARY:Zoom Workshop - Festive friends
DESCRIPTION:
URL:https://annettemorris.art/product/zoom-workshops-november-2025/#new_tab
LOCATION:Online
ATTACH;FMTTYPE=image/jpeg:https://annettemorris.art/wp-content/uploads/2025/09/zoomsnov25-scaled.jpg
ORGANIZER;CN="Annette Morris":MAILTO:sketch@annettemorris.art
END:VEVENT
BEGIN:VEVENT
DTSTART;TZID=Europe/Paris:20251119T100000
DTEND;TZID=Europe/Paris:20251119T130000
DTSTAMP:20260423T063345
CREATED:20241127T151618Z
LAST-MODIFIED:20241231T122027Z
UID:10002640-1763546400-1763557200@annettemorris.art
SUMMARY:USk Languedoc-Roussillon
DESCRIPTION:For details see the Facebook page http://www.facebook.com/urbansketcherslanguedoc/events
URL:https://annettemorris.art/fr/event/usk-languedoc-roussillon-12/2025-11-19/
ATTACH;FMTTYPE=image/jpeg:https://annettemorris.art/wp-content/uploads/2023/04/USk-logo-LR23.jpg
ORGANIZER;CN="USk Languedoc":MAILTO:usk@sketchlanguedoc.com
END:VEVENT
BEGIN:VEVENT
DTSTART;TZID=Europe/Paris:20251125T140000
DTEND;TZID=Europe/Paris:20251125T153000
DTSTAMP:20260423T063345
CREATED:20251030T180535Z
LAST-MODIFIED:20251030T180535Z
UID:10002739-1764079200-1764084600@annettemorris.art
SUMMARY:Zoom Workshop - Magic Lanterns
DESCRIPTION:
URL:https://annettemorris.art/product/zoom-workshops-november-2025/#new_tab
LOCATION:Online
ATTACH;FMTTYPE=image/jpeg:https://annettemorris.art/wp-content/uploads/2025/09/zoomsnov25-scaled.jpg
ORGANIZER;CN="Annette Morris":MAILTO:sketch@annettemorris.art
END:VEVENT
END:VCALENDAR