BEGIN:VCALENDAR
VERSION:2.0
PRODID:-//Annette Morris Art - ECPv6.9.0//NONSGML v1.0//EN
CALSCALE:GREGORIAN
METHOD:PUBLISH
X-WR-CALNAME:Annette Morris Art
X-ORIGINAL-URL:https://annettemorris.art/fr/
X-WR-CALDESC:Events for Annette Morris Art
REFRESH-INTERVAL;VALUE=DURATION:PT1H
X-Robots-Tag:noindex
X-PUBLISHED-TTL:PT1H
BEGIN:VTIMEZONE
TZID:Europe/Paris
BEGIN:DAYLIGHT
TZOFFSETFROM:+0100
TZOFFSETTO:+0200
TZNAME:CEST
DTSTART:20250330T010000
END:DAYLIGHT
BEGIN:STANDARD
TZOFFSETFROM:+0200
TZOFFSETTO:+0100
TZNAME:CET
DTSTART:20251026T010000
END:STANDARD
TZID:Europe/Helsinki
BEGIN:DAYLIGHT
TZOFFSETFROM:+0200
TZOFFSETTO:+0300
TZNAME:EEST
DTSTART:20250330T010000
END:DAYLIGHT
BEGIN:STANDARD
TZOFFSETFROM:+0300
TZOFFSETTO:+0200
TZNAME:EET
DTSTART:20251026T010000
END:STANDARD
END:VTIMEZONE
BEGIN:VEVENT
DTSTART;VALUE=DATE:20250906
DTEND;VALUE=DATE:20251101
DTSTAMP:20260423T062404
CREATED:20250620T074412Z
LAST-MODIFIED:20250620T074543Z
UID:10002717-1757116800-1761955199@annettemorris.art
SUMMARY:Exhibition at Café Deco\, Capestang
DESCRIPTION:A collection of my watercolours and sketches will be for sale\nThe café serves hot and cold drinks plus gorgeous cakes and pastries.  The café is open 9am – 12.30pm / 3pm – 5.00pm Tuesday\, Thursday and Friday. Open 9 am–12:30 pm on Wednesday and 10 am–12:30 pm on Saturday.\nTo make an enquiry please email cafedeco34@gmail.com
URL:https://annettemorris.art/fr/event/exhibition-at-cafe-deco-capestang-2025/
LOCATION:Café Deco\, 11 Place Ferrer\, Capestang\, 34340\, France
ATTACH;FMTTYPE=image/jpeg:https://annettemorris.art/wp-content/uploads/2021/11/cafe-deco-exhibition-scaled-e1664377056663.jpeg
ORGANIZER;CN="Annette Morris":MAILTO:sketch@annettemorris.art
GEO:43.3277786;3.0469494
X-APPLE-STRUCTURED-LOCATION;VALUE=URI;X-ADDRESS=Café Deco 11 Place Ferrer Capestang 34340 France;X-APPLE-RADIUS=500;X-TITLE=11 Place Ferrer:geo:3.0469494,43.3277786
END:VEVENT
BEGIN:VEVENT
DTSTART;TZID=Europe/Paris:20251001T100000
DTEND;TZID=Europe/Paris:20251001T130000
DTSTAMP:20260423T062404
CREATED:20250902T074403Z
LAST-MODIFIED:20250902T074403Z
UID:10002463-1759312800-1759323600@annettemorris.art
SUMMARY:USk Languedoc-Roussillon - Béziers
DESCRIPTION:For details see the Facebook page http://www.facebook.com/urbansketcherslanguedoc/events
URL:https://annettemorris.art/fr/event/usk-languedoc-roussillon-2025-beziers/
LOCATION:Béziers\, Béziers\, 34500\, France
ATTACH;FMTTYPE=image/jpeg:https://annettemorris.art/wp-content/uploads/2023/04/USk-logo-LR23.jpg
ORGANIZER;CN="USk Languedoc":MAILTO:usk@sketchlanguedoc.com
GEO:43.3442;3.2158
END:VEVENT
BEGIN:VEVENT
DTSTART;TZID=Europe/Helsinki:20251004T100000
DTEND;TZID=Europe/Helsinki:20251005T160000
DTSTAMP:20260423T062404
CREATED:20250603T115229Z
LAST-MODIFIED:20250626T111141Z
UID:10002701-1759572000-1759680000@annettemorris.art
SUMMARY:Art in the Aude; Sketching in historic Chalabre
DESCRIPTION:Suitable for: Beginners\, Week away with the Girls\, Solo Travellers\, Travel with a non-sketching partner\, Francophiles\, Wine lovers\, Hikers \n\nChalabre is a small but beautiful medieval town situated deep within Cathar country in the very south west corner of the Aude\, Chalabre is the capital of the Quercorb region not far from the Spanish border.  Being close to the Pyrénées\, this picturesque town benefits from a Mediterranean climate yet with mountain influences.  The town has weekly markets\, quaint half-timbered houses and impressive stone châteaux.  The river ‘Hers-Vif’ flows through Chalabre\, adding to the charm with small bridges and riverside paths. \nThis weekend workshop offers the chance to discover this fascinating location through sketching in ink and watercolour.  Explore and capture the quiet cobblestone & riverside laneways of a medieval town in a historic part of southern France. \nGetting to Chalabre:\nChalabre is located between Toulouse\, Carcassonne and Perpignan airports. Carcassonne is the closest train station which can be reached from Barcelona or Paris. Check out this site for details: https://en.oui.sncf/en \nWhere to stay:\nThe Hotel de France is extremely central and recommended.\nAdditionally you will find many apartments and bed and breakfasts within the town centre – see booking.com for several suggestions \nWhat to bring:\nSketchbook with paper suitable for watercolour\, Portable sketching stool\, Watercolour travel set & watercolour brush\, graphite pencil\, watercolour pencils\, eraser\, sharpener \nA detailed materials list will be sent with booking confirmation or by request. Simply email annette@sketchlanguedoc.com for full details. \nAdditional notes:\nWe will explore Chalabre on foot\, so there will be some walking on uneven surfaces and up and down steps. Please wear appropriate footwear and bring a waterproof in the event of inclement weather. \nPayment:\nA 50€ non-refundable deposit will secure your place.  For weekend bookings the balance payment is due by 15 August 2025. \n 
URL:https://annettemorris.art/fr/event/art-in-the-aude-sketching-in-historic-chalabre/
LOCATION:Chalabre\, 11230\, France
ATTACH;FMTTYPE=image/png:https://annettemorris.art/wp-content/uploads/2025/06/chalabre2025.png
ORGANIZER;CN="Annette Morris":MAILTO:sketch@annettemorris.art
GEO:42.9818123;2.0469151
END:VEVENT
BEGIN:VEVENT
DTSTART;TZID=Europe/Paris:20251007T140000
DTEND;TZID=Europe/Paris:20251007T153000
DTSTAMP:20260423T062404
CREATED:20250902T093111Z
LAST-MODIFIED:20250902T102007Z
UID:10002729-1759845600-1759851000@annettemorris.art
SUMMARY:Zoom Workshop - Côte Vermeille
DESCRIPTION:
URL:https://annettemorris.art/product/zoom-workshops-october-2025/#new_tab
LOCATION:Online
ATTACH;FMTTYPE=image/jpeg:https://annettemorris.art/wp-content/uploads/2025/09/zoomsoct25-scaled.jpg
ORGANIZER;CN="Annette Morris":MAILTO:sketch@annettemorris.art
END:VEVENT
BEGIN:VEVENT
DTSTART;TZID=Europe/Paris:20251010T100000
DTEND;TZID=Europe/Paris:20251012T160000
DTSTAMP:20260423T062404
CREATED:20241121T144022Z
LAST-MODIFIED:20250909T041818Z
UID:10002445-1760090400-1760284800@annettemorris.art
SUMMARY:Watercolour Sketching Weekend - Montpellier 2025!
DESCRIPTION:Ideal for: A weekend away with the girls\, History lovers\, Photographers\, Francophiles\, Foodies \n\nTreat yourself to 3 days sketching in this vibrant\, cultural and historic city – you won’t regret it!  Montpellier is not just one of France’s most sought after destinations\, it offers an incredible amount of sketch subjects – from majestic buildings and classic French architecture to luscious green parks\, street cafés and let’s not forget the food and fabulous wine! \nFor this weekend break we’ll be based in the heart of the city – La Place de la Comédie.  From here we’ll start by getting to grips with some of the basics of sketching on location.  This workshop is ideal for beginners or a great refresher if you’ve already got some drawing or painting experience.  We’ll be exploring the city through our sketches\, learning a whole pack of tips and tricks about perspective\, colour\, adding people to your drawings and of course\, making memories about this incredible area of France! \nThe city is known for being pedestrian and bike-friendly with close to 200 km of paths and a great tram network\, so it’s easy to get around without a car. With an international airport it’s also incredibly accessible from almost anywhere – and you can also catch a high-speed train to or from Paris\, or even drive from London or Barcelona! \n\nWhere to stay: \nI suggest somewhere within walking distance of La Place de la Comédie. There are several hotels and apartments including: \nHotel de la Comédie\nGrand Hotel du Midi Montpellier\nIbis Montpellier Comédie\nHotel Aragon\nBest Western Plus Comédie Saint Roch \nTransport recommendations:\nFly to Montpellier\, Nîmes or Béziers\nClosest railway station: Montpellier Saint-Roch \nWhat to bring:\nSketchbook\, Portable sketching stool\, Basic watercolour travel set\, Watercolour brush\, HB/B/2B pencil\, eraser\, sharpener.  A detailed materials list will be sent with booking confirmation or by request. Simply email annette@sketchingfrance.com for full details.  If you need to use a sketch kit on loan\, this can also be arranged in advance. \nAdditional notes: \nThere will be some walking up and down hills and steps\, so please wear comfortable footwear and bring a waterproof in the event of inclement weather. \nPrice for 3 days sketch tuition 10am-4pm: 295€ per person \nExcludes meals\, transport and accommodation.\nIf you would like more information before booking – please email me annette@sketchingfrance.com \n 
URL:https://annettemorris.art/fr/event/watercolour-sketching-weekend-montpellier-2025/
LOCATION:Montpellier\, Montpellier\, 34000\, France
ATTACH;FMTTYPE=image/png:https://annettemorris.art/wp-content/uploads/2024/11/montpellier-2025.png
ORGANIZER;CN="Annette Morris":MAILTO:sketch@annettemorris.art
GEO:43.6108;3.8767
END:VEVENT
BEGIN:VEVENT
DTSTART;TZID=Europe/Paris:20251014T140000
DTEND;TZID=Europe/Paris:20251014T153000
DTSTAMP:20260423T062404
CREATED:20250902T104047Z
LAST-MODIFIED:20250902T104119Z
UID:10002730-1760450400-1760455800@annettemorris.art
SUMMARY:Zoom Workshop - Côtes-d'Armor
DESCRIPTION:
URL:https://annettemorris.art/product/zoom-workshops-october-2025/#new_tab
LOCATION:Online
ATTACH;FMTTYPE=image/jpeg:https://annettemorris.art/wp-content/uploads/2025/09/zoomsoct25-scaled.jpg
ORGANIZER;CN="Annette Morris":MAILTO:sketch@annettemorris.art
END:VEVENT
BEGIN:VEVENT
DTSTART;TZID=Europe/Paris:20251015T100000
DTEND;TZID=Europe/Paris:20251015T130000
DTSTAMP:20260423T062404
CREATED:20250902T081151Z
LAST-MODIFIED:20250902T090201Z
UID:10002639-1760522400-1760533200@annettemorris.art
SUMMARY:USk Languedoc-Roussillon - Moux
DESCRIPTION:For details see the Facebook page http://www.facebook.com/urbansketcherslanguedoc/events
URL:https://annettemorris.art/fr/event/usk-languedoc-roussillon-moux/
LOCATION:Moux\, Moux\, 11700\, France
ATTACH;FMTTYPE=image/jpeg:https://annettemorris.art/wp-content/uploads/2023/04/USk-logo-LR23.jpg
ORGANIZER;CN="USk Languedoc":MAILTO:usk@sketchlanguedoc.com
END:VEVENT
BEGIN:VEVENT
DTSTART;TZID=Europe/Paris:20251021T140000
DTEND;TZID=Europe/Paris:20251021T153000
DTSTAMP:20260423T062404
CREATED:20250902T104222Z
LAST-MODIFIED:20250902T104332Z
UID:10002731-1761055200-1761060600@annettemorris.art
SUMMARY:Zoom Workshop - Côte d’Azur
DESCRIPTION:
URL:https://annettemorris.art/product/zoom-workshops-october-2025/#new_tab
LOCATION:Online
ATTACH;FMTTYPE=image/jpeg:https://annettemorris.art/wp-content/uploads/2025/09/zoomsoct25-scaled.jpg
ORGANIZER;CN="Annette Morris":MAILTO:sketch@annettemorris.art
END:VEVENT
BEGIN:VEVENT
DTSTART;TZID=Europe/Paris:20251028T140000
DTEND;TZID=Europe/Paris:20251028T153000
DTSTAMP:20260423T062404
CREATED:20250902T104447Z
LAST-MODIFIED:20250902T104531Z
UID:10002732-1761660000-1761665400@annettemorris.art
SUMMARY:Zoom Workshop - Côte Orientale Corse
DESCRIPTION:
URL:https://annettemorris.art/product/zoom-workshops-october-2025/#new_tab
LOCATION:Online
ATTACH;FMTTYPE=image/jpeg:https://annettemorris.art/wp-content/uploads/2025/09/zoomsoct25-scaled.jpg
ORGANIZER;CN="Annette Morris":MAILTO:sketch@annettemorris.art
END:VEVENT
BEGIN:VEVENT
DTSTART;TZID=Europe/Paris:20251030T100000
DTEND;TZID=Europe/Paris:20251030T130000
DTSTAMP:20260423T062404
CREATED:20250902T090218Z
LAST-MODIFIED:20250902T090218Z
UID:10002727-1761818400-1761829200@annettemorris.art
SUMMARY:USk Languedoc-Roussillon - Calvisson
DESCRIPTION:For details see the Facebook page http://www.facebook.com/urbansketcherslanguedoc/events
URL:https://annettemorris.art/fr/event/usk-languedoc-roussillon-calvisson/
LOCATION:Calvisson\, Calvisson\, 30420\, France
ATTACH;FMTTYPE=image/jpeg:https://annettemorris.art/wp-content/uploads/2023/04/USk-logo-LR23.jpg
ORGANIZER;CN="USk Languedoc":MAILTO:usk@sketchlanguedoc.com
END:VEVENT
END:VCALENDAR