BEGIN:VCALENDAR
VERSION:2.0
PRODID:-//Annette Morris Art - ECPv6.9.0//NONSGML v1.0//EN
CALSCALE:GREGORIAN
METHOD:PUBLISH
X-ORIGINAL-URL:https://annettemorris.art/fr/
X-WR-CALDESC:Events for Annette Morris Art
REFRESH-INTERVAL;VALUE=DURATION:PT1H
X-Robots-Tag:noindex
X-PUBLISHED-TTL:PT1H
BEGIN:VTIMEZONE
TZID:Europe/Paris
BEGIN:DAYLIGHT
TZOFFSETFROM:+0100
TZOFFSETTO:+0200
TZNAME:CEST
DTSTART:20250330T010000
END:DAYLIGHT
BEGIN:STANDARD
TZOFFSETFROM:+0200
TZOFFSETTO:+0100
TZNAME:CET
DTSTART:20251026T010000
END:STANDARD
END:VTIMEZONE
BEGIN:VEVENT
DTSTART;VALUE=DATE:20250906
DTEND;VALUE=DATE:20251101
DTSTAMP:20260423T075633
CREATED:20250620T074412Z
LAST-MODIFIED:20250620T074543Z
UID:10002717-1757116800-1761955199@annettemorris.art
SUMMARY:Exhibition at Café Deco\, Capestang
DESCRIPTION:A collection of my watercolours and sketches will be for sale\nThe café serves hot and cold drinks plus gorgeous cakes and pastries.  The café is open 9am – 12.30pm / 3pm – 5.00pm Tuesday\, Thursday and Friday. Open 9 am–12:30 pm on Wednesday and 10 am–12:30 pm on Saturday.\nTo make an enquiry please email cafedeco34@gmail.com
URL:https://annettemorris.art/fr/event/exhibition-at-cafe-deco-capestang-2025/
LOCATION:Café Deco\, 11 Place Ferrer\, Capestang\, 34340\, France
ATTACH;FMTTYPE=image/jpeg:https://annettemorris.art/wp-content/uploads/2021/11/cafe-deco-exhibition-scaled-e1664377056663.jpeg
ORGANIZER;CN="Annette Morris":MAILTO:sketch@annettemorris.art
GEO:43.3277786;3.0469494
X-APPLE-STRUCTURED-LOCATION;VALUE=URI;X-ADDRESS=Café Deco 11 Place Ferrer Capestang 34340 France;X-APPLE-RADIUS=500;X-TITLE=11 Place Ferrer:geo:3.0469494,43.3277786
END:VEVENT
BEGIN:VEVENT
DTSTART;TZID=Europe/Paris:20251028T140000
DTEND;TZID=Europe/Paris:20251028T153000
DTSTAMP:20260423T075633
CREATED:20250902T104447Z
LAST-MODIFIED:20250902T104531Z
UID:10002732-1761660000-1761665400@annettemorris.art
SUMMARY:Zoom Workshop - Côte Orientale Corse
DESCRIPTION:
URL:https://annettemorris.art/product/zoom-workshops-october-2025/#new_tab
LOCATION:Online
ATTACH;FMTTYPE=image/jpeg:https://annettemorris.art/wp-content/uploads/2025/09/zoomsoct25-scaled.jpg
ORGANIZER;CN="Annette Morris":MAILTO:sketch@annettemorris.art
END:VEVENT
END:VCALENDAR