BEGIN:VCALENDAR
VERSION:2.0
PRODID:-//Annette Morris Art - ECPv6.9.0//NONSGML v1.0//EN
CALSCALE:GREGORIAN
METHOD:PUBLISH
X-WR-CALNAME:Annette Morris Art
X-ORIGINAL-URL:https://annettemorris.art/fr/
X-WR-CALDESC:Events for Annette Morris Art
REFRESH-INTERVAL;VALUE=DURATION:PT1H
X-Robots-Tag:noindex
X-PUBLISHED-TTL:PT1H
BEGIN:VTIMEZONE
TZID:Europe/Paris
BEGIN:DAYLIGHT
TZOFFSETFROM:+0100
TZOFFSETTO:+0200
TZNAME:CEST
DTSTART:20250330T010000
END:DAYLIGHT
BEGIN:STANDARD
TZOFFSETFROM:+0200
TZOFFSETTO:+0100
TZNAME:CET
DTSTART:20251026T010000
END:STANDARD
END:VTIMEZONE
BEGIN:VEVENT
DTSTART;VALUE=DATE:20250820
DTEND;VALUE=DATE:20250824
DTSTAMP:20260424T122108
CREATED:20241029T100017Z
LAST-MODIFIED:20241029T100111Z
UID:10002428-1755648000-1755993599@annettemorris.art
SUMMARY:Urban Sketchers Symposium 2025
DESCRIPTION:The Urban Sketchers International Symposium is an annual educational event organized by Urban Sketchers (USk)\, a nonprofit dedicated to fostering the practice of on-location observational sketching. The goal of the Symposium is to celebrate and practice the art of on-location sketching in the host city. Each symposium offers valuable field-sketching instruction and opportunities for participants to meet new friends and learn more skills. \nDetails & registration links to follow http://urbansketchers.org
URL:https://annettemorris.art/fr/event/urban-sketchers-symposium-2025/
LOCATION:Poznan\, Poznan\, 60-001\, Poland
ATTACH;FMTTYPE=image/png:https://annettemorris.art/wp-content/uploads/2024/10/Logotyp_symposium_2025_with_green_final-1536x1025-1.png
END:VEVENT
BEGIN:VEVENT
DTSTART;TZID=Europe/Paris:20250820T100000
DTEND;TZID=Europe/Paris:20250820T130000
DTSTAMP:20260424T122108
CREATED:20250722T145858Z
LAST-MODIFIED:20250722T145900Z
UID:10002637-1755684000-1755694800@annettemorris.art
SUMMARY:USk Languedoc-Roussillon - Villeneuve-Minervois
DESCRIPTION:For details see the Facebook page http://www.facebook.com/urbansketcherslanguedoc/events
URL:https://annettemorris.art/fr/event/usk-languedoc-roussillon-12-8/
LOCATION:Villeneuve-Minervois\, France
ATTACH;FMTTYPE=image/jpeg:https://annettemorris.art/wp-content/uploads/2023/04/USk-logo-LR23.jpg
ORGANIZER;CN="USk Languedoc":MAILTO:usk@sketchlanguedoc.com
GEO:46.227638;2.213749
END:VEVENT
END:VCALENDAR