BEGIN:VCALENDAR
VERSION:2.0
PRODID:-//Annette Morris Art - ECPv6.9.0//NONSGML v1.0//EN
CALSCALE:GREGORIAN
METHOD:PUBLISH
X-ORIGINAL-URL:https://annettemorris.art
X-WR-CALDESC:Events for Annette Morris Art
REFRESH-INTERVAL;VALUE=DURATION:PT1H
X-Robots-Tag:noindex
X-PUBLISHED-TTL:PT1H
BEGIN:VTIMEZONE
TZID:Europe/Paris
BEGIN:DAYLIGHT
TZOFFSETFROM:+0100
TZOFFSETTO:+0200
TZNAME:CEST
DTSTART:20250330T010000
END:DAYLIGHT
BEGIN:STANDARD
TZOFFSETFROM:+0200
TZOFFSETTO:+0100
TZNAME:CET
DTSTART:20251026T010000
END:STANDARD
END:VTIMEZONE
BEGIN:VEVENT
DTSTART;TZID=Europe/Paris:20250128T100000
DTEND;TZID=Europe/Paris:20250128T113000
DTSTAMP:20260423T135523
CREATED:20241124T164159Z
LAST-MODIFIED:20241124T164900Z
UID:10002451-1738058400-1738063800@annettemorris.art
SUMMARY:Zoom Workshop - Awesome Alsace
DESCRIPTION:Tuesdays are Zoom days!  These live online workshops for a small group include a series of different subjects and techniques to help you build your urban sketching confidence using pencil\, ink and watercolour.  If you cannot join the Zoom\, a recording will be available within a few days.
URL:https://annettemorris.art/product/zoom-workshops-january-february-2025/
CATEGORIES:Live,Online Events
ATTACH;FMTTYPE=image/jpeg:https://annettemorris.art/wp-content/uploads/2024/11/janfebzooms-1-scaled.jpg
ORGANIZER;CN="Annette Morris":MAILTO:sketch@annettemorris.art
END:VEVENT
END:VCALENDAR