BEGIN:VCALENDAR
VERSION:2.0
PRODID:-//Annette Morris Art - ECPv6.9.0//NONSGML v1.0//EN
CALSCALE:GREGORIAN
METHOD:PUBLISH
X-WR-CALNAME:Annette Morris Art
X-ORIGINAL-URL:https://annettemorris.art
X-WR-CALDESC:Events for Annette Morris Art
REFRESH-INTERVAL;VALUE=DURATION:PT1H
X-Robots-Tag:noindex
X-PUBLISHED-TTL:PT1H
BEGIN:VTIMEZONE
TZID:Europe/Paris
BEGIN:DAYLIGHT
TZOFFSETFROM:+0100
TZOFFSETTO:+0200
TZNAME:CEST
DTSTART:20250330T010000
END:DAYLIGHT
BEGIN:STANDARD
TZOFFSETFROM:+0200
TZOFFSETTO:+0100
TZNAME:CET
DTSTART:20251026T010000
END:STANDARD
END:VTIMEZONE
BEGIN:VEVENT
DTSTART;TZID=Europe/Paris:20250805T140000
DTEND;TZID=Europe/Paris:20250805T153000
DTSTAMP:20260421T155042
CREATED:20250103T133326Z
LAST-MODIFIED:20250103T133326Z
UID:10002654-1754402400-1754407800@annettemorris.art
SUMMARY:Zoom Workshop - Yellow parasol
DESCRIPTION:
URL:https://annettemorris.art/product/zoom-workshops-summer-2025/
CATEGORIES:Live,Online Events
ATTACH;FMTTYPE=image/jpeg:https://annettemorris.art/wp-content/uploads/2025/01/zoomssummer25.jpg
ORGANIZER;CN="Annette Morris":MAILTO:sketch@annettemorris.art
END:VEVENT
END:VCALENDAR