BEGIN:VCALENDAR
VERSION:2.0
PRODID:-//Annette Morris Art - ECPv6.9.0//NONSGML v1.0//EN
CALSCALE:GREGORIAN
METHOD:PUBLISH
X-WR-CALNAME:Annette Morris Art
X-ORIGINAL-URL:https://annettemorris.art
X-WR-CALDESC:Events for Annette Morris Art
REFRESH-INTERVAL;VALUE=DURATION:PT1H
X-Robots-Tag:noindex
X-PUBLISHED-TTL:PT1H
BEGIN:VTIMEZONE
TZID:Europe/Paris
BEGIN:DAYLIGHT
TZOFFSETFROM:+0100
TZOFFSETTO:+0200
TZNAME:CEST
DTSTART:20260329T010000
END:DAYLIGHT
BEGIN:STANDARD
TZOFFSETFROM:+0200
TZOFFSETTO:+0100
TZNAME:CET
DTSTART:20261025T010000
END:STANDARD
END:VTIMEZONE
BEGIN:VEVENT
DTSTART;VALUE=DATE:20260522
DTEND;VALUE=DATE:20260526
DTSTAMP:20260420T165322
CREATED:20250612T110428Z
LAST-MODIFIED:20260109T182226Z
UID:10002703-1779408000-1779753599@annettemorris.art
SUMMARY:USk France Rencontre Nationale
DESCRIPTION:Urban Sketchers France meetings take place on the Pentecost holiday weekend and are free.  Email urbansketchers.france@gmail.com more information
URL:https://annettemorris.art/event/usk-france-rencontre-nationale-2026/
LOCATION:Rouen\, Rouen\, 76000\, France
CATEGORIES:Urban Sketchers
ATTACH;FMTTYPE=image/png:https://annettemorris.art/wp-content/uploads/2021/11/usk-france.png
ORGANIZER;CN="USk France":MAILTO:urbansketchers.france@gmail.com
END:VEVENT
BEGIN:VEVENT
DTSTART;VALUE=DATE:20261003
DTEND;VALUE=DATE:20261005
DTSTAMP:20260420T165322
CREATED:20260308T172623Z
LAST-MODIFIED:20260309T063942Z
UID:10002893-1790985600-1791158399@annettemorris.art
SUMMARY:USk Rencontre des Suds
DESCRIPTION:La Rencontre des Suds is a free annual gathering for Urban Sketchers organised by a group based in southern France.  See the USK Toulon group  for more information!
URL:https://annettemorris.art/event/usk-rencontre-des-suds/
LOCATION:Toulon\, France
CATEGORIES:Urban Sketchers
ORGANIZER;CN="USk France":MAILTO:urbansketchers.france@gmail.com
END:VEVENT
END:VCALENDAR