BEGIN:VCALENDAR
VERSION:2.0
PRODID:-//Annette Morris Art - ECPv6.9.0//NONSGML v1.0//EN
CALSCALE:GREGORIAN
METHOD:PUBLISH
X-ORIGINAL-URL:https://annettemorris.art
X-WR-CALDESC:Events for Annette Morris Art
REFRESH-INTERVAL;VALUE=DURATION:PT1H
X-Robots-Tag:noindex
X-PUBLISHED-TTL:PT1H
BEGIN:VTIMEZONE
TZID:Europe/Paris
BEGIN:DAYLIGHT
TZOFFSETFROM:+0100
TZOFFSETTO:+0200
TZNAME:CEST
DTSTART:20230326T010000
END:DAYLIGHT
BEGIN:STANDARD
TZOFFSETFROM:+0200
TZOFFSETTO:+0100
TZNAME:CET
DTSTART:20231029T010000
END:STANDARD
BEGIN:DAYLIGHT
TZOFFSETFROM:+0100
TZOFFSETTO:+0200
TZNAME:CEST
DTSTART:20240331T010000
END:DAYLIGHT
BEGIN:STANDARD
TZOFFSETFROM:+0200
TZOFFSETTO:+0100
TZNAME:CET
DTSTART:20241027T010000
END:STANDARD
END:VTIMEZONE
BEGIN:VEVENT
DTSTART;TZID=Europe/Paris:20231227T100000
DTEND;TZID=Europe/Paris:20231227T130000
DTSTAMP:20260421T034545
CREATED:20231122T085024Z
LAST-MODIFIED:20231122T085024Z
UID:10002209-1703671200-1703682000@annettemorris.art
SUMMARY:USk Languedoc-Roussillon - Béziers
DESCRIPTION:For details see the Facebook page http://www.facebook.com/urbansketcherslanguedoc/events
URL:https://annettemorris.art/event/usk-languedoc-roussillon-beziers/
LOCATION:Béziers\, Béziers\, 34500\, France
CATEGORIES:Sketch Languedoc!,Urban Sketchers
ATTACH;FMTTYPE=image/jpeg:https://annettemorris.art/wp-content/uploads/2023/04/USk-logo-LR23.jpg
ORGANIZER;CN="USk Languedoc":MAILTO:usk@sketchlanguedoc.com
GEO:43.3442;3.2158
END:VEVENT
BEGIN:VEVENT
DTSTART;TZID=Europe/Paris:20240106T100000
DTEND;TZID=Europe/Paris:20240106T160000
DTSTAMP:20260421T034545
CREATED:20231220T094335Z
LAST-MODIFIED:20231220T094335Z
UID:10002230-1704535200-1704556800@annettemorris.art
SUMMARY:USk Languedoc-Roussillon - Limoux
DESCRIPTION:For details see the Facebook page http://www.facebook.com/urbansketcherslanguedoc/events
URL:https://annettemorris.art/event/usk-languedoc-roussillon-limoux/
LOCATION:Limoux\, Limoux\, 11300\, France
CATEGORIES:Sketch Languedoc!,Urban Sketchers
ATTACH;FMTTYPE=image/jpeg:https://annettemorris.art/wp-content/uploads/2023/04/USk-logo-LR23.jpg
ORGANIZER;CN="USk Languedoc":MAILTO:usk@sketchlanguedoc.com
GEO:43.053215122954;2.2177116841458
END:VEVENT
BEGIN:VEVENT
DTSTART;TZID=Europe/Paris:20240112T093000
DTEND;TZID=Europe/Paris:20240112T160000
DTSTAMP:20260421T034545
CREATED:20231122T101630Z
LAST-MODIFIED:20231122T101630Z
UID:10002210-1705051800-1705075200@annettemorris.art
SUMMARY:USk Languedoc-Roussillon - Marseillan
DESCRIPTION:For details see the Facebook page http://www.facebook.com/urbansketcherslanguedoc/events
URL:https://annettemorris.art/event/usk-languedoc-roussillon-marseillan/
LOCATION:Marseillan\, 34340\, France
CATEGORIES:Sketch Languedoc!,Urban Sketchers
ATTACH;FMTTYPE=image/jpeg:https://annettemorris.art/wp-content/uploads/2023/04/USk-logo-LR23.jpg
ORGANIZER;CN="USk Languedoc":MAILTO:usk@sketchlanguedoc.com
END:VEVENT
END:VCALENDAR