BEGIN:VCALENDAR
VERSION:2.0
PRODID:-//Annette Morris Art - ECPv6.9.0//NONSGML v1.0//EN
CALSCALE:GREGORIAN
METHOD:PUBLISH
X-ORIGINAL-URL:https://annettemorris.art
X-WR-CALDESC:Events for Annette Morris Art
REFRESH-INTERVAL;VALUE=DURATION:PT1H
X-Robots-Tag:noindex
X-PUBLISHED-TTL:PT1H
BEGIN:VTIMEZONE
TZID:Europe/Paris
BEGIN:DAYLIGHT
TZOFFSETFROM:+0100
TZOFFSETTO:+0200
TZNAME:CEST
DTSTART:20210328T010000
END:DAYLIGHT
BEGIN:STANDARD
TZOFFSETFROM:+0200
TZOFFSETTO:+0100
TZNAME:CET
DTSTART:20211031T010000
END:STANDARD
BEGIN:DAYLIGHT
TZOFFSETFROM:+0100
TZOFFSETTO:+0200
TZNAME:CEST
DTSTART:20220327T010000
END:DAYLIGHT
BEGIN:STANDARD
TZOFFSETFROM:+0200
TZOFFSETTO:+0100
TZNAME:CET
DTSTART:20221030T010000
END:STANDARD
END:VTIMEZONE
BEGIN:VEVENT
DTSTART;TZID=Europe/Paris:20220621T100000
DTEND;TZID=Europe/Paris:20220621T170000
DTSTAMP:20260421T182408
CREATED:20220614T135235Z
LAST-MODIFIED:20221026T053600Z
UID:10001691-1655805600-1655830800@annettemorris.art
SUMMARY:Vineyard Sketching Day with Vin en Vacances
DESCRIPTION:Please note that due to the heatwave this event will now take place 25 October!
URL:https://annettemorris.art/event/sketching-day-with-vin-en-vacances/
LOCATION:Roubia\, Roubia\, Occitanie\, 11200\, France
CATEGORIES:Sketch Languedoc!,Sketching France,Workshops
ATTACH;FMTTYPE=image/jpeg:https://annettemorris.art/wp-content/uploads/2022/05/guardians.jpeg
ORGANIZER;CN="Vin en Vacances":MAILTO:wendy@vinenvacances.com
GEO:43.245839772811;2.8012734241374
END:VEVENT
BEGIN:VEVENT
DTSTART;TZID=Europe/Paris:20211201T100000
DTEND;TZID=Europe/Paris:20211201T130000
DTSTAMP:20260421T182408
CREATED:20211114T111828Z
LAST-MODIFIED:20211114T111828Z
UID:10001564-1638352800-1638363600@annettemorris.art
SUMMARY:USk Languedoc - Roubia
DESCRIPTION:For details see the Facebook page http://www.facebook.com/urbansketcherslanguedoc/events
URL:https://annettemorris.art/event/usk-languedoc-roubia-2/
LOCATION:Roubia\, Roubia\, Occitanie\, 11200\, France
CATEGORIES:Sketch Languedoc!,Urban Sketchers
ATTACH;FMTTYPE=image/jpeg:https://annettemorris.art/wp-content/uploads/2019/09/USk-logo-LR.jpg
ORGANIZER;CN="USk Languedoc":MAILTO:usk@sketchlanguedoc.com
GEO:43.245839772811;2.8012734241374
END:VEVENT
END:VCALENDAR