BEGIN:VCALENDAR
VERSION:2.0
PRODID:-//Annette Morris Art - ECPv6.9.0//NONSGML v1.0//EN
CALSCALE:GREGORIAN
METHOD:PUBLISH
X-WR-CALNAME:Annette Morris Art
X-ORIGINAL-URL:https://annettemorris.art
X-WR-CALDESC:Events for Annette Morris Art
REFRESH-INTERVAL;VALUE=DURATION:PT1H
X-Robots-Tag:noindex
X-PUBLISHED-TTL:PT1H
BEGIN:VTIMEZONE
TZID:Europe/Paris
BEGIN:DAYLIGHT
TZOFFSETFROM:+0100
TZOFFSETTO:+0200
TZNAME:CEST
DTSTART:20200329T010000
END:DAYLIGHT
BEGIN:STANDARD
TZOFFSETFROM:+0200
TZOFFSETTO:+0100
TZNAME:CET
DTSTART:20201025T010000
END:STANDARD
BEGIN:DAYLIGHT
TZOFFSETFROM:+0100
TZOFFSETTO:+0200
TZNAME:CEST
DTSTART:20210328T010000
END:DAYLIGHT
BEGIN:STANDARD
TZOFFSETFROM:+0200
TZOFFSETTO:+0100
TZNAME:CET
DTSTART:20211031T010000
END:STANDARD
BEGIN:DAYLIGHT
TZOFFSETFROM:+0100
TZOFFSETTO:+0200
TZNAME:CEST
DTSTART:20220327T010000
END:DAYLIGHT
BEGIN:STANDARD
TZOFFSETFROM:+0200
TZOFFSETTO:+0100
TZNAME:CET
DTSTART:20221030T010000
END:STANDARD
BEGIN:DAYLIGHT
TZOFFSETFROM:+0100
TZOFFSETTO:+0200
TZNAME:CEST
DTSTART:20230326T010000
END:DAYLIGHT
BEGIN:STANDARD
TZOFFSETFROM:+0200
TZOFFSETTO:+0100
TZNAME:CET
DTSTART:20231029T010000
END:STANDARD
TZID:Europe/Helsinki
BEGIN:DAYLIGHT
TZOFFSETFROM:+0200
TZOFFSETTO:+0300
TZNAME:EEST
DTSTART:20190331T010000
END:DAYLIGHT
BEGIN:STANDARD
TZOFFSETFROM:+0300
TZOFFSETTO:+0200
TZNAME:EET
DTSTART:20191027T010000
END:STANDARD
BEGIN:DAYLIGHT
TZOFFSETFROM:+0200
TZOFFSETTO:+0300
TZNAME:EEST
DTSTART:20200329T010000
END:DAYLIGHT
BEGIN:STANDARD
TZOFFSETFROM:+0300
TZOFFSETTO:+0200
TZNAME:EET
DTSTART:20201025T010000
END:STANDARD
BEGIN:DAYLIGHT
TZOFFSETFROM:+0200
TZOFFSETTO:+0300
TZNAME:EEST
DTSTART:20210328T010000
END:DAYLIGHT
BEGIN:STANDARD
TZOFFSETFROM:+0300
TZOFFSETTO:+0200
TZNAME:EET
DTSTART:20211031T010000
END:STANDARD
END:VTIMEZONE
BEGIN:VEVENT
DTSTART;TZID=Europe/Paris:20230720T093000
DTEND;TZID=Europe/Paris:20230720T123000
DTSTAMP:20260421T073828
CREATED:20221228T102322Z
LAST-MODIFIED:20230716T160245Z
UID:10001796-1689845400-1689856200@annettemorris.art
SUMMARY:USk Languedoc-Roussillon - Laure-Minervois
DESCRIPTION:For details see the Facebook page http://www.facebook.com/urbansketcherslanguedoc/events
URL:https://annettemorris.art/event/usk-languedoc-2023-laure-minervois/
LOCATION:Laure-Minervois\, Laure-Minervois\, 11800\, France
CATEGORIES:Sketch Languedoc!,Urban Sketchers
ATTACH;FMTTYPE=image/jpeg:https://annettemorris.art/wp-content/uploads/2023/04/USk-logo-LR23.jpg
ORGANIZER;CN="USk Languedoc":MAILTO:usk@sketchlanguedoc.com
GEO:43.270216;2.5201159
END:VEVENT
BEGIN:VEVENT
DTSTART;TZID=Europe/Paris:20230715T093000
DTEND;TZID=Europe/Paris:20230715T150000
DTSTAMP:20260421T073828
CREATED:20230412T130712Z
LAST-MODIFIED:20230412T130712Z
UID:10001905-1689413400-1689433200@annettemorris.art
SUMMARY:USk Languedoc-Roussillon - Narbonne
DESCRIPTION:For details see the Facebook page http://www.facebook.com/urbansketcherslanguedoc/events
URL:https://annettemorris.art/event/usk-languedoc-roussillon-narbonne/
CATEGORIES:Sketch Languedoc!,Urban Sketchers
ATTACH;FMTTYPE=image/jpeg:https://annettemorris.art/wp-content/uploads/2023/04/USk-logo-LR23.jpg
ORGANIZER;CN="USk Languedoc":MAILTO:usk@sketchlanguedoc.com
END:VEVENT
BEGIN:VEVENT
DTSTART;TZID=Europe/Paris:20230308T100000
DTEND;TZID=Europe/Paris:20230308T120000
DTSTAMP:20260421T073828
CREATED:20221230T071113Z
LAST-MODIFIED:20221230T071341Z
UID:10001784-1678269600-1678276800@annettemorris.art
SUMMARY:March Croquis Café - Narbonne
DESCRIPTION:These short Wednesday workshops are a chance to get together in a small friendly group to work on sketching techniques or fun watercolour challenges!\nEach event will be different and will take place indoors – or outdoors if the weather is warm and fine. \nWednesday 8 March – Narbonne\nWednesday 15 March – Bize\nWednesday 22 March – Sallèles d’Aude\nWednesday 29 March – Olonzac \n80€ to book all 4 / 25€ per workshop
URL:https://annettemorris.art/product/march-croquis-cafe-2023/
LOCATION:Narbonne\, Narbonne\, 11100\, France
CATEGORIES:Sketch Languedoc!,Workshops
ATTACH;FMTTYPE=image/jpeg:https://annettemorris.art/wp-content/uploads/2022/12/croquiscafe-march.jpeg
ORGANIZER;CN="Annette Morris":MAILTO:sketch@annettemorris.art
GEO:43.1843;3.0031
END:VEVENT
BEGIN:VEVENT
DTSTART;TZID=Europe/Paris:20221130T100000
DTEND;TZID=Europe/Paris:20221130T120000
DTSTAMP:20260421T073828
CREATED:20221102T090000Z
LAST-MODIFIED:20221026T053557Z
UID:10001698-1669802400-1669809600@annettemorris.art
SUMMARY:November Croquis Café
DESCRIPTION:These short Wednesday workshops are a chance to get together in a small friendly group to work on sketching techniques or fun watercolour challenges!\nEach event will be different and will take place indoors – or outdoors if the weather is warm and fine. \nWednesday 9 November – Béziers\nWednesday 16 November – Narbonne\nWednesday 23 November – Quarante\nWednesday 30 November – Capestang \n80€ to book all 4 / 25€ per workshop
URL:https://annettemorris.art/product/november-croquis-cafe/
CATEGORIES:Sketch Languedoc!,Sketching France,Urban Sketchers,Workshops
ATTACH;FMTTYPE=image/jpeg:https://annettemorris.art/wp-content/uploads/2022/11/croquiscafe-1.jpeg
ORGANIZER;CN="Annette Morris":MAILTO:sketch@annettemorris.art
END:VEVENT
BEGIN:VEVENT
DTSTART;TZID=Europe/Paris:20221123T100000
DTEND;TZID=Europe/Paris:20221123T120000
DTSTAMP:20260421T073828
CREATED:20221102T090000Z
LAST-MODIFIED:20221026T053557Z
UID:10001697-1669197600-1669204800@annettemorris.art
SUMMARY:November Croquis Café
DESCRIPTION:These short Wednesday workshops are a chance to get together in a small friendly group to work on sketching techniques or fun watercolour challenges!\nEach event will be different and will take place indoors – or outdoors if the weather is warm and fine. \nWednesday 9 November – Béziers\nWednesday 16 November – Narbonne\nWednesday 23 November – Quarante\nWednesday 30 November – Capestang \n80€ to book all 4 / 25€ per workshop
URL:https://annettemorris.art/product/november-croquis-cafe/
CATEGORIES:Sketch Languedoc!,Sketching France,Urban Sketchers,Workshops
ATTACH;FMTTYPE=image/jpeg:https://annettemorris.art/wp-content/uploads/2022/11/croquiscafe-1.jpeg
ORGANIZER;CN="Annette Morris":MAILTO:sketch@annettemorris.art
END:VEVENT
BEGIN:VEVENT
DTSTART;TZID=Europe/Paris:20221116T100000
DTEND;TZID=Europe/Paris:20221116T120000
DTSTAMP:20260421T073829
CREATED:20221102T090000Z
LAST-MODIFIED:20221026T053557Z
UID:10001696-1668592800-1668600000@annettemorris.art
SUMMARY:November Croquis Café
DESCRIPTION:These short Wednesday workshops are a chance to get together in a small friendly group to work on sketching techniques or fun watercolour challenges!\nEach event will be different and will take place indoors – or outdoors if the weather is warm and fine. \nWednesday 9 November – Béziers\nWednesday 16 November – Narbonne\nWednesday 23 November – Quarante\nWednesday 30 November – Capestang \n80€ to book all 4 / 25€ per workshop
URL:https://annettemorris.art/product/november-croquis-cafe/
CATEGORIES:Sketch Languedoc!,Sketching France,Urban Sketchers,Workshops
ATTACH;FMTTYPE=image/jpeg:https://annettemorris.art/wp-content/uploads/2022/11/croquiscafe-1.jpeg
ORGANIZER;CN="Annette Morris":MAILTO:sketch@annettemorris.art
END:VEVENT
BEGIN:VEVENT
DTSTART;TZID=Europe/Paris:20221109T100000
DTEND;TZID=Europe/Paris:20221109T120000
DTSTAMP:20260421T073829
CREATED:20221102T090000Z
LAST-MODIFIED:20221026T053557Z
UID:10001695-1667988000-1667995200@annettemorris.art
SUMMARY:November Croquis Café
DESCRIPTION:These short Wednesday workshops are a chance to get together in a small friendly group to work on sketching techniques or fun watercolour challenges!\nEach event will be different and will take place indoors – or outdoors if the weather is warm and fine. \nWednesday 9 November – Béziers\nWednesday 16 November – Narbonne\nWednesday 23 November – Quarante\nWednesday 30 November – Capestang \n80€ to book all 4 / 25€ per workshop
URL:https://annettemorris.art/product/november-croquis-cafe/
CATEGORIES:Sketch Languedoc!,Sketching France,Urban Sketchers,Workshops
ATTACH;FMTTYPE=image/jpeg:https://annettemorris.art/wp-content/uploads/2022/11/croquiscafe-1.jpeg
ORGANIZER;CN="Annette Morris":MAILTO:sketch@annettemorris.art
END:VEVENT
BEGIN:VEVENT
DTSTART;TZID=Europe/Paris:20220618T103000
DTEND;TZID=Europe/Paris:20220618T193000
DTSTAMP:20260421T073829
CREATED:20220204T091638Z
LAST-MODIFIED:20221026T053600Z
UID:10001638-1655548200-1655580600@annettemorris.art
SUMMARY:USk Languedoc & USk Barcelone - Narbonne
DESCRIPTION:For details see the Facebook page http://www.facebook.com/urbansketcherslanguedoc/events
URL:https://annettemorris.art/event/usk-languedoc-usk-barcelone-narbonne/
LOCATION:Narbonne\, Narbonne\, 11100\, France
CATEGORIES:Sketch Languedoc!,Sketching France,Urban Sketchers
ATTACH;FMTTYPE=image/jpeg:https://annettemorris.art/wp-content/uploads/2019/09/USk-logo-LR.jpg
ORGANIZER;CN="USk Languedoc":MAILTO:usk@sketchlanguedoc.com
GEO:43.1843;3.0031
END:VEVENT
BEGIN:VEVENT
DTSTART;TZID=Europe/Paris:20220202T100000
DTEND;TZID=Europe/Paris:20220202T130000
DTSTAMP:20260421T073829
CREATED:20211124T104702Z
LAST-MODIFIED:20220121T140856Z
UID:10001583-1643796000-1643806800@annettemorris.art
SUMMARY:USk Languedoc - Narbonne
DESCRIPTION:For details see the Facebook page http://www.facebook.com/urbansketcherslanguedoc/events
URL:https://annettemorris.art/event/usk-languedoc-narbonne/
LOCATION:Narbonne\, Narbonne\, 11100\, France
CATEGORIES:Sketch Languedoc!,Urban Sketchers
ATTACH;FMTTYPE=image/jpeg:https://annettemorris.art/wp-content/uploads/2018/10/USk-logo-LR.jpg
ORGANIZER;CN="USk Languedoc":MAILTO:usk@sketchlanguedoc.com
GEO:43.1843;3.0031
END:VEVENT
BEGIN:VEVENT
DTSTART;TZID=Europe/Helsinki:20210923T100000
DTEND;TZID=Europe/Helsinki:20210923T130000
DTSTAMP:20260421T073829
CREATED:20200224T180317Z
LAST-MODIFIED:20210822T083226Z
UID:10001373-1632391200-1632402000@annettemorris.art
SUMMARY:Beautiful buildings
DESCRIPTION:Join me in Narbonne for a workshop to capture some of the magnificent architecture and buildings of this historic city. \nYou don’t need previous art experience to join this workshop – just an interest in travel sketching and a willingness to learn.  We’ll look at page planning\, textures and colours and how to work with ink and watercolour on location. \nWorkshop starts 10am with a quick warm up sketch over coffee. \nYou will need a sketchbook with paper 160gsm or higher – which can be purchased on the day if you do not have your own. \nWe will also use a black waterproof ink pen\, HB pencil\, basic watercolour kit\, brush and water pot.
URL:https://annettemorris.art/event/beautiful-buildings-narbonne/
LOCATION:Narbonne\, Narbonne\, 11100\, France
CATEGORIES:Sketch Languedoc!,Workshops
ATTACH;FMTTYPE=image/jpeg:https://annettemorris.art/wp-content/uploads/2020/07/narbonne.jpg
ORGANIZER;CN="Annette Morris":MAILTO:sketch@annettemorris.art
GEO:43.1843;3.0031
END:VEVENT
BEGIN:VEVENT
DTSTART;TZID=Europe/Paris:20210730T093000
DTEND;TZID=Europe/Paris:20210730T123000
DTSTAMP:20260421T073829
CREATED:20200304T171719Z
LAST-MODIFIED:20210725T174657Z
UID:10001407-1627637400-1627648200@annettemorris.art
SUMMARY:Sketching for Beginners\, Narbonne
DESCRIPTION:You don’t need previous art experience to join this fun workshop in Narbonne.  You’ll discover how to plan your pages\, suggest textures and use colours with ink and watercolour on location. \nWorkshop starts 9.30am with a quick warm up sketch over coffee. \nYou will need a sketchbook with paper 160gsm or higher – which can be purchased on the day if you do not have your own. \nWe will also use a black waterproof ink pen\, HB pencil\, basic watercolour kit\, brush and water pot.  A small portable folding stool and comfortable shoes are also recommended. \n 
URL:https://annettemorris.art/event/sketching-for-beginners-narbonne/
LOCATION:Narbonne\, Narbonne\, 11100\, France
CATEGORIES:Sketch Languedoc!,Workshops
ATTACH;FMTTYPE=image/jpeg:https://annettemorris.art/wp-content/uploads/2020/03/IMG_2591-scaled.jpg
ORGANIZER;CN="Annette Morris":MAILTO:sketch@annettemorris.art
GEO:43.1843;3.0031
END:VEVENT
BEGIN:VEVENT
DTSTART;TZID=Europe/Paris:20210720T100000
DTEND;TZID=Europe/Paris:20210720T130000
DTSTAMP:20260421T073829
CREATED:20200302T183716Z
LAST-MODIFIED:20210711T082353Z
UID:10001403-1626775200-1626786000@annettemorris.art
SUMMARY:Awesome Architecture\, Narbonne
DESCRIPTION:Join me in Narbonne for a workshop to explore the magnificent architecture and buildings of this historic and beautiful city. \nYou don’t need previous art or architectural experience to join this workshop – just an interest in travel sketching and learning new skills.  We’ll look at structures and materials\, and how to quickly capture the essence of the buildings using ink and watercolour. \nWorkshop starts 10am with a quick warm up sketch over coffee before exploring various structures around the city. \nYou will need a sketchbook with paper 160gsm or higher – which can be purchased on the day if you do not have your own. \nWe will also use a black waterproof ink pen\, HB pencil\, basic watercolour kit\, brush and water pot.
URL:https://annettemorris.art/event/awesome-architecture-narbonne/
LOCATION:Narbonne\, Narbonne\, 11100\, France
CATEGORIES:Sketch Languedoc!,Workshops
ATTACH;FMTTYPE=image/jpeg:https://annettemorris.art/wp-content/uploads/2018/10/narbonne-urban-landscape-e1562928596194.jpg
ORGANIZER;CN="Annette Morris":MAILTO:sketch@annettemorris.art
GEO:43.1843;3.0031
END:VEVENT
BEGIN:VEVENT
DTSTART;TZID=Europe/Paris:20210622T093000
DTEND;TZID=Europe/Paris:20210622T123000
DTSTAMP:20260421T073829
CREATED:20200304T191013Z
LAST-MODIFIED:20200928T054459Z
UID:10001413-1624354200-1624365000@annettemorris.art
SUMMARY:Fabulous French food
DESCRIPTION:Narbonne market is an ideal location to learn more about fresh local food in this area of France and also how to sketch it! \nThis fun event is suitable for beginners and anyone interested in food illustration\, learning simple techniques with watercolour or learning more about French food and vocabulary. \nPlease bring a pencil and a sketchbook with paper suitable for watercolour. \nWorkshop fee excludes refreshments but includes use of additional sketch materials which will be available on the day. \nTo make the most of the busy marketplace\, workshop starts 9.30am.
URL:https://annettemorris.art/event/fabulous-french-food/
LOCATION:Narbonne\, Narbonne\, 11100\, France
CATEGORIES:Sketch Languedoc!,Workshops
ATTACH;FMTTYPE=image/jpeg:https://annettemorris.art/wp-content/uploads/2018/01/market-veg.jpg
ORGANIZER;CN="Annette Morris":MAILTO:sketch@annettemorris.art
GEO:43.1843;3.0031
END:VEVENT
BEGIN:VEVENT
DTSTART;TZID=Europe/Paris:20200719T093000
DTEND;TZID=Europe/Paris:20200719T123000
DTSTAMP:20260421T073829
CREATED:20200529T082544Z
LAST-MODIFIED:20200712T151656Z
UID:10001430-1595151000-1595161800@annettemorris.art
SUMMARY:Travel Sketching for Beginners
DESCRIPTION:A relaxed and informal introduction to help you get started with travel sketching.  This workshop is ideal for anyone who would like to try sketching but thinks they cannot draw!  In just a few hours you’ll pick up plenty of useful tips and techniques about different materials too.  A great starter course for beginners and a helpful refresher if you’re out of the habit of drawing. \nYou will need a basic sketch kit including sketchbook (smooth paper)\, pencil\, pen with waterproof ink (ie Pitt Artist Pen) and a basic watercolour set with brush. I recommend your paper is minimum 160gsm weight\, and you will also need a water pot and tissues/rag. \nSketch kits are available to pre-purchase and pick-up on the day – please just get in touch if you have any queries about materials.
URL:https://annettemorris.art/event/summer-travel-sketching-for-beginners-narbonne/
LOCATION:Narbonne\, Narbonne\, 11100\, France
CATEGORIES:Sketch Languedoc!,Workshops
ATTACH;FMTTYPE=image/jpeg:https://annettemorris.art/wp-content/uploads/2020/03/IMG_2591-scaled.jpg
ORGANIZER;CN="Annette Morris":MAILTO:sketch@annettemorris.art
GEO:43.1843;3.0031
END:VEVENT
BEGIN:VEVENT
DTSTART;TZID=Europe/Helsinki:20200303T100000
DTEND;TZID=Europe/Helsinki:20200303T120000
DTSTAMP:20260421T073829
CREATED:20191103T102244Z
LAST-MODIFIED:20200228T070252Z
UID:10001350-1583229600-1583236800@annettemorris.art
SUMMARY:Croquis Café: Doorways and Windows
DESCRIPTION:Croquis Café workshops are relaxed 2 hour gatherings in Narbonne to explore new techniques and subjects in an indoor setting. A great way to spend time with friends and learn new skills. No previous art experience is necessary\, just a willingness to have a go! \nYou will need a basic sketch kit including sketchbook (smooth paper)\, pencil\, pen with waterproof ink and a basic watercolour set with brush. I recommend your paper is minimum 160gsm weight\, and you will also need a water pot and tissues/rag. Spare sketch kits are available on loan but if you would like to borrow materials please indicate this on the booking form. \nFor those that wish to stay and continue the sketchbook banter there will be the opportunity to lunch together afterwards (and continue sketching if you wish!) \nPrice:\n25€ per event\nExcludes refreshments. \nPlaces are limited so advanced booking is essential. Please book online below or email me annette@sketchlanguedoc.com \nDates & Locations: \nTuesday 21 January\nWinter Watercolour Florals\nWe’ll explore some essential brush techniques to create beautiful loose floral designs – perfect for cards and gift tags. \nTuesday 4 February\nFood glorious food!\nSketch out your favourite foods or a recipe with interesting page layouts\, bold colours and interesting text. Great practice for travel journaling! \nTuesday 18 February\nThe Eyes have it\nLearn about the structure of the eyes and how emotions and age can be conveyed through drawing them in different ways – there’ll be plenty of laughs as we create pages of expressions in our sketchbooks! \nTuesday 3 March\nDoorways and Windows\nWhen sketching a building some of the most interesting features will include windows and doorways. They give character\, depth\, colour and an element of intrigue about what may lie behind – day or night! \n 
URL:https://annettemorris.art/event/croquis-cafe-doorways-and-windows-narbonne/
LOCATION:Narbonne\, Narbonne\, 11100\, France
CATEGORIES:Sketch Languedoc!,Workshops
ATTACH;FMTTYPE=image/jpeg:https://annettemorris.art/wp-content/uploads/2019/09/window_126200184_l-2015-e1572435618343.jpg
ORGANIZER;CN="Annette Morris":MAILTO:sketch@annettemorris.art
GEO:43.1843;3.0031
END:VEVENT
BEGIN:VEVENT
DTSTART;TZID=Europe/Helsinki:20200218T100000
DTEND;TZID=Europe/Helsinki:20200218T120000
DTSTAMP:20260421T073829
CREATED:20191102T220038Z
LAST-MODIFIED:20200216T114516Z
UID:10001348-1582020000-1582027200@annettemorris.art
SUMMARY:Croquis Café: The eyes have it
DESCRIPTION:Croquis Café workshops are relaxed 2 hour gatherings in Narbonne to explore new techniques and subjects in an indoor setting. A great way to spend time with friends and learn new skills. No previous art experience is necessary\, just a willingness to have a go! \nYou will need a basic sketch kit including sketchbook (smooth paper)\, pencil\, pen with waterproof ink and a basic watercolour set with brush. I recommend your paper is minimum 160gsm weight\, and you will also need a water pot and tissues/rag. Spare sketch kits are available on loan but if you would like to borrow materials please indicate this on the booking form. \nFor those that wish to stay and continue the sketchbook banter there will be the opportunity to lunch together afterwards (and continue sketching if you wish!) \nPrice:\n25€ per event\, or 60€ for the series of 4 if booked before 11/12/2019\nExcludes refreshments. \nClick here to book the series of 4
URL:https://annettemorris.art/event/croquis-cafe-the-eyes-have-it/
LOCATION:Narbonne\, Narbonne\, 11100\, France
CATEGORIES:Sketch Languedoc!,Workshops
ATTACH;FMTTYPE=image/jpeg:https://annettemorris.art/wp-content/uploads/2019/11/eyes-workshop.jpg
ORGANIZER;CN="Annette Morris":MAILTO:sketch@annettemorris.art
GEO:43.1843;3.0031
END:VEVENT
BEGIN:VEVENT
DTSTART;TZID=Europe/Helsinki:20200204T100000
DTEND;TZID=Europe/Helsinki:20200204T120000
DTSTAMP:20260421T073829
CREATED:20191103T084409Z
LAST-MODIFIED:20200127T194351Z
UID:10001349-1580810400-1580817600@annettemorris.art
SUMMARY:Croquis Café: Food glorious food!
DESCRIPTION:Croquis Café workshops are relaxed 2 hour gatherings in Narbonne to explore new techniques and subjects in an indoor setting. A great way to spend time with friends and learn new skills. No previous art experience is necessary\, just a willingness to have a go! \nYou will need a basic sketch kit including sketchbook (smooth paper)\, pencil\, pen with waterproof ink and a basic watercolour set with brush. I recommend your paper is minimum 160gsm weight\, and you will also need a water pot and tissues/rag. Spare sketch kits are available on loan but if you would like to borrow materials please indicate this on the booking form. \nFor those that wish to stay and continue the sketchbook banter there will be the opportunity to lunch together afterwards (and continue sketching if you wish!) \nPrice:\n25€ per event  \nPlaces are limited so advanced booking is essential. Please book online below or email me annette@sketchlanguedoc.com \nDates & Locations: \nTuesday 21 January\nWinter Watercolour Florals\nWe’ll explore some essential brush techniques to create beautiful loose floral designs – perfect for cards and gift tags. \nTuesday 4 February\nFood glorious food!\nSketch out your favourite foods or a recipe with interesting page layouts\, bold colours and interesting text. Great practice for travel journaling! \nTuesday 18 February\nThe Eyes have it\nLearn about the structure of the eyes and how emotions and age can be conveyed through drawing them in different ways – there’ll be plenty of laughs as we create pages of expressions in our sketchbooks! \nTuesday 3 March\nDoorways and Windows\nWhen sketching a building some of the most interesting features will include windows and doorways. They give character\, depth\, colour and an element of intrigue about what may lie behind – day or night!
URL:https://annettemorris.art/event/croquis-cafe-food-glorious-food/
LOCATION:Narbonne\, Narbonne\, 11100\, France
CATEGORIES:Sketch Languedoc!,Workshops
ATTACH;FMTTYPE=image/jpeg:https://annettemorris.art/wp-content/uploads/2019/11/egg.jpg
ORGANIZER;CN="Annette Morris":MAILTO:sketch@annettemorris.art
GEO:43.1843;3.0031
END:VEVENT
BEGIN:VEVENT
DTSTART;TZID=Europe/Helsinki:20200121T100000
DTEND;TZID=Europe/Helsinki:20200121T120000
DTSTAMP:20260421T073829
CREATED:20191102T213634Z
LAST-MODIFIED:20200117T132231Z
UID:10001337-1579600800-1579608000@annettemorris.art
SUMMARY:Croquis Café: Winter Watercolour Florals
DESCRIPTION:Croquis Café workshops are relaxed 2 hour gatherings in Narbonne to explore new techniques and subjects in an indoor setting. A great way to spend time with friends and learn new skills. No previous art experience is necessary\, just a willingness to have a go! \nYou will need a basic sketch kit including sketchbook (smooth paper)\, pencil\, pen with waterproof ink and a basic watercolour set with brush. I recommend your paper is minimum 160gsm weight\, and you will also need a water pot and tissues/rag. Spare sketch kits are available on loan but if you would like to borrow materials please indicate this on the booking form. \nFor those that wish to stay and continue the sketchbook banter there will be the opportunity to lunch together afterwards (and continue sketching if you wish!) \nPrice:\n25€ per event.\nExcludes refreshments. \nPlaces are limited so advanced booking is essential. Please book online below or email me annette@sketchlanguedoc.com \nDates & Locations: \nTuesday 21 January\nWinter Watercolour Florals\nWe’ll explore some essential brush techniques to create beautiful loose floral designs – perfect for cards and gift tags. \nTuesday 4 February\nFood glorious food!\nSketch out your favourite foods or a recipe with interesting page layouts\, bold colours and interesting text. Great practice for travel journaling! \nTuesday 18 February\nThe Eyes have it\nLearn about the structure of the eyes and how emotions and age can be conveyed through drawing them in different ways – there’ll be plenty of laughs as we create pages of expressions in our sketchbooks! \nTuesday 3 March\nDoorways and Windows\nWhen sketching a building some of the most interesting features will include windows and doorways. They give character\, depth\, colour and an element of intrigue about what may lie behind – day or night! \n 
URL:https://annettemorris.art/event/croquis-cafe-winter-watercolour-florals-narbonne/
LOCATION:Narbonne\, Narbonne\, 11100\, France
CATEGORIES:Sketch Languedoc!,Workshops
ATTACH;FMTTYPE=image/png:https://annettemorris.art/wp-content/uploads/2019/10/flower-bouquet-10-e1572442752842.png
ORGANIZER;CN="Annette Morris":MAILTO:sketch@annettemorris.art
GEO:43.1843;3.0031
END:VEVENT
BEGIN:VEVENT
DTSTART;TZID=Europe/Helsinki:20200104T100000
DTEND;TZID=Europe/Helsinki:20200104T130000
DTSTAMP:20260421T073829
CREATED:20191102T212650Z
LAST-MODIFIED:20191231T051233Z
UID:10001338-1578132000-1578142800@annettemorris.art
SUMMARY:Happy New Sketch Year 2020!
DESCRIPTION:The first sketch workshop of 2020 takes place in the wonderful city of Narbonne! \nWe’ll have some fun ‘thinking big & sketching small!’ – creating a collection of beautiful sketches during the morning. \nYou will need a basic sketch kit including a pencil\, waterproof fineliner ink pen\, watercolours\, water pot and brush. \nMaterials will be available on loan if required. \nBookings close 31 December 2019.
URL:https://annettemorris.art/event/happy-new-sketch-year-2020/
LOCATION:Narbonne\, Narbonne\, 11100\, France
CATEGORIES:Sketch Languedoc!,Workshops
ATTACH;FMTTYPE=image/jpeg:https://annettemorris.art/wp-content/uploads/2017/07/narbonne-1522705_1920.jpg
ORGANIZER;CN="Annette Morris":MAILTO:sketch@annettemorris.art
GEO:43.1843;3.0031
END:VEVENT
BEGIN:VEVENT
DTSTART;TZID=Europe/Helsinki:20191027T100000
DTEND;TZID=Europe/Helsinki:20191027T160000
DTSTAMP:20260421T073829
CREATED:20190929T172118Z
LAST-MODIFIED:20190929T172118Z
UID:10001308-1572170400-1572192000@annettemorris.art
SUMMARY:USk Sketchwalk - Narbonne
DESCRIPTION:
URL:http://facebook.com/groups/sketchlanguedoc/events#new_tab
LOCATION:Narbonne\, Narbonne\, 11100\, France
CATEGORIES:Sketch Languedoc!,Urban Sketchers
ATTACH;FMTTYPE=image/jpeg:https://annettemorris.art/wp-content/uploads/2019/09/USk-logo-LR.jpg
ORGANIZER;CN="USk Languedoc":MAILTO:usk@sketchlanguedoc.com
GEO:43.1843;3.0031
END:VEVENT
BEGIN:VEVENT
DTSTART;TZID=Europe/Helsinki:20190925T100000
DTEND;TZID=Europe/Helsinki:20190925T130000
DTSTAMP:20260421T073829
CREATED:20190901T152800Z
LAST-MODIFIED:20190922T141309Z
UID:10001298-1569405600-1569416400@annettemorris.art
SUMMARY:Street Food and Sketchbooks!
DESCRIPTION:Cours en anglais et/ou français! \nLa Fringale is a super location for this fun event suitable for beginners and anyone interested in food illustration or learning simple techniques with watercolour. \nPlease bring a pencil and a sketchbook with paper suitable for watercolour. \nWorkshop fee excludes refreshments and lunch but includes use of additional sketch materials which will be available on the day.
URL:https://annettemorris.art/event/street-food-and-sketchbooks/
LOCATION:Narbonne\, Narbonne\, 11100\, France
CATEGORIES:Sketch Languedoc!,Workshops
ATTACH;FMTTYPE=image/jpeg:https://annettemorris.art/wp-content/uploads/2019/09/street-food-sketching.jpg
ORGANIZER;CN="Annette Morris":MAILTO:sketch@annettemorris.art
GEO:43.1843;3.0031
END:VEVENT
END:VCALENDAR