BEGIN:VCALENDAR
VERSION:2.0
PRODID:-//Annette Morris Art - ECPv6.9.0//NONSGML v1.0//EN
CALSCALE:GREGORIAN
METHOD:PUBLISH
X-WR-CALNAME:Annette Morris Art
X-ORIGINAL-URL:https://annettemorris.art
X-WR-CALDESC:Events for Annette Morris Art
REFRESH-INTERVAL;VALUE=DURATION:PT1H
X-Robots-Tag:noindex
X-PUBLISHED-TTL:PT1H
BEGIN:VTIMEZONE
TZID:Europe/Paris
BEGIN:DAYLIGHT
TZOFFSETFROM:+0100
TZOFFSETTO:+0200
TZNAME:CEST
DTSTART:20230326T010000
END:DAYLIGHT
BEGIN:STANDARD
TZOFFSETFROM:+0200
TZOFFSETTO:+0100
TZNAME:CET
DTSTART:20231029T010000
END:STANDARD
END:VTIMEZONE
BEGIN:VEVENT
DTSTART;TZID=Europe/Paris:20230218T103000
DTEND;TZID=Europe/Paris:20230218T120000
DTSTAMP:20260421T051435
CREATED:20230101T101932Z
LAST-MODIFIED:20230101T101939Z
UID:10001728-1676716200-1676721600@annettemorris.art
SUMMARY:Sketching France - Moustiers-Sainte-Marie
DESCRIPTION:A virtual meet-up with members of the Sketching France group! See http://facebook.com/groups/sketchingfrance.online/events
URL:https://annettemorris.art/event/sketching-france-moustiers-sainte-marie-2/
LOCATION:Online
CATEGORIES:Online Events,Sketching France
ATTACH;FMTTYPE=image/jpeg:https://annettemorris.art/wp-content/uploads/2022/08/moustiers-scaled.jpg
ORGANIZER;CN="Annette Morris":MAILTO:sketch@annettemorris.art
END:VEVENT
END:VCALENDAR