BEGIN:VCALENDAR
VERSION:2.0
PRODID:-//Annette Morris Art - ECPv6.9.0//NONSGML v1.0//EN
CALSCALE:GREGORIAN
METHOD:PUBLISH
X-ORIGINAL-URL:https://annettemorris.art
X-WR-CALDESC:Events for Annette Morris Art
REFRESH-INTERVAL;VALUE=DURATION:PT1H
X-Robots-Tag:noindex
X-PUBLISHED-TTL:PT1H
BEGIN:VTIMEZONE
TZID:UTC
BEGIN:STANDARD
TZOFFSETFROM:+0000
TZOFFSETTO:+0000
TZNAME:UTC
DTSTART:20190101T000000
END:STANDARD
TZID:Europe/Paris
BEGIN:DAYLIGHT
TZOFFSETFROM:+0100
TZOFFSETTO:+0200
TZNAME:CEST
DTSTART:20200329T010000
END:DAYLIGHT
BEGIN:STANDARD
TZOFFSETFROM:+0200
TZOFFSETTO:+0100
TZNAME:CET
DTSTART:20201025T010000
END:STANDARD
BEGIN:DAYLIGHT
TZOFFSETFROM:+0100
TZOFFSETTO:+0200
TZNAME:CEST
DTSTART:20210328T010000
END:DAYLIGHT
BEGIN:STANDARD
TZOFFSETFROM:+0200
TZOFFSETTO:+0100
TZNAME:CET
DTSTART:20211031T010000
END:STANDARD
BEGIN:DAYLIGHT
TZOFFSETFROM:+0100
TZOFFSETTO:+0200
TZNAME:CEST
DTSTART:20220327T010000
END:DAYLIGHT
BEGIN:STANDARD
TZOFFSETFROM:+0200
TZOFFSETTO:+0100
TZNAME:CET
DTSTART:20221030T010000
END:STANDARD
BEGIN:DAYLIGHT
TZOFFSETFROM:+0100
TZOFFSETTO:+0200
TZNAME:CEST
DTSTART:20230326T010000
END:DAYLIGHT
BEGIN:STANDARD
TZOFFSETFROM:+0200
TZOFFSETTO:+0100
TZNAME:CET
DTSTART:20231029T010000
END:STANDARD
TZID:Europe/Helsinki
BEGIN:DAYLIGHT
TZOFFSETFROM:+0200
TZOFFSETTO:+0300
TZNAME:EEST
DTSTART:20200329T010000
END:DAYLIGHT
BEGIN:STANDARD
TZOFFSETFROM:+0300
TZOFFSETTO:+0200
TZNAME:EET
DTSTART:20201025T010000
END:STANDARD
BEGIN:DAYLIGHT
TZOFFSETFROM:+0200
TZOFFSETTO:+0300
TZNAME:EEST
DTSTART:20210328T010000
END:DAYLIGHT
BEGIN:STANDARD
TZOFFSETFROM:+0300
TZOFFSETTO:+0200
TZNAME:EET
DTSTART:20211031T010000
END:STANDARD
BEGIN:DAYLIGHT
TZOFFSETFROM:+0200
TZOFFSETTO:+0300
TZNAME:EEST
DTSTART:20220327T010000
END:DAYLIGHT
BEGIN:STANDARD
TZOFFSETFROM:+0300
TZOFFSETTO:+0200
TZNAME:EET
DTSTART:20221030T010000
END:STANDARD
END:VTIMEZONE
BEGIN:VEVENT
DTSTART;TZID=UTC:20191030T100000
DTEND;TZID=UTC:20191030T130000
DTSTAMP:20260421T194331
CREATED:20170701T074922Z
LAST-MODIFIED:20191114T073655Z
UID:10001273-1572429600-1572440400@annettemorris.art
SUMMARY:Autumn landscapes
DESCRIPTION:A chance to really explore and make the most of your colour palette with this glorious workshop sketching the area in and around Montouliers.  Learn how to use watercolour with more confidence when sketching.  \nPlease bring a sketchbook suitable for watercolour (min 160gsm) and a pencil.  Materials can be provided if you do not have your own.
URL:https://annettemorris.art/event/autumn-landscapes/
LOCATION:Montouliers\, Montouliers\, 34310\, France
CATEGORIES:Du Canal du Midi au St Chinian,Workshops
ATTACH;FMTTYPE=image/jpeg:https://annettemorris.art/wp-content/uploads/2019/07/beryl.jpg
ORGANIZER;CN="Annette Morris":MAILTO:sketch@annettemorris.art
GEO:43.3355;2.9068
END:VEVENT
BEGIN:VEVENT
DTSTART;TZID=Europe/Paris:20200819T093000
DTEND;TZID=Europe/Paris:20200819T123000
DTSTAMP:20260421T194331
CREATED:20200304T181640Z
LAST-MODIFIED:20200927T193938Z
UID:10001410-1597829400-1597840200@annettemorris.art
SUMMARY:Sketching for Beginners
DESCRIPTION:You don’t need previous art experience to join this fun workshop in the quaint & charming village of Montouliers. You’ll discover how to plan your pages\, suggest textures and use colours with ink and watercolour on location. \nWorkshop starts 9.30am with a quick warm up sketch over coffee. \nYou will need a sketchbook with paper 160gsm or higher – which can be purchased on the day if you do not have your own. \nWe will also use a black waterproof ink pen\, HB pencil\, basic watercolour kit\, brush and water pot. A small portable folding stool and comfortable shoes are also recommended.
URL:https://annettemorris.art/event/montouliers-beginners/
LOCATION:Montouliers\, Montouliers\, 34310\, France
CATEGORIES:Du Canal du Midi au St Chinian,Sketch Languedoc!,Workshops
ATTACH;FMTTYPE=image/jpeg:https://annettemorris.art/wp-content/uploads/2020/03/montouliers.jpg
ORGANIZER;CN="Annette Morris":MAILTO:sketch@annettemorris.art
GEO:43.3355;2.9068
END:VEVENT
BEGIN:VEVENT
DTSTART;TZID=Europe/Helsinki:20201030T160000
DTEND;TZID=Europe/Helsinki:20201102T100000
DTSTAMP:20260421T194331
CREATED:20191102T132819Z
LAST-MODIFIED:20201025T092041Z
UID:10001334-1604073600-1604311200@annettemorris.art
SUMMARY:Sketch notes from the wine harvest
DESCRIPTION:Ideal for: A weekend break\, Walking\, Wine-tasting\, Photography\, Cycling \n\nAfter ‘les vendanges’\, this weekend sketch break we’ll be based in the historic village of Montouliers – located in the heart of Languedoc’s Minervois wine-growing region. \nWe’ll start by getting to grips with some of the basics of travel sketching with ink and watercolour – ideal for beginners or a great refresher if you’ve already got some drawing or painting experience. We’ll be exploring the village and surrounding area through our sketches\, learning a whole pack of tips and tricks about perspective\, colour\, journaling and of course\, tasting some of the local produce! \nThe holiday starts on Friday evening with a welcome drink at 6pm. We shall start sketching at 9.30am on Saturday finishing at approximately 4.30pm.  On Sunday we will sketch from 10am through to 1pm and the afternoon is yours to enjoy\, relax\, explore\, or sketch some more! \n \nWhere to stay: \nLa Calade is a newly renovated Chambre d’hôtes with 4 beautiful first floor bedrooms. All rooms have original features and beautiful private bathrooms. There is also a communal kitchen/dining area for guests to prepare their own meals if necessary. \nTransport recommendations:\nFly to Béziers\, Carcassonne\, Perpignan or Montpellier\nClosest railway station: Narbonne\nWe suggest you hire a car but airport pick-up can be arranged if necessary. \nIf you have any questions about the accommodation please email your hosts Natalie and Robert info@lacalade.fr \nWhat to bring:\nSketchbook\, Portable sketching stool\, Basic watercolour travel set\, Watercolour brush\, HB/B/2B pencil\, eraser\, sharpener. A detailed materials list will be sent with booking confirmation or by request. Simply email annette@sketchlanguedoc.com for full details. If you need to use a sketch kit on loan\, this can also be arranged in advance. \nAdditional notes:\nMontouliers is a hilltop village and there will be some walking up and down steps\, so please wear comfortable footwear and bring a waterproof in the event of inclement weather. \nPrices: \nDouble room (sole occupancy): 345€\nDouble room (1 sketcher + 1 non-sketcher sharing): 390€\nTwin room (2 sketchers sharing): 270€ per person\nSuite (2 sketchers sharing): 270€ per person \nA 100€ deposit will secure you booking. The balance is payable by bank transfer 30 days before the holiday starts. \nPrices include 10 hours sketch tuition\, bed and breakfast but exclude other meals\, refreshments and transport. \nIf you would like more information before booking – please email me annette@sketchlanguedoc.com
URL:https://annettemorris.art/event/notes-from-the-wine-harvest/
LOCATION:La Calade\, Montouliers\, 34310\, France
CATEGORIES:Du Canal du Midi au St Chinian,France,Languedoc,Sketch Holidays,Weekend Breaks
ATTACH;FMTTYPE=image/jpeg:https://annettemorris.art/wp-content/uploads/2019/11/grapes-3665416_1920.jpg
ORGANIZER;CN="Annette Morris":MAILTO:sketch@annettemorris.art
END:VEVENT
BEGIN:VEVENT
DTSTART;TZID=Europe/Paris:20210602T093000
DTEND;TZID=Europe/Paris:20210602T120000
DTSTAMP:20260421T194331
CREATED:20210525T162752Z
LAST-MODIFIED:20210525T162752Z
UID:10001516-1622626200-1622635200@annettemorris.art
SUMMARY:USk Languedoc - Montouliers
DESCRIPTION:Meet up with other members of Urban Sketchers Languedoc – details in the Facebook group https://www.facebook.com/groups/urbansketcherslanguedoc/events
URL:https://annettemorris.art/event/usk-languedoc-montouliers/
LOCATION:Montouliers\, Montouliers\, 34310\, France
CATEGORIES:Urban Sketchers
ATTACH;FMTTYPE=image/jpeg:https://annettemorris.art/wp-content/uploads/2018/10/USk-logo-LR.jpg
ORGANIZER;CN="Annette Morris":MAILTO:sketch@annettemorris.art
GEO:43.3355;2.9068
END:VEVENT
BEGIN:VEVENT
DTSTART;TZID=Europe/Paris:20211022T100000
DTEND;TZID=Europe/Paris:20211022T130000
DTSTAMP:20260421T194331
CREATED:20200712T142743Z
LAST-MODIFIED:20211003T165357Z
UID:10001451-1634896800-1634907600@annettemorris.art
SUMMARY:Autumn Views
DESCRIPTION:This workshop based in Montouliers looks at ways to capture the changing colours of the landscape. \nYou don’t need previous art experience to take part – step-by-step you will learn how to plan your pages and simple ways to work with ink and watercolour on location. \nWorkshop starts 10.00am. \nYou will need a sketchbook with paper 160gsm or higher – which can be purchased on the day if you do not have your own. \nWe will also use a black waterproof ink pen\, HB pencil\, basic watercolour kit\, brush and water pot. \nA portable folding stool is also recommended.
URL:https://annettemorris.art/event/autumn-views/
LOCATION:Montouliers\, Montouliers\, 34310\, France
CATEGORIES:Du Canal du Midi au St Chinian,Sketch Languedoc!,Workshops
ORGANIZER;CN="Annette Morris":MAILTO:sketch@annettemorris.art
GEO:43.3355;2.9068
END:VEVENT
BEGIN:VEVENT
DTSTART;TZID=Europe/Paris:20211110T180000
DTEND;TZID=Europe/Paris:20211110T193000
DTSTAMP:20260421T194331
CREATED:20211110T170000Z
LAST-MODIFIED:20211203T065459Z
UID:10001553-1636567200-1636572600@annettemorris.art
SUMMARY:Urban Sketching Streets in Southern France
DESCRIPTION:Take your urban sketching to the streets of Southern France in this 90-minute interactive mini-workshop in conjunction with EtchrStudio! \nLearn ways to capture the essence of any environment. You’ll learn to simplify a mix of complex shapes and textures to develop your confidence with loose ink lines and layers of bright watercolour! \nThis Live Workshop is for beginner to intermediate artists. Secure your spot today by purchasing via EtchrStudio >> https://etchrstudio.com/products/annette-morris-miniworkshop-november-10 \nIn the Mini Workshop art class\, we will cover: \n\nCapturing the essence of the environment\nSimplifying a mix of complex shapes and textures\nWorking through the sense of “overwhelm”\nMixing vibrant colours\n\nRegister today!
URL:https://annettemorris.art/event/urban-sketching-streets-in-southern-france/
LOCATION:Online
CATEGORIES:Live,Online Events,Sketch Languedoc!,Sketching France,Workshops
ATTACH;FMTTYPE=image/jpeg:https://annettemorris.art/wp-content/uploads/2021/10/MW_AnnetteMorris_newsletter.jpeg
ORGANIZER;CN="Etchr Studio":MAILTO:hello@etchrstudio.com
END:VEVENT
BEGIN:VEVENT
DTSTART;TZID=Europe/Helsinki:20220909T180000
DTEND;TZID=Europe/Helsinki:20220911T130000
DTSTAMP:20260421T194331
CREATED:20220909T160000Z
LAST-MODIFIED:20221026T053558Z
UID:10001333-1662746400-1662901200@annettemorris.art
SUMMARY:French Village & Vineyard Views
DESCRIPTION:Ideal for: A weekend break\, Walking\, Wine-tasting\, Photography\, Cycling \n\nFor this weekend break we’ll be based in the historic village of Montouliers – located in the heart of Languedoc’s Minervois wine-growing region. We’ll start by getting to grips with some of the basics of travel sketching with ink and watercolour – ideal for beginners or a great refresher if you’ve already got some drawing or painting experience. We’ll be exploring the village and surrounding area through our sketches\, learning a whole pack of tips and tricks about perspective\, colour\, journaling and of course\, tasting some of the local produce! \nThe holiday starts on Friday evening with a welcome drink at 6pm. We shall start sketching at 9.30am on Saturday finishing at approximately 4.30pm.  On Sunday we will sketch from 10am through to 1pm and the afternoon is yours to enjoy\, relax\, explore\, or sketch some more! \n \nWhere to stay: \nLa Calade is a newly renovated Chambre d’hôtes with 4 beautiful first floor bedrooms. All rooms have original features and beautiful private bathrooms. There is also a communal kitchen/dining area for guests to prepare their own meals if necessary. \nIf you have any questions about the accommodation or would like to book\, please email your hosts Natalie and Robert info@lacalade.fr \n\nRoom prices: \nDouble room (sole occupancy): 195€\nDouble room (2 guests): 270€\nTwin room (2 guests): 240€\nSuite (2 guests): 240€\nA 100€ deposit will secure your accommodation. The balance is payable by bank transfer 30 days before the holiday starts. \nTransport recommendations:\nFly to Béziers\, Carcassonne\, Perpignan or Montpellier\nClosest railway station: Narbonne\nWe suggest you hire a car but airport pick-up can be arranged if necessary. \nWhat to bring:\nSketchbook\, Portable sketching stool\, Basic watercolour travel set\, Watercolour brush\, HB/B/2B pencil\, eraser\, sharpener. A detailed materials list will be sent with booking confirmation or by request. Simply email annette@sketchlanguedoc.com for full details. If you need to use a sketch kit on loan\, this can also be arranged in advance. \nAdditional notes:\nMontouliers is a hilltop village and there will be some walking up and down steps\, so please wear comfortable footwear and bring a waterproof in the event of inclement weather. \nWeekend sketching fee: 180€ per person (includes 10 hours sketch tuition\, excludes bed and breakfast but exclude other meals\, refreshments and transport).\nSaturday workshop only: 95€ per person \nIf you would like more information before booking – please email me annette@sketchlanguedoc.com
URL:https://annettemorris.art/event/french-vineyard-views/
LOCATION:La Calade\, Montouliers\, 34310\, France
CATEGORIES:France,Languedoc,Sketch Holidays,Sketch Languedoc!,Sketching France,Sketching holidays 2022,Weekend Breaks,Workshops
ATTACH;FMTTYPE=image/jpeg:https://annettemorris.art/wp-content/uploads/2021/09/bed-breakfast-montouliers.jpg
ORGANIZER;CN="Annette Morris":MAILTO:sketch@annettemorris.art
END:VEVENT
BEGIN:VEVENT
DTSTART;TZID=Europe/Paris:20230726T100000
DTEND;TZID=Europe/Paris:20230726T120000
DTSTAMP:20260421T194331
CREATED:20221229T102223Z
LAST-MODIFIED:20230111T110109Z
UID:10001824-1690365600-1690372800@annettemorris.art
SUMMARY:Nos 17 Villages: Montouliers
DESCRIPTION:These relaxed morning sketch walks invite you to discover and draw the 17 villages of Canal Lirou.\nThe morning includes a sketch demonstration and guidance on applying watercolour to your own drawings. \nThese sessions are ideal if you are new to sketching\, or lack the confidence to sketch on location on your own.  They are also a great opportunity to discover some lesser known locations right in the heart of Languedoc! \nYou will need a sketchbook\, pencil\, ink pen (waterproof ink)\, watercolours\, water & water pot and tissues/rag.  A portable folding chair or stool is strongly advised. \n(For a small additional charge\, a complete sketch kit can be provided on loan) \nProgramme \nWednesday 24 May – Montels\nWednesday 31 May – Babeau-Bouldoux\nWednesday 14 June – Prades-sur-Vernazobre\nWednesday 21 June – Capestang\nWednesday 28 June – Saint-Chinian\nWednesday 12 July – Creissan\nWednesday 19 July – Cessenon-sur-Orb\nWednesday 26 July – Montouliers\nWednesday 9 August – Cébazan\nWednesday 16 August – Puisserguier\nWednesday 23 August – Quarante\nWednesday 30 August – Assignan\nWednesday 13 September – Pierrerue\nWednesday 27 September – Poilhes\nWednesday 11 October – Cazedarnes\nWednesday 18 October – Cruzy\nWednesday 25 October – Villespassans \nPlease note that some locations do not have cafés or public toilets.  \n25€ per workshop – advanced booking essential
URL:https://annettemorris.art/product/du-canal-du-midi-au-saint-chinian-2023/
CATEGORIES:Du Canal du Midi au St Chinian,Sketch Languedoc!,Soldes Hiver,Workshops
ATTACH;FMTTYPE=image/jpeg:https://annettemorris.art/wp-content/uploads/2022/12/17-villages.jpeg
END:VEVENT
END:VCALENDAR