BEGIN:VCALENDAR
VERSION:2.0
PRODID:-//Annette Morris Art - ECPv6.9.0//NONSGML v1.0//EN
CALSCALE:GREGORIAN
METHOD:PUBLISH
X-ORIGINAL-URL:https://annettemorris.art
X-WR-CALDESC:Events for Annette Morris Art
REFRESH-INTERVAL;VALUE=DURATION:PT1H
X-Robots-Tag:noindex
X-PUBLISHED-TTL:PT1H
BEGIN:VTIMEZONE
TZID:Europe/Paris
BEGIN:DAYLIGHT
TZOFFSETFROM:+0100
TZOFFSETTO:+0200
TZNAME:CEST
DTSTART:20210328T010000
END:DAYLIGHT
BEGIN:STANDARD
TZOFFSETFROM:+0200
TZOFFSETTO:+0100
TZNAME:CET
DTSTART:20211031T010000
END:STANDARD
END:VTIMEZONE
BEGIN:VEVENT
DTSTART;TZID=Europe/Paris:20211020T120000
DTEND;TZID=Europe/Paris:20211020T133000
DTSTAMP:20260420T113110
CREATED:20210807T125530Z
LAST-MODIFIED:20210914T055227Z
UID:10001547-1634731200-1634736600@annettemorris.art
SUMMARY:Sketching France - Monpazier
DESCRIPTION:A virtual meet-up with members of the Sketching France group! See http://facebook.com/groups/sketchingfrance.online/events
URL:https://annettemorris.art/event/sketching-france-monpazier/
LOCATION:Online
CATEGORIES:Sketching France
ORGANIZER;CN="Annette Morris":MAILTO:sketch@annettemorris.art
END:VEVENT
END:VCALENDAR