BEGIN:VCALENDAR
VERSION:2.0
PRODID:-//Annette Morris Art - ECPv6.9.0//NONSGML v1.0//EN
CALSCALE:GREGORIAN
METHOD:PUBLISH
X-ORIGINAL-URL:https://annettemorris.art
X-WR-CALDESC:Events for Annette Morris Art
REFRESH-INTERVAL;VALUE=DURATION:PT1H
X-Robots-Tag:noindex
X-PUBLISHED-TTL:PT1H
BEGIN:VTIMEZONE
TZID:UTC
BEGIN:STANDARD
TZOFFSETFROM:+0000
TZOFFSETTO:+0000
TZNAME:UTC
DTSTART:20190101T000000
END:STANDARD
END:VTIMEZONE
BEGIN:VEVENT
DTSTART;TZID=UTC:20191026T100000
DTEND;TZID=UTC:20191026T170000
DTSTAMP:20260421T190909
CREATED:20180707T094936Z
LAST-MODIFIED:20200927T174007Z
UID:10001284-1572084000-1572109200@annettemorris.art
SUMMARY:People in the city - Montpellier
DESCRIPTION:A city without citizens is just an empty shell. But people aren’t easy to capture: they come and go\, keep moving in unexpected ways\, they are just… alive! \nThis workshop with Mat Let is designed to help attendees capture this life and bring it to their drawings. We will go through basic anatomy and then learn how to observe and reproduce poses of models who don’t know they are being sketched. \nWe will learn to capture people and their attitudes in daily life situations and to include them in a bigger sketch to place them in their urban context. \nThe whole workshop will be given in English and French.  There will be a workshop break between 12h30 and 14h00 and the option to lunch with the group or make your own arrangements. \nTo book a spot please send an email to Mat Let directly via letellier.m@gmail.com. A 60€ payment through Paypal or bank transfer will guarantee your place. \nPlease note this workshop will be cancelled if the minimum number is not reached.
URL:https://annettemorris.art/event/people-in-the-city-montpellier/
LOCATION:Montpellier\, Montpellier\, 34000\, France
CATEGORIES:Sketch Languedoc!,Urban Sketchers,Workshops
ATTACH;FMTTYPE=image/jpeg:https://annettemorris.art/wp-content/uploads/2018/07/peopleinthecity.jpg
ORGANIZER;CN="Mat Let":MAILTO:letellier.m@gmail.com
GEO:43.6108;3.8767
END:VEVENT
END:VCALENDAR