BEGIN:VCALENDAR
VERSION:2.0
PRODID:-//Annette Morris Art - ECPv6.9.0//NONSGML v1.0//EN
CALSCALE:GREGORIAN
METHOD:PUBLISH
X-WR-CALNAME:Annette Morris Art
X-ORIGINAL-URL:https://annettemorris.art
X-WR-CALDESC:Events for Annette Morris Art
REFRESH-INTERVAL;VALUE=DURATION:PT1H
X-Robots-Tag:noindex
X-PUBLISHED-TTL:PT1H
BEGIN:VTIMEZONE
TZID:Europe/Paris
BEGIN:DAYLIGHT
TZOFFSETFROM:+0100
TZOFFSETTO:+0200
TZNAME:CEST
DTSTART:20210328T010000
END:DAYLIGHT
BEGIN:STANDARD
TZOFFSETFROM:+0200
TZOFFSETTO:+0100
TZNAME:CET
DTSTART:20211031T010000
END:STANDARD
END:VTIMEZONE
BEGIN:VEVENT
DTSTART;TZID=Europe/Paris:20210306T103000
DTEND;TZID=Europe/Paris:20210306T120000
DTSTAMP:20260421T123830
CREATED:20210301T094501Z
LAST-MODIFIED:20210301T094501Z
UID:10001470-1615026600-1615032000@annettemorris.art
SUMMARY:Sketching France - Marseille
DESCRIPTION:Join other members of Sketching France for a virtual coffee on Zoom from 10.30am 6 March \nJoin Zoom Meeting\nhttps://us02web.zoom.us/j/85020090586?pwd=ZGxmOGJZTEpjalhyVnVGNGh3YlpDZz09 \nMeeting ID: 850 2009 0586\nPasscode: 347136 \nThe theme will be Marseille so find a copyright-free photo that you would like to sketch – and join us – no need to book!
URL:https://annettemorris.art/event/sketching-france-marseille/
LOCATION:Online
CATEGORIES:Online Events,Sketching France
ATTACH;FMTTYPE=image/jpeg:https://annettemorris.art/wp-content/uploads/2021/03/marseille-scaled.jpg
ORGANIZER;CN="Annette Morris":MAILTO:sketch@annettemorris.art
END:VEVENT
END:VCALENDAR