BEGIN:VCALENDAR
VERSION:2.0
PRODID:-//Annette Morris Art - ECPv6.9.0//NONSGML v1.0//EN
CALSCALE:GREGORIAN
METHOD:PUBLISH
X-WR-CALNAME:Annette Morris Art
X-ORIGINAL-URL:https://annettemorris.art
X-WR-CALDESC:Events for Annette Morris Art
REFRESH-INTERVAL;VALUE=DURATION:PT1H
X-Robots-Tag:noindex
X-PUBLISHED-TTL:PT1H
BEGIN:VTIMEZONE
TZID:Europe/Helsinki
BEGIN:DAYLIGHT
TZOFFSETFROM:+0200
TZOFFSETTO:+0300
TZNAME:EEST
DTSTART:20210328T010000
END:DAYLIGHT
BEGIN:STANDARD
TZOFFSETFROM:+0300
TZOFFSETTO:+0200
TZNAME:EET
DTSTART:20211031T010000
END:STANDARD
TZID:UTC
BEGIN:STANDARD
TZOFFSETFROM:+0000
TZOFFSETTO:+0000
TZNAME:UTC
DTSTART:20190101T000000
END:STANDARD
END:VTIMEZONE
BEGIN:VEVENT
DTSTART;TZID=Europe/Helsinki:20210421T160000
DTEND;TZID=Europe/Helsinki:20210425T100000
DTSTAMP:20260421T005539
CREATED:20191008T153251Z
LAST-MODIFIED:20210311T201432Z
UID:10001309-1619020800-1619344800@annettemorris.art
SUMMARY:Spring sketching holiday in the Minervois: Cherry Blossoms and Cocktails!
DESCRIPTION:Ideal for: Beginners\, Solo Travellers\, Travel with a non-sketching partner\, Francophiles\, Wine lovers\, Gastronauts\, Art groups \n\n\n\n          \n    \n\n	In this spring sketching holiday in the Minervois enjoy 3 days capturing the beautiful scenery in and around beautiful Bize-Minervois. Whether you are already sketching or an absolute beginner\, you’ll be guided step-by-step - from fear of the blank page to being bold and confident with colour! You’ll complete your stay with a book full of great sketches and plenty of good memories too. \nOur sketching itinerary starts the evening of 21 April. For the next 3 days we will start sketching in the morning and after lunch you then have a chance to explore the area on your own (or do some more sketching!) \n \nWhere to stay?\nMaison des Palmiers is a beautifully renovated townhouse situated in the charming riverside town of Bize Minervois offering a choice of 5 en-suite bedrooms. There is a lovely garden where you can sit in the shade of the trees or sunbathe by the swimming pool. Complimentary tea and coffee are available throughout your stay.\nPlease note that the pool will be open if the temperature is above 15°C. \nTransport recommendations:\nFly to local airports Carcassonne\, Beziers\, Perpignan or Toulouse\nWe suggest you hire a car but airport pick-up can be arranged if necessary. \nClosest railway station: Narbonne \nPrices:\n3 sketching workshops 180€ (excluding meals\, cocktails and accommodation) \nAccommodation price: \nDouble room (sole occupancy) 320€\nDouble room (shared) 480€\nLarge twin room (shared) 600€ \nIncludes... \n2 house cocktails on arrival\n4 nights bed and continental breakfast\n2 3-course evening meals with local wine \nA 100€ deposit is payable to confirm your booking.\nBalance payment due by bank transfer 4 weeks before the holiday. \nOptional extras:\nAirport pick-up\nEvening meals\, bar service and daytime snacks\nWine-tasting tours \nWhat to bring:\nSketchbook\, Portable sketching stool\, Basic watercolour travel set\nWatercolour brush\, HB/B/2B pencil\, eraser\, sharpener \nA detailed materials list will be sent with booking confirmation or by request. Simply email annette@sketchingfrance.com for full details. \nAdditional notes:\nThere will be some walking up and down hills and steps\, so please wear comfortable footwear and bring a waterproof in the event of inclement weather. \nIf you would like more information about the accommodation before booking\, please email your hosts Richard & Sandy Munns maisondespalmiers@gmail.com
URL:https://annettemorris.art/event/spring-holiday-cherry-blossoms-and-cocktails/
LOCATION:Maison des Palmiers\, 12 Avenue de l'Amiral Narbonne\, Bize-Minervois\, Aude\, 11120\, France
CATEGORIES:Languedoc,Sketch Holidays,Sketch Languedoc!
ATTACH;FMTTYPE=image/jpeg:https://annettemorris.art/wp-content/uploads/2019/10/cherry-blossoms-holiday.jpg
ORGANIZER;CN="Annette Morris":MAILTO:sketch@annettemorris.art
GEO:43.3184062;2.869966
X-APPLE-STRUCTURED-LOCATION;VALUE=URI;X-ADDRESS=Maison des Palmiers 12 Avenue de l'Amiral Narbonne Bize-Minervois Aude 11120 France;X-APPLE-RADIUS=500;X-TITLE=12 Avenue de l'Amiral Narbonne:geo:2.869966,43.3184062
END:VEVENT
BEGIN:VEVENT
DTSTART;TZID=UTC:20190426T160000
DTEND;TZID=UTC:20190429T110000
DTSTAMP:20260421T005539
CREATED:20171005T105207Z
LAST-MODIFIED:20191009T075609Z
UID:10001281-1556294400-1556535600@annettemorris.art
SUMMARY:Spring sketching holiday in the Minervois
DESCRIPTION:Ideal for: Beginners\, Solo Travellers\, Travel with a non-sketching partner\, Francophiles\, Wine lovers\, Gastronauts\, Art groups \n\n\n\n          \n    \n\n	In this spring sketching holiday in the Minervois enjoy 3 days capturing the beautiful scenery in and around beautiful Bize-Minervois. Whether you are already sketching or an absolute beginner\, you’ll be guided step-by-step - from fear of the blank page to being bold and confident with colour! You’ll complete your stay with a book full of great sketches and plenty of good memories too. \nOur sketching itinerary starts the evening of 21 April. For the next 3 days we will start sketching in the morning and after lunch you then have a chance to explore the area on your own (or do some more sketching!) \n \nWhere to stay?\nMaison des Palmiers is a beautifully renovated townhouse situated in the charming riverside town of Bize Minervois offering a choice of 5 en-suite bedrooms. There is a lovely garden where you can sit in the shade of the trees or sunbathe by the swimming pool. Complimentary tea and coffee are available throughout your stay.\nPlease note that the pool will be open if the temperature is above 15°C. \nTransport recommendations:\nFly to local airports Carcassonne\, Beziers\, Perpignan or Toulouse\nWe suggest you hire a car but airport pick-up can be arranged if necessary. \nClosest railway station: Narbonne \nPrices:\n3 sketching workshops 180€ (excluding meals\, cocktails and accommodation) \nAccommodation price: \nDouble room (sole occupancy) 320€\nDouble room (shared) 480€\nLarge twin room (shared) 600€ \nIncludes... \n2 house cocktails on arrival\n4 nights bed and continental breakfast\n2 3-course evening meals with local wine \nA 100€ deposit is payable to confirm your booking.\nBalance payment due by bank transfer 4 weeks before the holiday. \nOptional extras:\nAirport pick-up\nEvening meals\, bar service and daytime snacks\nWine-tasting tours \nWhat to bring:\nSketchbook\, Portable sketching stool\, Basic watercolour travel set\nWatercolour brush\, HB/B/2B pencil\, eraser\, sharpener \nA detailed materials list will be sent with booking confirmation or by request. Simply email annette@sketchingfrance.com for full details. \nAdditional notes:\nThere will be some walking up and down hills and steps\, so please wear comfortable footwear and bring a waterproof in the event of inclement weather. \nIf you would like more information about the accommodation before booking\, please email your hosts Richard & Sandy Munns maisondespalmiers@gmail.com
URL:https://annettemorris.art/event/spring-sketching-minervois/
LOCATION:Maison des Palmiers\, 12 Avenue de l'Amiral Narbonne\, Bize-Minervois\, Aude\, 11120\, France
CATEGORIES:France,Languedoc,Sketch Holidays
ATTACH;FMTTYPE=image/jpeg:https://annettemorris.art/wp-content/uploads/2017/10/3-palmiers.jpg
GEO:43.3184062;2.869966
X-APPLE-STRUCTURED-LOCATION;VALUE=URI;X-ADDRESS=Maison des Palmiers 12 Avenue de l'Amiral Narbonne Bize-Minervois Aude 11120 France;X-APPLE-RADIUS=500;X-TITLE=12 Avenue de l'Amiral Narbonne:geo:2.869966,43.3184062
END:VEVENT
END:VCALENDAR