BEGIN:VCALENDAR
VERSION:2.0
PRODID:-//Annette Morris Art - ECPv6.9.0//NONSGML v1.0//EN
CALSCALE:GREGORIAN
METHOD:PUBLISH
X-ORIGINAL-URL:https://annettemorris.art
X-WR-CALDESC:Events for Annette Morris Art
REFRESH-INTERVAL;VALUE=DURATION:PT1H
X-Robots-Tag:noindex
X-PUBLISHED-TTL:PT1H
BEGIN:VTIMEZONE
TZID:Europe/Paris
BEGIN:DAYLIGHT
TZOFFSETFROM:+0100
TZOFFSETTO:+0200
TZNAME:CEST
DTSTART:20220327T010000
END:DAYLIGHT
BEGIN:STANDARD
TZOFFSETFROM:+0200
TZOFFSETTO:+0100
TZNAME:CET
DTSTART:20221030T010000
END:STANDARD
END:VTIMEZONE
BEGIN:VEVENT
DTSTART;TZID=Europe/Paris:20220723T103000
DTEND;TZID=Europe/Paris:20220723T120000
DTSTAMP:20260421T221912
CREATED:20220705T065406Z
LAST-MODIFIED:20221026T053559Z
UID:10001700-1658572200-1658577600@annettemorris.art
SUMMARY:Sketching France - Hunawihr
DESCRIPTION:A virtual meet-up with members of the Sketching France group! See http://facebook.com/groups/sketchingfrance.online/events
URL:https://annettemorris.art/event/sketching-france-hunawihr/
LOCATION:Online
CATEGORIES:Online Events,Sketching France
ATTACH;FMTTYPE=image/jpeg:https://annettemorris.art/wp-content/uploads/2022/07/Hunawihr-scaled.jpg
ORGANIZER;CN="Annette Morris":MAILTO:sketch@annettemorris.art
END:VEVENT
END:VCALENDAR