BEGIN:VCALENDAR
VERSION:2.0
PRODID:-//Annette Morris Art - ECPv6.9.0//NONSGML v1.0//EN
CALSCALE:GREGORIAN
METHOD:PUBLISH
X-ORIGINAL-URL:https://annettemorris.art
X-WR-CALDESC:Events for Annette Morris Art
REFRESH-INTERVAL;VALUE=DURATION:PT1H
X-Robots-Tag:noindex
X-PUBLISHED-TTL:PT1H
BEGIN:VTIMEZONE
TZID:Europe/Paris
BEGIN:DAYLIGHT
TZOFFSETFROM:+0100
TZOFFSETTO:+0200
TZNAME:CEST
DTSTART:20210328T010000
END:DAYLIGHT
BEGIN:STANDARD
TZOFFSETFROM:+0200
TZOFFSETTO:+0100
TZNAME:CET
DTSTART:20211031T010000
END:STANDARD
BEGIN:DAYLIGHT
TZOFFSETFROM:+0100
TZOFFSETTO:+0200
TZNAME:CEST
DTSTART:20220327T010000
END:DAYLIGHT
BEGIN:STANDARD
TZOFFSETFROM:+0200
TZOFFSETTO:+0100
TZNAME:CET
DTSTART:20221030T010000
END:STANDARD
BEGIN:DAYLIGHT
TZOFFSETFROM:+0100
TZOFFSETTO:+0200
TZNAME:CEST
DTSTART:20230326T010000
END:DAYLIGHT
BEGIN:STANDARD
TZOFFSETFROM:+0200
TZOFFSETTO:+0100
TZNAME:CET
DTSTART:20231029T010000
END:STANDARD
END:VTIMEZONE
BEGIN:VEVENT
DTSTART;TZID=Europe/Paris:20230808T093000
DTEND;TZID=Europe/Paris:20230808T123000
DTSTAMP:20260422T011430
CREATED:20221229T115641Z
LAST-MODIFIED:20230804T095531Z
UID:10001840-1691487000-1691497800@annettemorris.art
SUMMARY:Life in the Slow Lane!  Sketch the Canal du Midi - Homps
DESCRIPTION:The Canal du Midi is a UNESCO heritage site which runs right through the heart of Languedoc and the wine-growing area of the Minervois – there are some idyllic and fascinating spaces where you can unwind and watch the barges slowly passing by and sketch in the shade of the trees. \nThese relaxed half-day workshops take place in 5 lesser known locations right alongside the Canal. Each workshop starts at 09.30 giving us a chance to work on our drawings in the cooler part of the day.  You will not need previous art experience to enjoy this event – just an interest in travel sketching with watercolour and learning more about the area! \nStep-by-step you will work through drawing what you see\, and there will be plenty of guidance on mixing colours and adding washes of watercolour to bring your sketch to life.  Each workshop is designed for a small friendly group and packed with arty tips and tricks such as painting reflections\, drawing people and how to plan your sketchbook pages. \nDates & locations: \n\n\n\nTuesday 20 June Le Somail\nTuesday 11 July Trèbes\nTuesday 18 July Puicheric\nTuesday 25 July Sallèles-d’Aude\nTuesday 8 August Homps\n\n\n\n  \nYou will need a sketchbook\, pencil\, ink pen (waterproof ink)\, watercolours\, water & water pot and tissues/rag. A portable folding chair or stool is strongly advised. \n(For a small additional charge\, a complete sketch kit can be provided on loan) \nPlaces for each workshop are limited – advanced booking is essential.
URL:https://annettemorris.art/event/life-in-the-slow-lane-sketch-the-canal-du-midi-le-somail-homps/
LOCATION:Homps\, Homps\, 11200\, France
CATEGORIES:Sketch Languedoc!,Soldes Hiver,Workshops
ATTACH;FMTTYPE=image/jpeg:https://annettemorris.art/wp-content/uploads/2022/12/sketch-canal-midi.jpeg
ORGANIZER;CN="Annette Morris":MAILTO:sketch@annettemorris.art
GEO:43.2661;2.7207
END:VEVENT
BEGIN:VEVENT
DTSTART;TZID=Europe/Paris:20210724T093000
DTEND;TZID=Europe/Paris:20210724T123000
DTSTAMP:20260422T011430
CREATED:20200302T165950Z
LAST-MODIFIED:20210718T072635Z
UID:10001401-1627119000-1627129800@annettemorris.art
SUMMARY:Boats\, Bridges and Blues
DESCRIPTION:The port of Homps by the Canal du Midi is our location for this morning workshop where we’ll find plenty of shade if we need it! \nYou don’t need previous art experience to take part – step-by-step you will learn how to plan your pages and simple ways to work with ink and watercolour on location. \nWorkshop starts 9.30am. \nYou will need a sketchbook with paper 160gsm or higher – which can be purchased on the day if you do not have your own. \nWe will also use a black waterproof ink pen\, HB pencil\, basic watercolour kit\, brush and water pot. \nA portable folding stool is also recommended.
URL:https://annettemorris.art/event/boats-bridges-blues/
LOCATION:Homps\, Homps\, 11200\, France
CATEGORIES:Sketch Languedoc!,Workshops
ATTACH;FMTTYPE=image/jpeg:https://annettemorris.art/wp-content/uploads/2020/03/IMG_8147-scaled.jpg
ORGANIZER;CN="Annette Morris":MAILTO:sketch@annettemorris.art
GEO:43.2661;2.7207
END:VEVENT
END:VCALENDAR