BEGIN:VCALENDAR
VERSION:2.0
PRODID:-//Annette Morris Art - ECPv6.9.0//NONSGML v1.0//EN
CALSCALE:GREGORIAN
METHOD:PUBLISH
X-WR-CALNAME:Annette Morris Art
X-ORIGINAL-URL:https://annettemorris.art
X-WR-CALDESC:Events for Annette Morris Art
REFRESH-INTERVAL;VALUE=DURATION:PT1H
X-Robots-Tag:noindex
X-PUBLISHED-TTL:PT1H
BEGIN:VTIMEZONE
TZID:Europe/Paris
BEGIN:DAYLIGHT
TZOFFSETFROM:+0100
TZOFFSETTO:+0200
TZNAME:CEST
DTSTART:20210328T010000
END:DAYLIGHT
BEGIN:STANDARD
TZOFFSETFROM:+0200
TZOFFSETTO:+0100
TZNAME:CET
DTSTART:20211031T010000
END:STANDARD
BEGIN:DAYLIGHT
TZOFFSETFROM:+0100
TZOFFSETTO:+0200
TZNAME:CEST
DTSTART:20220327T010000
END:DAYLIGHT
BEGIN:STANDARD
TZOFFSETFROM:+0200
TZOFFSETTO:+0100
TZNAME:CET
DTSTART:20221030T010000
END:STANDARD
TZID:Europe/Helsinki
BEGIN:DAYLIGHT
TZOFFSETFROM:+0200
TZOFFSETTO:+0300
TZNAME:EEST
DTSTART:20190331T010000
END:DAYLIGHT
BEGIN:STANDARD
TZOFFSETFROM:+0300
TZOFFSETTO:+0200
TZNAME:EET
DTSTART:20191027T010000
END:STANDARD
END:VTIMEZONE
BEGIN:VEVENT
DTSTART;TZID=Europe/Paris:20221203T110000
DTEND;TZID=Europe/Paris:20221203T180000
DTSTAMP:20260421T062527
CREATED:20221120T081832Z
LAST-MODIFIED:20221201T173039Z
UID:10001768-1670065200-1670090400@annettemorris.art
SUMMARY:Portes Ouvertes\, Mailhac
DESCRIPTION:Join me for some early festive cheer at Domaine la Tasque in Mailhac! I have been sketching in the vineyards of this domaine following Juliet and Simon’s hard work throughout the seasons.\nI will have some paintings\, cards and calendars for sale\, plus you can taste the wines and enjoy some seasonal nibbles whilst learning more about the domaine. \nDrop in anytime between 11am and 6pm.
URL:https://annettemorris.art/event/portes-ouvertes/
LOCATION:Mailhac\, 11120\, France
CATEGORIES:Exhibitions
ATTACH;FMTTYPE=image/jpeg:https://annettemorris.art/wp-content/uploads/2022/11/domaine-la-tasque.jpg
ORGANIZER;CN="Annette Morris":MAILTO:sketch@annettemorris.art
GEO:43.2740649;2.8776638
END:VEVENT
BEGIN:VEVENT
DTSTART;TZID=Europe/Paris:20221125T100000
DTEND;TZID=Europe/Paris:20221125T160000
DTSTAMP:20260421T062527
CREATED:20211114T112518Z
LAST-MODIFIED:20221120T080057Z
UID:10001719-1669370400-1669392000@annettemorris.art
SUMMARY:Christmas Card Workshop
DESCRIPTION:A fun event with all the sparkles!   Materials are provided but please bring any paints\, pens\, ribbons\, glitter\, buttons or papers that you may wish to use!  \nPlease email me to check details and availability – emailme@annettemorris.art
URL:https://annettemorris.art/event/christmas-card-workshop-2022/
LOCATION:Quarante\, Quarante\, 34310\, France
CATEGORIES:Creative crafts,Workshops
ATTACH;FMTTYPE=image/jpeg:https://annettemorris.art/wp-content/uploads/2021/11/christmas-5805505_1920.jpeg
ORGANIZER;CN="Annette Morris":MAILTO:sketch@annettemorris.art
GEO:43.3443329;2.9604995
END:VEVENT
BEGIN:VEVENT
DTSTART;TZID=Europe/Paris:20211206T103000
DTEND;TZID=Europe/Paris:20211206T153000
DTSTAMP:20260421T062527
CREATED:20211114T112518Z
LAST-MODIFIED:20221101T093239Z
UID:10001567-1638786600-1638804600@annettemorris.art
SUMMARY:Christmas Card Workshop
DESCRIPTION:A fun event with all the sparkles!   Materials are provided but please bring any paints\, pens\, ribbons\, glitter\, buttons or papers that you may wish to use!  \nPlease email me to check details and availability – emailme@annettemorris.art
URL:https://annettemorris.art/event/christmas-card-workshop-2021/
CATEGORIES:Creative crafts,Workshops
ATTACH;FMTTYPE=image/jpeg:https://annettemorris.art/wp-content/uploads/2021/11/christmas-5805505_1920.jpeg
END:VEVENT
BEGIN:VEVENT
DTSTART;TZID=Europe/Helsinki:20191202T100000
DTEND;TZID=Europe/Helsinki:20191202T150000
DTSTAMP:20260421T062527
CREATED:20191009T092150Z
LAST-MODIFIED:20191111T093325Z
UID:10001313-1575280800-1575298800@annettemorris.art
SUMMARY:Christmas Card Workshop
DESCRIPTION:Time to have some fun with the whole toolbox of art and craft materials! \nIn this workshop you’ll create several beautiful cards in the designs of your choice.  People love to receive a handmade and personalised card\, it’s so unique and special. \nAll materials are provided but if you have any pieces of fabric\, card\, paper\, ribbon or other items you wish to use\, please do bring them along. \nThese events are extremely popular so do book early to guarantee a place.  There’ll be music and plenty of sparkle to help you feel some festive cheer! \nFee includes a picnic lunch with a glass of wine.
URL:https://annettemorris.art/event/christmas-card-workshop-quarante/
LOCATION:La Maison de Quarante\, 24 Grand Rue\, Quarante\, Hérault\, 34310\, France
CATEGORIES:Creative crafts,Workshops
ATTACH;FMTTYPE=image/jpeg:https://annettemorris.art/wp-content/uploads/2017/11/christmas-cards.jpg
ORGANIZER;CN="Annette Morris":MAILTO:sketch@annettemorris.art
GEO:43.3443;2.9605
X-APPLE-STRUCTURED-LOCATION;VALUE=URI;X-ADDRESS=La Maison de Quarante 24 Grand Rue Quarante Hérault 34310 France;X-APPLE-RADIUS=500;X-TITLE=24 Grand Rue:geo:2.9605,43.3443
END:VEVENT
BEGIN:VEVENT
DTSTART;TZID=Europe/Helsinki:20191126T100000
DTEND;TZID=Europe/Helsinki:20191126T150000
DTSTAMP:20260421T062527
CREATED:20190926T093640Z
LAST-MODIFIED:20191120T063706Z
UID:10001305-1574762400-1574780400@annettemorris.art
SUMMARY:Christmas Card workshop
DESCRIPTION:Time to have some fun with the whole toolbox of art and craft materials! \nIn this workshop you’ll create several beautiful cards in the designs of your choice.  People love to receive a handmade and personalised card\, it’s so unique and special. \nAll materials are provided but if you have any pieces of fabric\, card\, paper\, ribbon or other items you wish to use\, please do bring them along. \nThese events are extremely popular so do book early to guarantee a place.  There’ll be music and plenty of sparkle to help you feel some festive cheer! \nA tapas lunch and a glass of local wine is available if reserved in advance (10€). \n 
URL:https://annettemorris.art/event/christmas-card-workshop/
LOCATION:Inspiré Azille\, Rue du grippis\, Azille\, 11170\, France
CATEGORIES:Creative crafts,Sketch Languedoc!,Workshops
ATTACH;FMTTYPE=image/jpeg:https://annettemorris.art/wp-content/uploads/2019/09/cards.jpg
ORGANIZER;CN="Annette Morris":MAILTO:sketch@annettemorris.art
GEO:43.2778129;2.6642245
X-APPLE-STRUCTURED-LOCATION;VALUE=URI;X-ADDRESS=Inspiré Azille Rue du grippis Azille 11170 France;X-APPLE-RADIUS=500;X-TITLE=Rue du grippis:geo:2.6642245,43.2778129
END:VEVENT
END:VCALENDAR