BEGIN:VCALENDAR
VERSION:2.0
PRODID:-//Annette Morris Art - ECPv6.9.0//NONSGML v1.0//EN
CALSCALE:GREGORIAN
METHOD:PUBLISH
X-ORIGINAL-URL:https://annettemorris.art
X-WR-CALDESC:Events for Annette Morris Art
REFRESH-INTERVAL;VALUE=DURATION:PT1H
X-Robots-Tag:noindex
X-PUBLISHED-TTL:PT1H
BEGIN:VTIMEZONE
TZID:Europe/Helsinki
BEGIN:DAYLIGHT
TZOFFSETFROM:+0200
TZOFFSETTO:+0300
TZNAME:EEST
DTSTART:20200329T010000
END:DAYLIGHT
BEGIN:STANDARD
TZOFFSETFROM:+0300
TZOFFSETTO:+0200
TZNAME:EET
DTSTART:20201025T010000
END:STANDARD
TZID:UTC
BEGIN:STANDARD
TZOFFSETFROM:+0000
TZOFFSETTO:+0000
TZNAME:UTC
DTSTART:20210101T000000
END:STANDARD
END:VTIMEZONE
BEGIN:VEVENT
DTSTART;TZID=Europe/Helsinki:20200725T100000
DTEND;TZID=Europe/Helsinki:20200725T150000
DTSTAMP:20260421T050951
CREATED:20200225T150154Z
LAST-MODIFIED:20200616T175536Z
UID:10001369-1595671200-1595689200@annettemorris.art
SUMMARY:USk Languedoc - Bédarieux
DESCRIPTION:
URL:https://www.facebook.com/groups/sketchlanguedoc/events/#new_tab
CATEGORIES:Sketch Languedoc!,Urban Sketchers
ATTACH;FMTTYPE=image/jpeg:https://annettemorris.art/wp-content/uploads/2019/09/USk-logo-LR.jpg
END:VEVENT
BEGIN:VEVENT
DTSTART;TZID=UTC:20211015T100000
DTEND;TZID=UTC:20211015T130000
DTSTAMP:20260421T050951
CREATED:20170707T031132Z
LAST-MODIFIED:20210831T114752Z
UID:10001262-1634292000-1634302800@annettemorris.art
SUMMARY:Sketching Caunes-Minervois
DESCRIPTION:You don’t need previous art experience to enjoy this workshop – just an interest in sketching and developing your powers of observation! \nWorkshop starts 10am with a quick warm up sketch over coffee.  We’ll look at capturing classic features of the town and techniques for sketching in ink and watercolour. \nYou will need a sketchbook with paper 160gsm or higher – which can be purchased on the day if you do not have your own. \nWe will also use a black waterproof ink pen\, HB pencil and watercolour. \nA sketch kit can be provided on loan if you do not have your own
URL:https://annettemorris.art/event/workshop-caunes-minervois/
LOCATION:Caunes Minervois\, Caunes-Minervois\, France
CATEGORIES:Sketch Languedoc!,Workshops
ATTACH;FMTTYPE=image/jpeg:https://annettemorris.art/wp-content/uploads/2017/07/D3D07FB2-575E-4452-A909-6C490721E79E-scaled.jpeg
ORGANIZER;CN="Annette Morris":MAILTO:sketch@annettemorris.art
GEO:43.327;2.5282
END:VEVENT
END:VCALENDAR