BEGIN:VCALENDAR
VERSION:2.0
PRODID:-//Annette Morris Art - ECPv6.9.0//NONSGML v1.0//EN
CALSCALE:GREGORIAN
METHOD:PUBLISH
X-ORIGINAL-URL:https://annettemorris.art
X-WR-CALDESC:Events for Annette Morris Art
REFRESH-INTERVAL;VALUE=DURATION:PT1H
X-Robots-Tag:noindex
X-PUBLISHED-TTL:PT1H
BEGIN:VTIMEZONE
TZID:Europe/Paris
BEGIN:DAYLIGHT
TZOFFSETFROM:+0100
TZOFFSETTO:+0200
TZNAME:CEST
DTSTART:20220327T010000
END:DAYLIGHT
BEGIN:STANDARD
TZOFFSETFROM:+0200
TZOFFSETTO:+0100
TZNAME:CET
DTSTART:20221030T010000
END:STANDARD
END:VTIMEZONE
BEGIN:VEVENT
DTSTART;TZID=Europe/Paris:20220725T080000
DTEND;TZID=Europe/Paris:20221021T170000
DTSTAMP:20260421T125129
CREATED:20211115T104149Z
LAST-MODIFIED:20221026T053559Z
UID:10001581-1658736000-1666371600@annettemorris.art
SUMMARY:Exhibition at Café Deco\, Capestang
DESCRIPTION:A collection of my watercolours and sketches for sale of Capestang and the surrounding area. Also a selection of square glossy greetings cards with envelopes.\nThe café serves hot and cold drinks plus gorgeous cakes and pastries. Opening hours are 8am – 1.00pm / 2.30pm – 5.00pm Monday\, Tuesday\, Wednesday\, Friday & Saturday.\nTo make an enquiry please email cafedeco34@gmail.com
URL:https://annettemorris.art/event/exhibition-at-cafe-deco-capestang/
LOCATION:Café Deco\, 11 Place Ferrer\, Capestang\, 34340\, France
CATEGORIES:Exhibitions,Sketching France
ATTACH;FMTTYPE=image/jpeg:https://annettemorris.art/wp-content/uploads/2021/11/cafe-deco-exhibition-scaled-e1664377056663.jpeg
ORGANIZER;CN="Annette Morris":MAILTO:sketch@annettemorris.art
GEO:43.3277786;3.0469494
X-APPLE-STRUCTURED-LOCATION;VALUE=URI;X-ADDRESS=Café Deco 11 Place Ferrer Capestang 34340 France;X-APPLE-RADIUS=500;X-TITLE=11 Place Ferrer:geo:3.0469494,43.3277786
END:VEVENT
END:VCALENDAR