BEGIN:VCALENDAR
VERSION:2.0
PRODID:-//Annette Morris Art - ECPv6.9.0//NONSGML v1.0//EN
CALSCALE:GREGORIAN
METHOD:PUBLISH
X-ORIGINAL-URL:https://annettemorris.art
X-WR-CALDESC:Events for Annette Morris Art
REFRESH-INTERVAL;VALUE=DURATION:PT1H
X-Robots-Tag:noindex
X-PUBLISHED-TTL:PT1H
BEGIN:VTIMEZONE
TZID:Europe/Helsinki
BEGIN:DAYLIGHT
TZOFFSETFROM:+0200
TZOFFSETTO:+0300
TZNAME:EEST
DTSTART:20190331T010000
END:DAYLIGHT
BEGIN:STANDARD
TZOFFSETFROM:+0300
TZOFFSETTO:+0200
TZNAME:EET
DTSTART:20191027T010000
END:STANDARD
TZID:UTC
BEGIN:STANDARD
TZOFFSETFROM:+0000
TZOFFSETTO:+0000
TZNAME:UTC
DTSTART:20190101T000000
END:STANDARD
TZID:Europe/London
BEGIN:DAYLIGHT
TZOFFSETFROM:+0000
TZOFFSETTO:+0100
TZNAME:BST
DTSTART:20200329T010000
END:DAYLIGHT
BEGIN:STANDARD
TZOFFSETFROM:+0100
TZOFFSETTO:+0000
TZNAME:GMT
DTSTART:20201025T010000
END:STANDARD
END:VTIMEZONE
BEGIN:VEVENT
DTSTART;TZID=Europe/Helsinki:20191016T103000
DTEND;TZID=Europe/Helsinki:20191016T160000
DTSTAMP:20260420T182450
CREATED:20190919T192828Z
LAST-MODIFIED:20190920T071505Z
UID:10001302-1571221800-1571241600@annettemorris.art
SUMMARY:Line and Watercolour Sketching for Beginners
DESCRIPTION:Fun workshops in the great Cass Art Studio space for anyone that feels inspired to sketch on location but may lack confidence to get started! \n \n  \nLine and Watercolour Sketching for Beginners\n10.30am – 12.30pm\nIf you are new to sketching or lack confidence in your ability to draw\, this short fun workshop is for you!\nLearn how to capture the essence of a scene in a short space of time\, and with minimal materials. \nYou will need a sketchbook (A5 or A4) with paper suitable for watercolour (160gsm+)\, a pencil (HB or 2B)\, eraser\, fineliner pen with waterproof ink and a basic travel watercolour set with brush or waterbrush. \n \n  \n\nSketches that Pop!\n2pm-4pm\nThis fun workshop encourages you to loosen up your painting style. We’ll explore use of colour in sketching so take a deep breath and make some big brave bold brushstrokes! \nYou will need a sketchbook (A5 or A4) with paper suitable for watercolour (160gsm+)\, a pencil (HB or 2B)\, eraser and a basic travel watercolour set with round brush size 8 or similar. \nPlaces are limited so do book well in advance. You can book your ticket online or by emailing me direct. This is a workshop suitable for adults or accompanied children aged 12+ \nOnce registered you’ll receive a 20% discount off CASS art supplies too! \nIndividual workshops £30 per person or £50 to take your sketching further by joining both! \nPlease note that The Art Space is located in the basement and does not have step-free access
URL:https://amsketching.com/event/line-watercolour-sketching-for-beginners/?lang=en-uk
LOCATION:Cass Art Bristol\, 43-45 Park Street\, Bristol\, BS1 5NL\, United Kingdom
CATEGORIES:Bristol,Workshops
ATTACH;FMTTYPE=image/png:https://annettemorris.art/wp-content/uploads/2019/09/FB-event-weds.png
ORGANIZER;CN="Annette Morris":MAILTO:sketch@annettemorris.art
GEO:51.4541059;-2.60268
X-APPLE-STRUCTURED-LOCATION;VALUE=URI;X-ADDRESS=Cass Art Bristol 43-45 Park Street Bristol BS1 5NL United Kingdom;X-APPLE-RADIUS=500;X-TITLE=43-45 Park Street:geo:-2.60268,51.4541059
END:VEVENT
BEGIN:VEVENT
DTSTART;TZID=UTC:20191017T100000
DTEND;TZID=UTC:20191019T170000
DTSTAMP:20260420T182450
CREATED:20180111T074751Z
LAST-MODIFIED:20190917T085042Z
UID:10001259-1571306400-1571504400@annettemorris.art
SUMMARY:Mariners' Tales: Sketching Bristol
DESCRIPTION:Straddling the River Avon\, Bristol has a huge maritime significance. The harbourside\, shipyards and iconic suspension bridge are just a few reminders of its history and importance during the industrial revolution of the 19th century. A vibrant and cultural city\, there are sketch opportunities at every turn. \nDuring this 3 day workshop holiday we’ll base ourselves in Clifton near the Observatory. From here we can study the impressive architecture of the Merchant Mariners and explore the city centre and harbourside. Suitable for all levels\, in this fun 3 days you’ll overcome your fear of the blank page and explore different page layouts and alternating techniques for different subjects. Working with pencil\, ink and watercolour we’ll go through the essentials of drawing in perspective\, and how the use of colour and different tonal values can influence a sketch. \nSketching days 17\, 18 & 19 October\nPrice for 3 days: £180 \nSample itinerary \n\nWe’ll meet in Clifton the evening of 16 October to discuss sketch kits and plans for the next few days\n17 October: After a warm up sketch in the lovely streets of Clifton village we’ll be heading to the Observatory for an alternative look at perspective drawing\n18 October: Time to go Harbourside for some fun with colour. We’ll work with washes and different techniques to create a vibrant story of the sea\n19 October: We’ll sketch as we walk down the historic Christmas Steps to later capture the impressive architecture around Cathedral green\n\nSuggested accommodation:\nThe Rodney Hotel\nChannings Hotel\nThe Clifton Hotel\nVictoria Square Hotel \n﻿ \nMaterials:\nSketchbook\, Portable sketching stool\, Basic watercolour travel set\nWatercolour brush\, HB/B/2B pencil\, eraser\, sharpener \nA detailed materials list will be sent with booking confirmation or by request. Please emailme@annettemorris.art if you would like any further information. \nAdditional notes:\nThere will be some walking up and down hills and steps\, so please wear comfortable footwear and bring a waterproof in the event of inclement weather. \nIf you would prefer to make payment in GBP sterling please click here
URL:https://annettemorris.art/event/bristol-sketch-holiday/
LOCATION:Bristol\, Bristol\, BS8\, United Kingdom
CATEGORIES:Bristol,Sketch Holidays,UK,Workshops
ATTACH;FMTTYPE=image/jpeg:https://annettemorris.art/wp-content/uploads/2018/01/bristol-2647464_1920.jpg
ORGANIZER;CN="Annette Morris":MAILTO:sketch@annettemorris.art
GEO:51.4585405;-2.6640248
END:VEVENT
BEGIN:VEVENT
DTSTART;TZID=Europe/Helsinki:20191020T113000
DTEND;TZID=Europe/Helsinki:20191020T163000
DTSTAMP:20260420T182450
CREATED:20190919T195515Z
LAST-MODIFIED:20190920T071806Z
UID:10001301-1571571000-1571589000@annettemorris.art
SUMMARY:Sketching with Watercolour for Beginners
DESCRIPTION:Fun workshops in the great Cass Art Studio space for anyone that feels inspired to sketch on location but may lack confidence to get started! \n  \nJe ne sais pas quoi sketch!\n11.30am – 1.30pm\nFear of the blank page and getting started with sketching is sometimes the hardest part.  Experienced tutor and urban sketcher Annette Morris will introduce you to some simple tips and tricks which will help you on your way from beginner to confident sketcher.  Not only that\, but you receive a 20% discount off CASS art supplies too! \nThis is a workshop suitable for adults or accompanied children aged 12+. \n\n \n\nWine and Watercolour\n2.30pm – 4.30pm\nInspired by southern France\, explore your creative side in a very enjoyable couple of hours working with line and watercolour in your sketchbooks.\nYou will need a sketchbook (A5 or A4) with paper suitable for watercolour (160gsm+)\, a pencil (HB or 2B)\, eraser\, fineliner pen with waterproof ink and a basic travel watercolour set with brush or waterbrush.\nPlaces are limited so do book well in advance. You can book your ticket online or by emailing me direct. This is a workshop suitable for adults. \nOnce registered you’ll also receive a 20% discount off CASS art supplies on the day of the event. \nIndividual workshops £30 per person or take part in both for £50. \n  \nPlease note that The Art Space is located in the basement and does not have step-free access
URL:https://amsketching.com/event/sketching-with-watercolour-for-beginners/?lang=en-uk
LOCATION:Cass Art Bristol\, 43-45 Park Street\, Bristol\, BS1 5NL\, United Kingdom
CATEGORIES:Bristol,Workshops
ATTACH;FMTTYPE=image/png:https://annettemorris.art/wp-content/uploads/2019/09/FB-event-sun.png
ORGANIZER;CN="Annette Morris":MAILTO:sketch@annettemorris.art
GEO:51.4541059;-2.60268
X-APPLE-STRUCTURED-LOCATION;VALUE=URI;X-ADDRESS=Cass Art Bristol 43-45 Park Street Bristol BS1 5NL United Kingdom;X-APPLE-RADIUS=500;X-TITLE=43-45 Park Street:geo:-2.60268,51.4541059
END:VEVENT
BEGIN:VEVENT
DTSTART;TZID=Europe/London:20200502T110000
DTEND;TZID=Europe/London:20200502T160000
DTSTAMP:20260420T182450
CREATED:20191101T192303Z
LAST-MODIFIED:20200225T143047Z
UID:10001320-1588417200-1588435200@annettemorris.art
SUMMARY:Sketching Workshops at Cass Art Bristol
DESCRIPTION:Fun workshops in the great Cass Art Studio space for anyone who would like to get started with urban sketching\, or lacks the confidence to start sketching\, drawing and using watercolour at home. \nInk and Watercolour Sketching for Beginners\n11.00am – 1.00pm\nIf you are new to sketching or lack confidence in your ability to draw\, this short fun workshop is for you!\nLearn how to capture the essence of a scene in a short space of time\, and with minimal materials. \nYou will need a sketchbook (A5 or A4) with paper suitable for watercolour (160gsm+)\, a pencil (HB or 2B)\, eraser\, fineliner pen with waterproof ink and a basic travel watercolour set with brush or waterbrush. \nGoing Green! Sketching Parks and Gardens\n2.00pm – 4.00pm\nIn this workshop you’ll explore use of colour in sketching so take a deep breath and make some big brave bold brushstrokes!  We’ll have a great time mixing colour and exploring ways to make your sketches more vibrant. \nYou will need a sketchbook (A5 or A4) with paper suitable for watercolour (160gsm+)\, a pencil (HB or 2B)\, eraser and a basic travel watercolour set with round brush size 8 or similar. \nPlaces are limited so do book well in advance. You can book your ticket online or by completing the form below. This is a workshop suitable for adults or accompanied children aged 12+ \nOnce registered you’ll receive a 20% discount off CASS art supplies too! \nIndividual workshops £40 per person or to take your sketching further join both for £60! \n  \nPlease note that The Art Space is located in the basement and does not have step-free access \nBOOKING FORM\n\n\n  \n\n\n\n Your Name *\n \n \n Student Name(s) (if different from above)\n \n \n Your Email *\n \n \n Contact phone number *\n \n \n Address *\n \n \n Town *\n \n \n Postcode *\n \n\nSketching in Bristol - booking options:\n \nWorkshops at Cass Art Saturday 12 June\n\n12 June Ink and Watercolour Sketching for Beginners £4012 June Parks & Gardens £40Saturday 12 June both workshops £60\n \nWorkshops at Cass Art Sunday 13 June\n\n13 June Urban Sketching for the Terrified! £4013 June Bristol Street Scenes £40Sunday 13 June both workshops £60\n \nBristol 'on location' Workshops 19 & 20 June 2021 10am-4.30pm\n\nMariners' Tales Weekend workshops both days £150Beginners day Saturday 19 June only £80Mariners' Tales Weekend workshops both days - CassArt discount £130\n \n\nHow did you hear about these events? * \nPrevious workshopFacebookInstagramGoogle searchRecommendationEmailCass ArtOther\n \nTerms & Conditions\n Please tick to confirm that you have read our Terms and Conditions of booking
URL:https://annettemorris.art/event/sketching-workshops-at-cass-art-bristol/
LOCATION:Cass Art Bristol\, 43-45 Park Street\, Bristol\, BS1 5NL\, United Kingdom
CATEGORIES:Bristol,UK,Workshops
ATTACH;FMTTYPE=image/jpeg:https://annettemorris.art/wp-content/uploads/2019/11/cassartevent2.jpg
ORGANIZER;CN="Annette Morris":MAILTO:sketch@annettemorris.art
GEO:51.4541059;-2.60268
X-APPLE-STRUCTURED-LOCATION;VALUE=URI;X-ADDRESS=Cass Art Bristol 43-45 Park Street Bristol BS1 5NL United Kingdom;X-APPLE-RADIUS=500;X-TITLE=43-45 Park Street:geo:-2.60268,51.4541059
END:VEVENT
BEGIN:VEVENT
DTSTART;TZID=Europe/London:20200503T113000
DTEND;TZID=Europe/London:20200503T163000
DTSTAMP:20260420T182451
CREATED:20191101T192612Z
LAST-MODIFIED:20200225T142610Z
UID:10001321-1588505400-1588523400@annettemorris.art
SUMMARY:Sunday workshops at Cass Art Bristol
DESCRIPTION:Fun workshops in the great Cass Art Studio space for anyone who would like to get started with urban sketching.  A day full of tips and tricks about drawing and painting on location and the materials you can use. \n  \nUrban Sketching for the Terrified!\n11.30am – 1.30pm\nIf you are new to sketching or lack confidence to draw in public\, this short fun workshop is for you!\nLearn how to get started and overcome your fear of ‘the blank page’\, and with minimal materials. \nYou will need a sketchbook (A5 or A4) with paper suitable for watercolour (160gsm+)\, a pencil (HB or 2B)\, eraser\, fineliner pen with waterproof ink and a basic travel watercolour set with brush or waterbrush. \nSketching Bristol Street Scenes\n2.30pm – 4.30pm\nEven if you are new to sketching\, in this workshop you’ll be amazed at what you can do to capture the impression of a busy street scene in your sketchbook. \nYou will need a sketchbook (A5 or A4) with paper suitable for watercolour (160gsm+)\, a pencil (HB or 2B)\, eraser and a basic travel watercolour set with round brush size 8 or similar. \nPlaces are limited so do book well in advance. You can book your ticket via Eventbrite or by completing the form below. This is a workshop suitable for adults or accompanied children aged 12+ \nOnce registered you’ll receive a 20% discount off CASS art supplies too! \nIndividual workshops £40 per person or to take your sketching further join both for £60! \nPlease note that The Art Space is located in the basement and does not have step-free access \nBOOKING FORM\n\n\n  \n\n\n\n Your Name *\n \n \n Student Name(s) (if different from above)\n \n \n Your Email *\n \n \n Contact phone number *\n \n \n Address *\n \n \n Town *\n \n \n Postcode *\n \n\nSketching in Bristol - booking options:\n \nWorkshops at Cass Art Saturday 12 June\n\n12 June Ink and Watercolour Sketching for Beginners £4012 June Parks & Gardens £40Saturday 12 June both workshops £60\n \nWorkshops at Cass Art Sunday 13 June\n\n13 June Urban Sketching for the Terrified! £4013 June Bristol Street Scenes £40Sunday 13 June both workshops £60\n \nBristol 'on location' Workshops 19 & 20 June 2021 10am-4.30pm\n\nMariners' Tales Weekend workshops both days £150Beginners day Saturday 19 June only £80Mariners' Tales Weekend workshops both days - CassArt discount £130\n \n\nHow did you hear about these events? * \nPrevious workshopFacebookInstagramGoogle searchRecommendationEmailCass ArtOther\n \nTerms & Conditions\n Please tick to confirm that you have read our Terms and Conditions of booking
URL:https://annettemorris.art/event/workshops-cass-art-bristol/
LOCATION:Cass Art Bristol\, 43-45 Park Street\, Bristol\, BS1 5NL\, United Kingdom
CATEGORIES:Bristol,UK,Workshops
ATTACH;FMTTYPE=image/jpeg:https://annettemorris.art/wp-content/uploads/2019/11/cassartevent3may.jpg
ORGANIZER;CN="Annette Morris":MAILTO:sketch@annettemorris.art
GEO:51.4541059;-2.60268
X-APPLE-STRUCTURED-LOCATION;VALUE=URI;X-ADDRESS=Cass Art Bristol 43-45 Park Street Bristol BS1 5NL United Kingdom;X-APPLE-RADIUS=500;X-TITLE=43-45 Park Street:geo:-2.60268,51.4541059
END:VEVENT
BEGIN:VEVENT
DTSTART;TZID=UTC:20250922T100000
DTEND;TZID=UTC:20250926T163000
DTSTAMP:20260420T182451
CREATED:20250330T115858Z
LAST-MODIFIED:20250920T121820Z
UID:10002695-1758535200-1758904200@annettemorris.art
SUMMARY:A Week in the Wolds - Urban Sketching in the Heart of England
DESCRIPTION:Sketch with me in the heart of the English countryside!   This 5 day sketching experience takes in Cotswold villages\, Shakespeare country\, regency Cheltenham and heritage towns of Worcestershire.  Sketching inspiration will abound from the rolling hills\, quaint stone cottages\, beautiful buildings and classic English countryside as autumn colours brighten up the landscape. \nPrior to moving to France I lived and worked in the Cotswolds for many years and I’m so excited to draw\, paint\, explore this area with you! \nSuitable for all levels\, in these workshops you’ll overcome your fear of the blank page and explore alternative techniques for different subjects. Working with pencils\, ink and watercolour we’ll go through some of the essentials of drawing on location\, use of colour and other materials to liven up your sketchbook!  These workshops are ideal for beginners or a great refresher if you’ve already got some drawing or painting experience. \nThe recommended base for the workshops is Evesham\, which is central to the area and has a well-served railway station and many places to stay\, eat and shop. \nSample sketch itinerary \n\nMonday 22 – Exploring Evesham\, the river Avon\, the Abbey and afternoon teas 🙂\nTuesday 23 – Beautiful timber buildings in Tewkesbury and quaint old shopfronts\nWednesday 24 – Charming stone cottages in Broadway and classic Cotswold views\nThursday 25 – Chic boutiques and buildings in regency Cheltenham\nFriday 26 – Discovering Shakespeare country – travel sketching in Stratford-upon-Avon\n\nSuggested materials:\nSketchbook with paper 200gsm or more suitable for watercolour\, portable sketching stool\, basic watercolour travel set\, watercolour brush\, HB/B/2B pencil\, eraser\, sharpener and watercolour pencils \nA detailed materials list will be sent with booking confirmation or by request. Please emailme@annettemorris.art if you would like any further information. \nWeek workshop price: 300€ / £250 \nWhat’s included? \nThe workshop price includes tuition 10am-4.30pm daily and use (if necessary) of sketching materials.  Meals\, refreshments\, transport and accommodation are not included.  This is a travel sketching experience so the workshop days may require some short distance travel but this will be arranged at low cost for the group via public or private transport subject to numbers and local service availability.  If you have any questions and would like more details please don’t hesitate to contact me!  emailme@annettemorris.art \nIs it possible to book just one day? \nYes\, it is possible to join just one or two workshops (£75/day) – simply email me to check availability for the date that you would like to book. \nAdditional notes:\nThere will be some walking up and down hills and steps\, so please wear comfortable footwear and bring waterproofs in the event of inclement weather.
URL:https://annettemorris.art/event/sketching-holiday-in-the-cotswolds/
LOCATION:Evesham\, Evesham\, WR11\, United Kingdom
CATEGORIES:Sketch Holidays,UK,Workshops
ATTACH;FMTTYPE=image/png:https://annettemorris.art/wp-content/uploads/2025/03/Week-in-the-Wolds.png
ORGANIZER;CN="Annette Morris":MAILTO:sketch@annettemorris.art
END:VEVENT
END:VCALENDAR