BEGIN:VCALENDAR
VERSION:2.0
PRODID:-//Annette Morris Art - ECPv6.9.0//NONSGML v1.0//EN
CALSCALE:GREGORIAN
METHOD:PUBLISH
X-ORIGINAL-URL:https://annettemorris.art
X-WR-CALDESC:Events for Annette Morris Art
REFRESH-INTERVAL;VALUE=DURATION:PT1H
X-Robots-Tag:noindex
X-PUBLISHED-TTL:PT1H
BEGIN:VTIMEZONE
TZID:Europe/Paris
BEGIN:DAYLIGHT
TZOFFSETFROM:+0100
TZOFFSETTO:+0200
TZNAME:CEST
DTSTART:20250330T010000
END:DAYLIGHT
BEGIN:STANDARD
TZOFFSETFROM:+0200
TZOFFSETTO:+0100
TZNAME:CET
DTSTART:20251026T010000
END:STANDARD
END:VTIMEZONE
BEGIN:VEVENT
DTSTART;TZID=Europe/Paris:20250814T093000
DTEND;TZID=Europe/Paris:20250814T120000
DTSTAMP:20260422T032718
CREATED:20250612T132726Z
LAST-MODIFIED:20250612T133027Z
UID:10002716-1755163800-1755172800@annettemorris.art
SUMMARY:Water in Watercolour\, Bize-Minervois
DESCRIPTION:The pretty village of Bize-Minervois is a wonderful location to look at ways to capture light\, shadows and water in watercolour.  No previous art experience is required! \nYou will need a sketchbook suitable for watercolour (paper 300gsm or higher) but a sketch kit can be available on loan if you do not have your own. \n 
URL:https://annettemorris.art/event/water-in-watercolour-bize-minervois/
LOCATION:Bize-Minervois\, Bize-Minervois\, 11120\, France
CATEGORIES:Sketch Languedoc!,Sketching France,Workshops
ATTACH;FMTTYPE=image/jpeg:https://annettemorris.art/wp-content/uploads/2023/04/IMG_3921-scaled-e1681826322436.jpeg
ORGANIZER;CN="Annette Morris":MAILTO:sketch@annettemorris.art
GEO:43.3172;2.869
END:VEVENT
END:VCALENDAR