BEGIN:VCALENDAR
VERSION:2.0
PRODID:-//Annette Morris Art - ECPv6.9.0//NONSGML v1.0//EN
CALSCALE:GREGORIAN
METHOD:PUBLISH
X-WR-CALNAME:Annette Morris Art
X-ORIGINAL-URL:https://annettemorris.art
X-WR-CALDESC:Events for Annette Morris Art
REFRESH-INTERVAL;VALUE=DURATION:PT1H
X-Robots-Tag:noindex
X-PUBLISHED-TTL:PT1H
BEGIN:VTIMEZONE
TZID:Europe/Paris
BEGIN:DAYLIGHT
TZOFFSETFROM:+0100
TZOFFSETTO:+0200
TZNAME:CEST
DTSTART:20230326T010000
END:DAYLIGHT
BEGIN:STANDARD
TZOFFSETFROM:+0200
TZOFFSETTO:+0100
TZNAME:CET
DTSTART:20231029T010000
END:STANDARD
END:VTIMEZONE
BEGIN:VEVENT
DTSTART;TZID=Europe/Paris:20230408T103000
DTEND;TZID=Europe/Paris:20230408T120000
DTSTAMP:20260421T234234
CREATED:20230311T113458Z
LAST-MODIFIED:20230311T113458Z
UID:10001864-1680949800-1680955200@annettemorris.art
SUMMARY:Sketching France - Seillans
DESCRIPTION:A virtual meet-up with members of the Sketching France group! See http://facebook.com/groups/sketchingfrance.online/events
URL:https://annettemorris.art/event/sketching-france-seillans/
LOCATION:Online
CATEGORIES:Online Events,Sketching France
ATTACH;FMTTYPE=image/jpeg:https://annettemorris.art/wp-content/uploads/2023/03/seillans8april-scaled.jpg
ORGANIZER;CN="Annette Morris":MAILTO:sketch@annettemorris.art
END:VEVENT
BEGIN:VEVENT
DTSTART;TZID=Europe/Paris:20230318T103000
DTEND;TZID=Europe/Paris:20230318T120000
DTSTAMP:20260421T234234
CREATED:20230101T101805Z
LAST-MODIFIED:20230101T101855Z
UID:10001846-1679135400-1679140800@annettemorris.art
SUMMARY:Sketching France - Balazuc
DESCRIPTION:A virtual meet-up with members of the Sketching France group! See http://facebook.com/groups/sketchingfrance.online/events
URL:https://annettemorris.art/event/sketching-france-balazuc/
LOCATION:Online
CATEGORIES:Online Events,Sketching France
ATTACH;FMTTYPE=image/jpeg:https://annettemorris.art/wp-content/uploads/2023/01/balazuc18mar-scaled.jpg
ORGANIZER;CN="Annette Morris":MAILTO:sketch@annettemorris.art
END:VEVENT
END:VCALENDAR