BEGIN:VCALENDAR
VERSION:2.0
PRODID:-//Annette Morris Art - ECPv6.9.0//NONSGML v1.0//EN
CALSCALE:GREGORIAN
METHOD:PUBLISH
X-ORIGINAL-URL:https://annettemorris.art
X-WR-CALDESC:Events for Annette Morris Art
REFRESH-INTERVAL;VALUE=DURATION:PT1H
X-Robots-Tag:noindex
X-PUBLISHED-TTL:PT1H
BEGIN:VTIMEZONE
TZID:UTC
BEGIN:STANDARD
TZOFFSETFROM:+0000
TZOFFSETTO:+0000
TZNAME:UTC
DTSTART:20210101T000000
END:STANDARD
TZID:Europe/Helsinki
BEGIN:DAYLIGHT
TZOFFSETFROM:+0200
TZOFFSETTO:+0300
TZNAME:EEST
DTSTART:20190331T010000
END:DAYLIGHT
BEGIN:STANDARD
TZOFFSETFROM:+0300
TZOFFSETTO:+0200
TZNAME:EET
DTSTART:20191027T010000
END:STANDARD
BEGIN:DAYLIGHT
TZOFFSETFROM:+0200
TZOFFSETTO:+0300
TZNAME:EEST
DTSTART:20200329T010000
END:DAYLIGHT
BEGIN:STANDARD
TZOFFSETFROM:+0300
TZOFFSETTO:+0200
TZNAME:EET
DTSTART:20201025T010000
END:STANDARD
BEGIN:DAYLIGHT
TZOFFSETFROM:+0200
TZOFFSETTO:+0300
TZNAME:EEST
DTSTART:20210328T010000
END:DAYLIGHT
BEGIN:STANDARD
TZOFFSETFROM:+0300
TZOFFSETTO:+0200
TZNAME:EET
DTSTART:20211031T010000
END:STANDARD
END:VTIMEZONE
BEGIN:VEVENT
DTSTART;TZID=UTC:20211014T100000
DTEND;TZID=UTC:20211014T120000
DTSTAMP:20260423T003619
CREATED:20210924T080000Z
LAST-MODIFIED:20211003T154215Z
UID:10001272-1634205600-1634212800@annettemorris.art
SUMMARY:Inspiré Sketchbook!
DESCRIPTION:A special ‘pop-up’ event at Inspiré Art Gallery on Thursday 14 October at 10am! \nThis event invites you to bring along your sketchbook to discover some of the essentials of travel sketching with ink and with watercolour. Whilst we sketch a local scene\, find out more about materials\, techniques\, gallery events\, and of course\, you’ll be able to enjoy a coffee or a glass of something local from the Minervois! \nIf you’d like to attend in person please register below or contact Angie at Inspiré inspireazille@gmail.com. The event will be approximately 2 hours and suitable for complete beginners as well as more experienced sketchers. \n\n\n  \n\n\n\n Your Name *\n \n \n Student Name(s) (if different from above)\n \n \n Your Email *\n \n \n Contact phone number *\n \n\nI would like to register for the event at Inspiré 10am\n \nNumber of places \n \n\nI would like to receive a copy of the newsletter Yes pleaseNo thanks
URL:https://annettemorris.art/event/pop-up-sketchbook-inspire-azille/
LOCATION:Azille\, Azille\, 11700
CATEGORIES:Sketch Languedoc!,Workshops
ATTACH;FMTTYPE=image/jpeg:https://annettemorris.art/wp-content/uploads/2019/04/inspirejuly-scaled.jpg
ORGANIZER;CN="Annette Morris":MAILTO:sketch@annettemorris.art
GEO:43.2740099;2.668592
END:VEVENT
BEGIN:VEVENT
DTSTART;TZID=Europe/Helsinki:20210903T100000
DTEND;TZID=Europe/Helsinki:20210903T130000
DTSTAMP:20260423T003619
CREATED:20200225T113139Z
LAST-MODIFIED:20210822T081111Z
UID:10001379-1630663200-1630674000@annettemorris.art
SUMMARY:Watercolour Sketching for Beginners
DESCRIPTION:You don’t need previous art experience to join this workshop – just an interest in travel sketching and life in a small French fishing village!  We’ll look at page planning\, textures and colours and how to work with ink and watercolour on location. \nWorkshop starts 10am with a quick warm up sketch over coffee. \nYou will need a sketchbook with paper 160gsm or higher – which can be purchased on the day if you do not have your own. \nWe will also use a black waterproof ink pen\, HB pencil\, basic watercolour kit\, brush and water pot.
URL:https://annettemorris.art/event/watercolour-sketching-for-beginners/
LOCATION:Port Vendres\, Port Vendres\, 66660\, France
CATEGORIES:Sketch Languedoc!,Workshops
ATTACH;FMTTYPE=image/jpeg:https://annettemorris.art/wp-content/uploads/2020/09/vire-vire-morning-blue-boats-scaled.jpg
ORGANIZER;CN="Annette Morris":MAILTO:sketch@annettemorris.art
GEO:42.518487;3.106592
END:VEVENT
BEGIN:VEVENT
DTSTART;TZID=Europe/Helsinki:20200201T180000
DTEND;TZID=Europe/Helsinki:20200424T180000
DTSTAMP:20260423T003619
CREATED:20200114T083436Z
LAST-MODIFIED:20200522T082153Z
UID:10001362-1580580000-1587751200@annettemorris.art
SUMMARY:Croquée sur la vie et le vif!
DESCRIPTION:
URL:https://annettemorris.art/event/croquee-sur-la-vie-et-le-vif/
LOCATION:Inspiré Azille\, Rue du grippis\, Azille\, 11170\, France
CATEGORIES:Exhibitions
ATTACH;FMTTYPE=image/jpeg:https://annettemorris.art/wp-content/uploads/2020/01/Denis-Carriere-Annette-Morris-Inspire.jpg
ORGANIZER;CN="Inspir%C3%A9 Azille":MAILTO:inspireazille@gmail.com
GEO:43.2778129;2.6642245
X-APPLE-STRUCTURED-LOCATION;VALUE=URI;X-ADDRESS=Inspiré Azille Rue du grippis Azille 11170 France;X-APPLE-RADIUS=500;X-TITLE=Rue du grippis:geo:2.6642245,43.2778129
END:VEVENT
BEGIN:VEVENT
DTSTART;TZID=Europe/Helsinki:20191204T100000
DTEND;TZID=Europe/Helsinki:20191204T150000
DTSTAMP:20260423T003619
CREATED:20190926T094516Z
LAST-MODIFIED:20191103T122050Z
UID:10001306-1575453600-1575471600@annettemorris.art
SUMMARY:USk Languedoc - Azille
DESCRIPTION:
URL:http://facebook.com/groups/sketchlanguedoc/events#new_tab
LOCATION:Inspiré Azille\, Rue du grippis\, Azille\, 11170\, France
CATEGORIES:Sketch Languedoc!,Urban Sketchers
ATTACH;FMTTYPE=image/jpeg:https://annettemorris.art/wp-content/uploads/2019/09/USk-logo-LR.jpg
ORGANIZER;CN="Annette Morris":MAILTO:sketch@annettemorris.art
GEO:43.2778129;2.6642245
X-APPLE-STRUCTURED-LOCATION;VALUE=URI;X-ADDRESS=Inspiré Azille Rue du grippis Azille 11170 France;X-APPLE-RADIUS=500;X-TITLE=Rue du grippis:geo:2.6642245,43.2778129
END:VEVENT
BEGIN:VEVENT
DTSTART;TZID=Europe/Helsinki:20191126T100000
DTEND;TZID=Europe/Helsinki:20191126T150000
DTSTAMP:20260423T003619
CREATED:20190926T093640Z
LAST-MODIFIED:20191120T063706Z
UID:10001305-1574762400-1574780400@annettemorris.art
SUMMARY:Christmas Card workshop
DESCRIPTION:Time to have some fun with the whole toolbox of art and craft materials! \nIn this workshop you’ll create several beautiful cards in the designs of your choice.  People love to receive a handmade and personalised card\, it’s so unique and special. \nAll materials are provided but if you have any pieces of fabric\, card\, paper\, ribbon or other items you wish to use\, please do bring them along. \nThese events are extremely popular so do book early to guarantee a place.  There’ll be music and plenty of sparkle to help you feel some festive cheer! \nA tapas lunch and a glass of local wine is available if reserved in advance (10€). \n 
URL:https://annettemorris.art/event/christmas-card-workshop/
LOCATION:Inspiré Azille\, Rue du grippis\, Azille\, 11170\, France
CATEGORIES:Creative crafts,Sketch Languedoc!,Workshops
ATTACH;FMTTYPE=image/jpeg:https://annettemorris.art/wp-content/uploads/2019/09/cards.jpg
ORGANIZER;CN="Annette Morris":MAILTO:sketch@annettemorris.art
GEO:43.2778129;2.6642245
X-APPLE-STRUCTURED-LOCATION;VALUE=URI;X-ADDRESS=Inspiré Azille Rue du grippis Azille 11170 France;X-APPLE-RADIUS=500;X-TITLE=Rue du grippis:geo:2.6642245,43.2778129
END:VEVENT
BEGIN:VEVENT
DTSTART;TZID=Europe/Helsinki:20191112T100000
DTEND;TZID=Europe/Helsinki:20191112T150000
DTSTAMP:20260423T003619
CREATED:20190926T102743Z
LAST-MODIFIED:20191108T175635Z
UID:10001303-1573552800-1573570800@annettemorris.art
SUMMARY:Urban Sketching for Beginners
DESCRIPTION:If you’d love to sketch on location but not sure where to start – this fun workshop is for you! \nWhether you have never sketched before or would like a fresh approach to watercolour painting\, in this workshop we’ll work through some essentials of composition and visual storytelling to capture quick impressions of the things that we see. You’ll also pick up a host of tips on materials and get some other ideas on taking your sketching further. \n“Learning to draw is really a matter of learning to see” (Kimon Nicolaides) \nWhat to bring:\nA sketchbook if you have one\, but all necessary materials will be available for you to use on the day. \nA tapas lunch with wine is available on the day if reserved in advance (10€).
URL:https://annettemorris.art/event/urban-sketching-for-beginners-azille/
LOCATION:Inspiré Azille\, Rue du grippis\, Azille\, 11170\, France
CATEGORIES:Sketch Languedoc!,Workshops
ATTACH;FMTTYPE=image/jpeg:https://annettemorris.art/wp-content/uploads/2019/09/inspire.jpg
ORGANIZER;CN="Annette Morris":MAILTO:sketch@annettemorris.art
GEO:43.2778129;2.6642245
X-APPLE-STRUCTURED-LOCATION;VALUE=URI;X-ADDRESS=Inspiré Azille Rue du grippis Azille 11170 France;X-APPLE-RADIUS=500;X-TITLE=Rue du grippis:geo:2.6642245,43.2778129
END:VEVENT
END:VCALENDAR