BEGIN:VCALENDAR
VERSION:2.0
PRODID:-//Annette Morris Art - ECPv6.9.0//NONSGML v1.0//EN
CALSCALE:GREGORIAN
METHOD:PUBLISH
X-ORIGINAL-URL:https://annettemorris.art
X-WR-CALDESC:Events for Annette Morris Art
REFRESH-INTERVAL;VALUE=DURATION:PT1H
X-Robots-Tag:noindex
X-PUBLISHED-TTL:PT1H
BEGIN:VTIMEZONE
TZID:Europe/Paris
BEGIN:DAYLIGHT
TZOFFSETFROM:+0100
TZOFFSETTO:+0200
TZNAME:CEST
DTSTART:20250330T010000
END:DAYLIGHT
BEGIN:STANDARD
TZOFFSETFROM:+0200
TZOFFSETTO:+0100
TZNAME:CET
DTSTART:20251026T010000
END:STANDARD
END:VTIMEZONE
BEGIN:VEVENT
DTSTART;TZID=Europe/Paris:20250605T093000
DTEND;TZID=Europe/Paris:20250605T123000
DTSTAMP:20260423T100930
CREATED:20250110T082900Z
LAST-MODIFIED:20250520T144504Z
UID:10002659-1749115800-1749126600@annettemorris.art
SUMMARY:La Vie en Rose\, Assignan
DESCRIPTION:Assignan is also known as ‘Village Castigno’ – a wine-making village painted in the colours of wine! \nIn this fun workshop you’ll learn some basic sketching skills and all sorts of tips and tricks for using watercolour in your drawings.  You do not need previous artistic experience to join\, just an interest in urban sketching and a willingness to ‘loosen up’ your painting style! \nWorkshop starts 10am with a quick warm up sketch over coffee. \nYou will need a sketchbook with paper 180gsm or higher – which can be purchased on the day if you do not have your own. \nWe will also use a black waterproof ink pen\, HB pencil\, basic watercolour kit\, brush and water pot.
URL:https://annettemorris.art/event/la-vie-en-rose-assignan-5-6-25/
LOCATION:Assignan\, Assignan\, 34360\, France
CATEGORIES:Du Canal du Midi au St Chinian,Sketch Languedoc!,Workshops
ATTACH;FMTTYPE=image/jpeg:https://annettemorris.art/wp-content/uploads/2020/03/assignan.jpg
ORGANIZER;CN="Annette Morris":MAILTO:sketch@annettemorris.art
GEO:43.4012;2.8866
END:VEVENT
END:VCALENDAR