BEGIN:VCALENDAR
VERSION:2.0
PRODID:-//Annette Morris Art - ECPv6.9.0//NONSGML v1.0//EN
CALSCALE:GREGORIAN
METHOD:PUBLISH
X-ORIGINAL-URL:https://annettemorris.art
X-WR-CALDESC:Events for Annette Morris Art
REFRESH-INTERVAL;VALUE=DURATION:PT1H
X-Robots-Tag:noindex
X-PUBLISHED-TTL:PT1H
BEGIN:VTIMEZONE
TZID:Europe/Paris
BEGIN:DAYLIGHT
TZOFFSETFROM:+0100
TZOFFSETTO:+0200
TZNAME:CEST
DTSTART:20260329T010000
END:DAYLIGHT
BEGIN:STANDARD
TZOFFSETFROM:+0200
TZOFFSETTO:+0100
TZNAME:CET
DTSTART:20261025T010000
END:STANDARD
END:VTIMEZONE
BEGIN:VEVENT
DTSTART;VALUE=DATE:20261003
DTEND;VALUE=DATE:20261005
DTSTAMP:20260424T202154
CREATED:20260308T172623Z
LAST-MODIFIED:20260423T142657Z
UID:10002893-1790985600-1791158399@annettemorris.art
SUMMARY:USk Rencontre des Suds
DESCRIPTION:La Rencontre des Suds is a free annual gathering for Urban Sketchers organised by a group based in southern France.  See the USK Toulon group  for more information!
URL:https://annettemorris.art/event/usk-rencontre-des-suds/
LOCATION:Toulon\, France
CATEGORIES:Urban Sketchers
ATTACH;FMTTYPE=image/jpeg:https://annettemorris.art/wp-content/uploads/2026/03/usktoulon.jpg
ORGANIZER;CN="USk France":MAILTO:urbansketchers.france@gmail.com
END:VEVENT
BEGIN:VEVENT
DTSTART;TZID=Europe/Paris:20261006T140000
DTEND;TZID=Europe/Paris:20261006T153000
DTSTAMP:20260424T202155
CREATED:20260102T174212Z
LAST-MODIFIED:20260305T094735Z
UID:10002751-1791295200-1791300600@annettemorris.art
SUMMARY:Zoom Workshop - Watercolour Plus...!
DESCRIPTION:Tuesdays are Zoom days and this series of 4 separate workshops will focus on combining watercolour with other mediums.  It’s a great opportunity to create\, experiment and discover new ways of making your mark! \nEach workshop starts 2pm Paris time (CET)) \nTuesday 3 – Watercolour + Watercolour & Coloured Pencils\nTuesday 10 – Watercolour + Liquid Indian Ink\nTuesday 17- Watercolour + Charcoal\nTuesday 24 – Watercolour + Pastel \nBasic materials suggested: \n\nSketchbook or paper suitable for watercolour\nPencils\nWatercolours\nWhite gouache\nHairdryer (recommended)\nJar of water\, tissue/paper towel\, scrap paper\, small water spray\n\nFurther information: \n\nLimited participants for a small group setting\nDirect\, live interaction with the artist\nStep by Step instruction\nTime to complete each step in real-time\nRecording available to watch on replay\nAppearing on camera or voice is not necessary\n\n3-5 days after the live session\, you will get a link to the recording. By purchasing a Zoom workshop\, you agree that other viewers may hear your voice in the recording. \nPlease emailme@annettemorris.art if you would like any further information before booking. \n 
URL:https://annettemorris.art/product/zoom-workshops-october-2026#new_tab
LOCATION:Online
CATEGORIES:Live,Online Events
ORGANIZER;CN="Annette Morris":MAILTO:sketch@annettemorris.art
END:VEVENT
BEGIN:VEVENT
DTSTART;TZID=Europe/Paris:20261007T100000
DTEND;TZID=Europe/Paris:20261007T130000
DTSTAMP:20260424T202155
CREATED:20260102T075021Z
LAST-MODIFIED:20260102T092511Z
UID:10002779-1791367200-1791378000@annettemorris.art
SUMMARY:USk Languedoc-Roussillon
DESCRIPTION:For details see the Facebook page http://www.facebook.com/urbansketcherslanguedoc/events
URL:https://annettemorris.art/event/usk-languedoc-roussillon-2025-8/2026-10-07/
CATEGORIES:Sketch Languedoc!,Urban Sketchers
ATTACH;FMTTYPE=image/jpeg:https://annettemorris.art/wp-content/uploads/2025/12/usk-lr-logo2026.jpg
ORGANIZER;CN="USk Languedoc":MAILTO:usk@sketchlanguedoc.com
END:VEVENT
BEGIN:VEVENT
DTSTART;TZID=Europe/Paris:20261009T100000
DTEND;TZID=Europe/Paris:20261011T160000
DTSTAMP:20260424T202155
CREATED:20260314T160441Z
LAST-MODIFIED:20260314T160441Z
UID:10002894-1791540000-1791734400@annettemorris.art
SUMMARY:Watercolour Sketching Weekend - Montpellier 2026
DESCRIPTION:Ideal for: A weekend away with the girls\, History lovers\, Photographers\, Francophiles\, Foodies \n\nTreat yourself to 3 days sketching in this vibrant\, cultural and historic city – you won’t regret it!  Montpellier is not just one of France’s most sought after destinations\, it offers an incredible amount of sketch subjects – from majestic buildings and classic French architecture to luscious green parks\, street cafés and let’s not forget the food and fabulous wine! \nFor this weekend break we’ll be based in the heart of the city – La Place de la Comédie.  From here we’ll start by getting to grips with some of the basics of sketching on location.  This workshop is ideal for beginners or a great refresher if you’ve already got some drawing or painting experience.  We’ll be exploring the city through our sketches\, learning a whole pack of tips and tricks about perspective\, colour\, adding people to your drawings and of course\, making memories about this incredible area of France! \nThe city is known for being pedestrian and bike-friendly with close to 200 km of paths and a great tram network\, so it’s easy to get around without a car. With an international airport it’s also incredibly accessible from almost anywhere – and you can also catch a high-speed train to or from Paris\, or even drive from London or Barcelona! \n\nWhere to stay: \nI suggest somewhere within walking distance of La Place de la Comédie. There are several hotels and apartments including: \nHotel de la Comédie\nGrand Hotel du Midi Montpellier\nIbis Montpellier Comédie\nHotel Aragon\nBest Western Plus Comédie Saint Roch \nTransport recommendations:\nFly to Montpellier\, Nîmes or Béziers\nClosest railway station: Montpellier Saint-Roch \nWhat to bring:\nSketchbook\, Portable sketching stool\, Basic watercolour travel set\, Watercolour brush\, HB/B/2B pencil\, eraser\, sharpener.  A detailed materials list will be sent with booking confirmation or by request. Simply email annette@sketchingfrance.com for full details.  If you need to use a sketch kit on loan\, this can also be arranged in advance. \nAdditional notes: \nThere will be some walking up and down hills and steps\, so please wear comfortable footwear and bring a waterproof in the event of inclement weather. \nPrice for 3 days sketch tuition 10am-4pm: 295€ per person – price reduced for early bird bookings ! \nExcludes meals\, transport and accommodation.\nIf you would like more information before booking – please email me annette@sketchingfrance.com \n 
URL:https://annettemorris.art/event/watercolour-sketching-weekend-montpellier-2026/
LOCATION:Montpellier\, Montpellier\, 34000\, France
CATEGORIES:France,Languedoc,Sketch Holidays,Sketch Languedoc!,Sketching France,Weekend Breaks,Workshops
ATTACH;FMTTYPE=image/png:https://annettemorris.art/wp-content/uploads/2026/03/mtp2026.png
ORGANIZER;CN="Annette Morris":MAILTO:sketch@annettemorris.art
GEO:43.6108;3.8767
END:VEVENT
BEGIN:VEVENT
DTSTART;TZID=Europe/Paris:20261013T140000
DTEND;TZID=Europe/Paris:20261013T153000
DTSTAMP:20260424T202155
CREATED:20260102T174707Z
LAST-MODIFIED:20260305T110149Z
UID:10002752-1791900000-1791905400@annettemorris.art
SUMMARY:Zoom Workshop - Watercolour Plus...!
DESCRIPTION:Tuesdays are Zoom days and this series of 4 separate workshops will focus on combining watercolour with other mediums.  It’s a great opportunity to create\, experiment and discover new ways of making your mark! \nEach workshop starts 2pm Paris time (CET)) \nTuesday 3 – Watercolour + Watercolour & Coloured Pencils\nTuesday 10 – Watercolour + Liquid Indian Ink\nTuesday 17- Watercolour + Charcoal\nTuesday 24 – Watercolour + Pastel \nBasic materials suggested: \n\nSketchbook or paper suitable for watercolour\nPencils\nWatercolours\nWhite gouache\nHairdryer (recommended)\nJar of water\, tissue/paper towel\, scrap paper\, small water spray\n\nFurther information: \n\nLimited participants for a small group setting\nDirect\, live interaction with the artist\nStep by Step instruction\nTime to complete each step in real-time\nRecording available to watch on replay\nAppearing on camera or voice is not necessary\n\n3-5 days after the live session\, you will get a link to the recording. By purchasing a Zoom workshop\, you agree that other viewers may hear your voice in the recording. \nPlease emailme@annettemorris.art if you would like any further information before booking. \n 
URL:https://annettemorris.art/product/zoom-workshops-october-2026/#new_tab
LOCATION:Online
CATEGORIES:Live,Online Events
ORGANIZER;CN="Annette Morris":MAILTO:sketch@annettemorris.art
END:VEVENT
BEGIN:VEVENT
DTSTART;TZID=Europe/Paris:20261020T140000
DTEND;TZID=Europe/Paris:20261020T153000
DTSTAMP:20260424T202155
CREATED:20260102T175100Z
LAST-MODIFIED:20260306T113826Z
UID:10002753-1792504800-1792510200@annettemorris.art
SUMMARY:Zoom Workshop - Watercolour Plus...!
DESCRIPTION:Tuesdays are Zoom days and this series of 4 separate workshops will focus on combining watercolour with other mediums.  It’s a great opportunity to create\, experiment and discover new ways of making your mark! \nEach workshop starts 2pm Paris time (CET)) \nTuesday 3 – Watercolour + Watercolour & Coloured Pencils\nTuesday 10 – Watercolour + Liquid Indian Ink\nTuesday 17- Watercolour + Charcoal\nTuesday 24 – Watercolour + Pastel \nBasic materials suggested: \n\nSketchbook or paper suitable for watercolour\nPencils\nWatercolours\nWhite gouache\nHairdryer (recommended)\nJar of water\, tissue/paper towel\, scrap paper\, small water spray\n\nFurther information: \n\nLimited participants for a small group setting\nDirect\, live interaction with the artist\nStep by Step instruction\nTime to complete each step in real-time\nRecording available to watch on replay\nAppearing on camera or voice is not necessary\n\n3-5 days after the live session\, you will get a link to the recording. By purchasing a Zoom workshop\, you agree that other viewers may hear your voice in the recording. \nPlease emailme@annettemorris.art if you would like any further information before booking. \n 
URL:https://annettemorris.art/product/zoom-workshops-october-2026#new_tab
LOCATION:Online
CATEGORIES:Live,Online Events
ORGANIZER;CN="Annette Morris":MAILTO:sketch@annettemorris.art
END:VEVENT
BEGIN:VEVENT
DTSTART;TZID=Europe/Paris:20261021T100000
DTEND;TZID=Europe/Paris:20261021T130000
DTSTAMP:20260424T202155
CREATED:20260407T143254Z
LAST-MODIFIED:20260408T063112Z
UID:10003022-1792576800-1792587600@annettemorris.art
SUMMARY:USk Languedoc-Roussillon
DESCRIPTION:For details see the Facebook page http://www.facebook.com/urbansketcherslanguedoc/events
URL:https://annettemorris.art/event/usk-languedoc-roussillon-12-10-2/2026-10-21/
CATEGORIES:Sketch Languedoc!,Urban Sketchers
ATTACH;FMTTYPE=image/jpeg:https://annettemorris.art/wp-content/uploads/2025/12/usk-lr-logo2026.jpg
ORGANIZER;CN="USk Languedoc":MAILTO:usk@sketchlanguedoc.com
END:VEVENT
BEGIN:VEVENT
DTSTART;TZID=Europe/Paris:20261027T140000
DTEND;TZID=Europe/Paris:20261027T153000
DTSTAMP:20260424T202155
CREATED:20260102T175156Z
LAST-MODIFIED:20260306T140813Z
UID:10002754-1793109600-1793115000@annettemorris.art
SUMMARY:Zoom Workshop - Watercolour Plus...!
DESCRIPTION:Tuesdays are Zoom days and this series of 4 separate workshops will focus on combining watercolour with other mediums.  It’s a great opportunity to create\, experiment and discover new ways of making your mark! \nEach workshop starts 2pm Paris time (CET)) \nTuesday 3 – Watercolour + Watercolour & Coloured Pencils\nTuesday 10 – Watercolour + Liquid Indian Ink\nTuesday 17- Watercolour + Charcoal\nTuesday 24 – Watercolour + Pastel \nBasic materials suggested: \n\nSketchbook or paper suitable for watercolour\nPencils\nWatercolours\nWhite gouache\nHairdryer (recommended)\nJar of water\, tissue/paper towel\, scrap paper\, small water spray\n\nFurther information: \n\nLimited participants for a small group setting\nDirect\, live interaction with the artist\nStep by Step instruction\nTime to complete each step in real-time\nRecording available to watch on replay\nAppearing on camera or voice is not necessary\n\n3-5 days after the live session\, you will get a link to the recording. By purchasing a Zoom workshop\, you agree that other viewers may hear your voice in the recording. \nPlease emailme@annettemorris.art if you would like any further information before booking. \n 
URL:https://annettemorris.art/product/zoom-workshops-october-2026#new_tab
LOCATION:Online
CATEGORIES:Live,Online Events
ORGANIZER;CN="Annette Morris":MAILTO:sketch@annettemorris.art
END:VEVENT
END:VCALENDAR