BEGIN:VCALENDAR
VERSION:2.0
PRODID:-//Annette Morris Art - ECPv6.9.0//NONSGML v1.0//EN
CALSCALE:GREGORIAN
METHOD:PUBLISH
X-ORIGINAL-URL:https://annettemorris.art
X-WR-CALDESC:Events for Annette Morris Art
REFRESH-INTERVAL;VALUE=DURATION:PT1H
X-Robots-Tag:noindex
X-PUBLISHED-TTL:PT1H
BEGIN:VTIMEZONE
TZID:Europe/Paris
BEGIN:DAYLIGHT
TZOFFSETFROM:+0100
TZOFFSETTO:+0200
TZNAME:CEST
DTSTART:20260329T010000
END:DAYLIGHT
BEGIN:STANDARD
TZOFFSETFROM:+0200
TZOFFSETTO:+0100
TZNAME:CET
DTSTART:20261025T010000
END:STANDARD
TZID:Europe/Helsinki
BEGIN:DAYLIGHT
TZOFFSETFROM:+0200
TZOFFSETTO:+0300
TZNAME:EEST
DTSTART:20260329T010000
END:DAYLIGHT
BEGIN:STANDARD
TZOFFSETFROM:+0300
TZOFFSETTO:+0200
TZNAME:EET
DTSTART:20261025T010000
END:STANDARD
END:VTIMEZONE
BEGIN:VEVENT
DTSTART;TZID=Europe/Paris:20260902T100000
DTEND;TZID=Europe/Paris:20260902T130000
DTSTAMP:20260423T013030
CREATED:20260102T075021Z
LAST-MODIFIED:20260102T092511Z
UID:10002778-1788343200-1788354000@annettemorris.art
SUMMARY:USk Languedoc-Roussillon
DESCRIPTION:For details see the Facebook page http://www.facebook.com/urbansketcherslanguedoc/events
URL:https://annettemorris.art/event/usk-languedoc-roussillon-2025-8/2026-09-02/
CATEGORIES:Sketch Languedoc!,Urban Sketchers
ATTACH;FMTTYPE=image/jpeg:https://annettemorris.art/wp-content/uploads/2025/12/usk-lr-logo2026.jpg
ORGANIZER;CN="USk Languedoc":MAILTO:usk@sketchlanguedoc.com
END:VEVENT
BEGIN:VEVENT
DTSTART;TZID=Europe/Paris:20260907T093000
DTEND;TZID=Europe/Paris:20260911T170000
DTSTAMP:20260423T013030
CREATED:20251016T141939Z
LAST-MODIFIED:20251016T141939Z
UID:10002733-1788773400-1789146000@annettemorris.art
SUMMARY:Urban Sketching in France with Ian Fennelly 2026
DESCRIPTION:Join urban sketching instructor and inspirational artist Ian Fennelly for a fabulous week of workshops in the south of France 7-11 September 2026! \nIan will be teaching in Sète\, on the Mediterranean coast between Montpellier and Béziers and often described as the Venice of Languedoc. Sète offers an abundance of subjects for Ian’s wonderful art & captivating teaching style. \nWorkshop days\nIn these workshops Ian will guide you through 1 different sketch subject each day.  Usually\, the workshop day starts at 9.30am ending at approxiately 5pm. There is a short break for lunch so you can bring a picnic with you or find a local café/boulangerie nearby. \nMaterials\nYou will need an A3 sketch pad suitable for ink and watercolour – please click here for Ian’s preferred list of materials. \nGetting to Sète\nSète is easily accessible by train and on the main line from Paris.  Local / regional airports include Montpellier\, Béziers\, Nîmes and Perpignan. Toulouse or Marseille are also options but slightly further away.You can fly direct to Béziers with RyanAir or with other airlines to regional airports. Sète has a central train station which serves the high-speed trains from Marseille\, Paris\, Bordeaux\, Toulouse & Perpignan. \nThe train station is located by the old fishing port ‘La Pointe Courte’. It is a 10/15 minute walk into the centre of the city and the main port. There is a regular bus service to and from the station (Gare SNCF) operated by Sète Agglopole and they have an app where you can pre purchase tickets and check timetables. \nWhere to Stay\nYou will find a wide choice of accommodation in Sète\, from 4-star hotels to private apartments and rooms to rent. We recommend staying close to the Passage le Dauphin in the city centre. Passage le Dauphin (bus stop & shopping arcade) is in the heart of Sète\, situated alongside the Canal Royal and also near the pedestrian area\, tourist office and marketplace. If looking for central accommodation\, this area is generally recommended where there are plenty of shops\, bars and restaurants. \nCost & Confirmation\nThe cost for the week is £575 which is payable in advance.  This includes all 5 workshops with Ian but excludes travel\, accommodation and refreshments.\nIan’s events are very popular and participant numbers are limited. At time of booking a £75 non-refundable deposit is requested to secure your place. To confirm your reservation payment in full is required before 1 March 2026. \n\n\n\n  \n\n\n\nEnquiry/Booking Form\n\nAll fields marked * must be completed\n \n Your Name *\n \n \n Student Name(s) (if different from above)\n \n \n Your Email *\n \n \n Contact phone number\n \n \n Address\n \n \n Town\n \n \n Postcode\n \n \n Country\n \n\n \nPlease confirm the dates you would like to join or register your interest\n\n7-11 September 2026 - £575\n\n \nAny additional notes or questions\n\n\n \nHow did you hear about this event? * \nPrevious workshop/tourIan FennellyFacebookInstagramGoogleRecommendationTwitterOther\n \nBooking notes\nYou are strongly advised to have your own travel insurance policy.\nTo confirm your reservation\, payment in full is required before 1 March 2026.\nFees are non-refundable once booked and paid\, unless the event is cancelled.\nIn the very unlikely event that the artist is unable to lead the tuition (for example due to ill health)\, every effort will be made to replace the artist with someone with similar skills and experience. We will not cancel the holiday nor reimburse clients as a result of the artist's inability to attend.\nFennelly Art Ltd and Annette Morris cannot be held responsible for any accident/loss or injury incurred during the course of the activity.\nPhotos from the events may be featured on the website or linked social media pages for promotional purposes.\nPlease note that bookings will only be confirmed on receipt of payment in advance on a first-come first-served basis.\n Please tick above to confirm that you have read and accept the booking notes above.
URL:https://annettemorris.art/event/urban-sketching-in-france-with-ian-fennelly-2026/
LOCATION:Sète\, 34000\, France
CATEGORIES:France,Languedoc,Sketch Holidays,Sketch Languedoc!,Sketching France,Workshops
ATTACH;FMTTYPE=image/png:https://annettemorris.art/wp-content/uploads/2025/10/ian-fennelly-france-2026.png
ORGANIZER;CN="Annette Morris":MAILTO:sketch@annettemorris.art
GEO:43.4079;3.7008
END:VEVENT
BEGIN:VEVENT
DTSTART;TZID=Europe/Paris:20260916T100000
DTEND;TZID=Europe/Paris:20260916T130000
DTSTAMP:20260423T013030
CREATED:20260407T143254Z
LAST-MODIFIED:20260408T063112Z
UID:10003021-1789552800-1789563600@annettemorris.art
SUMMARY:USk Languedoc-Roussillon
DESCRIPTION:For details see the Facebook page http://www.facebook.com/urbansketcherslanguedoc/events
URL:https://annettemorris.art/event/usk-languedoc-roussillon-12-10-2/2026-09-16/
CATEGORIES:Sketch Languedoc!,Urban Sketchers
ATTACH;FMTTYPE=image/jpeg:https://annettemorris.art/wp-content/uploads/2025/12/usk-lr-logo2026.jpg
ORGANIZER;CN="USk Languedoc":MAILTO:usk@sketchlanguedoc.com
END:VEVENT
BEGIN:VEVENT
DTSTART;TZID=Europe/Helsinki:20260919T100000
DTEND;TZID=Europe/Helsinki:20260920T160000
DTSTAMP:20260423T013030
CREATED:20260412T080629Z
LAST-MODIFIED:20260412T082931Z
UID:10003076-1789812000-1789920000@annettemorris.art
SUMMARY:Art in the Aude; Sketching in historic Chalabre
DESCRIPTION:Suitable for: Beginners\, Week away with the Girls\, Solo Travellers\, Travel with a non-sketching partner\, Francophiles\, Wine lovers\, Hikers \n\nChalabre is a small but beautiful medieval town situated deep within Cathar country in the very south west corner of the Aude\, Chalabre is the capital of the Quercorb region not far from the Spanish border.  Being close to the Pyrénées\, this picturesque town benefits from a Mediterranean climate yet with mountain influences.  The town has weekly markets\, quaint half-timbered houses and impressive stone châteaux.  The river ‘Hers-Vif’ flows through Chalabre\, adding to the charm with small bridges and riverside paths. \nThis weekend workshop offers the chance to discover this fascinating location through sketching in ink and watercolour.  Explore and capture the quiet cobblestone & riverside laneways of a medieval town in a historic part of southern France. \nGetting to Chalabre:\nChalabre is located between Toulouse\, Carcassonne and Perpignan airports. Carcassonne is the closest train station which can be reached from Barcelona or Paris. Check out this site for details: https://en.oui.sncf/en \nWhere to stay:\nThe Hotel de France is extremely central and recommended.\nAdditionally you will find many apartments and bed and breakfasts within the town centre – see booking.com for several suggestions \nWhat to bring:\nSketchbook with paper suitable for watercolour\, Portable sketching stool\, Watercolour travel set & watercolour brush\, graphite pencil\, watercolour pencils\, eraser\, sharpener \nA detailed materials list will be sent with booking confirmation or by request. Simply email annette@sketchlanguedoc.com for full details. \nAdditional notes:\nWe will explore Chalabre on foot\, so there will be some walking on uneven surfaces and up and down steps. Please wear appropriate footwear and bring a waterproof in the event of inclement weather. \nPayment:\nWeekend workshop price: 180€ – price reduced for early bird bookings ! \n 
URL:https://annettemorris.art/event/art-in-the-aude-sketching-in-historic-chalabre-2026/
LOCATION:Chalabre\, 11230\, France
CATEGORIES:France,Languedoc,Sketch Holidays,Sketch Languedoc!
ATTACH;FMTTYPE=image/png:https://annettemorris.art/wp-content/uploads/2026/04/Chalabre2026.png
ORGANIZER;CN="Annette Morris":MAILTO:sketch@annettemorris.art
GEO:42.9818123;2.0469151
END:VEVENT
END:VCALENDAR