BEGIN:VCALENDAR
VERSION:2.0
PRODID:-//Annette Morris Art - ECPv6.9.0//NONSGML v1.0//EN
CALSCALE:GREGORIAN
METHOD:PUBLISH
X-WR-CALNAME:Annette Morris Art
X-ORIGINAL-URL:https://annettemorris.art
X-WR-CALDESC:Events for Annette Morris Art
REFRESH-INTERVAL;VALUE=DURATION:PT1H
X-Robots-Tag:noindex
X-PUBLISHED-TTL:PT1H
BEGIN:VTIMEZONE
TZID:Europe/Paris
BEGIN:DAYLIGHT
TZOFFSETFROM:+0100
TZOFFSETTO:+0200
TZNAME:CEST
DTSTART:20260329T010000
END:DAYLIGHT
BEGIN:STANDARD
TZOFFSETFROM:+0200
TZOFFSETTO:+0100
TZNAME:CET
DTSTART:20261025T010000
END:STANDARD
END:VTIMEZONE
BEGIN:VEVENT
DTSTART;TZID=Europe/Paris:20260804T140000
DTEND;TZID=Europe/Paris:20260804T153000
DTSTAMP:20260420T175716
CREATED:20260103T072459Z
LAST-MODIFIED:20260103T072616Z
UID:10002861-1785852000-1785857400@annettemorris.art
SUMMARY:Zoom Workshop
DESCRIPTION:These online sessions are for a small group only and take place via Zoom where you can participate in ‘real time’\, ask questions and get feedback. Even if you are unable to join the Zoom the video from the workshop is recorded and will be available after the event to anyone pre-registered in advance. \nEach Zoom workshop lasts approximately 90 minutes-2 hours.  Before each workshop you will receive an email invite with a Zoom link. \nSummer programme (start time 2pm Paris time (CET) \n\nTuesday 2 June\nTuesday 7 July\nTuesday 4 August\n\nBasic materials suggested: \n\nSketchbook suitable for ink and watercolour\nPencils\nWatercolour pencils\nWatercolours\nWhite gouache\nHairdryer (recommended)\nJar of water\, tissue/paper towel\, scrap paper\, small water spray\n\nFurther information: \n\nLimited participants for a small group setting\nDirect\, live interaction with the artist\nStep by Step instruction\nTime to complete each step in real-time\nRecording available to watch on replay\nAppearing on camera or voice is not necessary\n3-5 days after the live session\, you will get a link to the recording. By purchasing a Zoom workshop\, you agree that other viewers may hear your voice in the recording.\n\nPlease emailme@annettemorris.art if you would like any further information before booking. \n 
URL:https://annettemorris.art/event/zoom-workshop-summer26/2026-08-04/
LOCATION:Online
CATEGORIES:Live,Online Events
ORGANIZER;CN="Annette Morris":MAILTO:sketch@annettemorris.art
END:VEVENT
BEGIN:VEVENT
DTSTART;TZID=Europe/Paris:20260805T100000
DTEND;TZID=Europe/Paris:20260805T130000
DTSTAMP:20260420T175716
CREATED:20260102T075021Z
LAST-MODIFIED:20260102T092511Z
UID:10002777-1785924000-1785934800@annettemorris.art
SUMMARY:USk Languedoc-Roussillon
DESCRIPTION:For details see the Facebook page http://www.facebook.com/urbansketcherslanguedoc/events
URL:https://annettemorris.art/event/usk-languedoc-roussillon-2025-8/2026-08-05/
CATEGORIES:Sketch Languedoc!,Urban Sketchers
ATTACH;FMTTYPE=image/jpeg:https://annettemorris.art/wp-content/uploads/2025/12/usk-lr-logo2026.jpg
ORGANIZER;CN="USk Languedoc":MAILTO:usk@sketchlanguedoc.com
END:VEVENT
BEGIN:VEVENT
DTSTART;TZID=Europe/Paris:20260819T100000
DTEND;TZID=Europe/Paris:20260819T130000
DTSTAMP:20260420T175716
CREATED:20260407T143254Z
LAST-MODIFIED:20260408T063112Z
UID:10003020-1787133600-1787144400@annettemorris.art
SUMMARY:USk Languedoc-Roussillon
DESCRIPTION:For details see the Facebook page http://www.facebook.com/urbansketcherslanguedoc/events
URL:https://annettemorris.art/event/usk-languedoc-roussillon-12-10-2/2026-08-19/
CATEGORIES:Sketch Languedoc!,Urban Sketchers
ATTACH;FMTTYPE=image/jpeg:https://annettemorris.art/wp-content/uploads/2025/12/usk-lr-logo2026.jpg
ORGANIZER;CN="USk Languedoc":MAILTO:usk@sketchlanguedoc.com
END:VEVENT
BEGIN:VEVENT
DTSTART;TZID=Europe/Paris:20260820T093000
DTEND;TZID=Europe/Paris:20260822T160000
DTSTAMP:20260420T175716
CREATED:20260317T102014Z
LAST-MODIFIED:20260317T102014Z
UID:10002895-1787218200-1787414400@annettemorris.art
SUMMARY:French Village Sketchbook - August 2026
DESCRIPTION:Join me to sketch life in France as it happens in and around this charming wine-making village where I live.   This is the time of the grape harvest – the days are warm and the vineyards are buzzing with activity as local winemakers seize the moment to pick the grapes.   Soak up the atmosphere and fill your sketchbook with images of local views\, people\, food\, old cobbled streets\, buildings and markets.  I’ll share ink and watercolour techniques for both beginners and more experienced travel sketchers – loads of fun with line and colour! \nEach day we’ll start sketching at 10am\, enjoy a local lunch and then finish around 4pm. \nYou will need a sketchbook suitable for watercolour.  I use a book with cold press 300gsm paper.  My sketch kit includes a 6B pencil\, watercolour pencils\, watercolours\, waterproof ink pens and a small portable folding stool.  If you do not have your own materials a spare kit can be available on loan. \nWorkshop prices exclude refreshments\, lunch & accommodation. \n  \nWhere is Quarante?\nQuarante is a small historic village not far from the Canal du Midi and located within an area of Occitanie formerly referred to as Languedoc. By car\, Quarante is about 30 minutes from Béziers or Narbonne\, and approximately an hour from Carcassonne or Montpellier. \nI love living in this village. From the minute I moved here (over 14 years ago) I felt it had a warm and friendly character\, it combines old fashioned quirks and modern day facilities to have almost everything you need to get from day to day\, French style. It’s a working village that remains active all year round. There are various shops and services\, schools\, a pharmacy\, hairdressers\, post office\, butchers – plus a friendly boulangerie and bustling café of course.  The village\, like many of this region\, is surrounded by vineyards and the wine-growing culture is deeply rooted in the culture. \nFrom a sketcher’s point of view Quarante is a wonderful place to be. If you wander into the heart of the medieval centre to find the ancient church and the fountain\, the cobbled streets are so narrow a vehicle could never pass. Explore a little further and you’ll find charming properties\, churches\, chapels\, stone walls\, shutters\, rooftops\, vineyards and donkeys in fields – if quintessential France is something you want to capture in a sketchbook\, you’ll definitely find it here. \nWhere to Stay\nThere are several fabulously equipped modern apartments in the centre of the village – please contact me if you would like more information and I can put you in touch with the owners to book directly \n\n2 people sharing the small apartment with patio (2 beds)\n3 adults sharing the larger apartment with terrace (3 beds)\n\nThere is also a Bed & Breakfast in Quarante called La Sorga de Vida – this is a Maison de Vigneron style property with high ceilings and many period features in the rooms.  La Sorga de Vida is owned & managed by French couple Genevieve and Alain.  Genevieve is passionate about catering so you can expect some substantial breakfasts!  Evening meals can be prepared by arrangement at additional cost.  There are 3 bedrooms available and prices start from 70€ per night – see reviews and availability on Booking.com. \nBooking\nThe workshop price is 180€ which includes 3 days tuition – this excludes refreshments\, meals\, transport and accommodation.
URL:https://annettemorris.art/event/french-village-sketchbook-august-2026/
LOCATION:Quarante\, Quarante\, 34310\, France
CATEGORIES:Du Canal du Midi au St Chinian,Sketch Holidays,Sketch Languedoc!,Sketching France,Workshops
ATTACH;FMTTYPE=image/png:https://annettemorris.art/wp-content/uploads/2026/03/quarante-2026.png
ORGANIZER;CN="Annette Morris":MAILTO:sketch@annettemorris.art
GEO:43.3443329;2.9604995
END:VEVENT
END:VCALENDAR