BEGIN:VCALENDAR
VERSION:2.0
PRODID:-//Annette Morris Art - ECPv6.9.0//NONSGML v1.0//EN
CALSCALE:GREGORIAN
METHOD:PUBLISH
X-ORIGINAL-URL:https://annettemorris.art
X-WR-CALDESC:Events for Annette Morris Art
REFRESH-INTERVAL;VALUE=DURATION:PT1H
X-Robots-Tag:noindex
X-PUBLISHED-TTL:PT1H
BEGIN:VTIMEZONE
TZID:Europe/Paris
BEGIN:DAYLIGHT
TZOFFSETFROM:+0100
TZOFFSETTO:+0200
TZNAME:CEST
DTSTART:20260329T010000
END:DAYLIGHT
BEGIN:STANDARD
TZOFFSETFROM:+0200
TZOFFSETTO:+0100
TZNAME:CET
DTSTART:20261025T010000
END:STANDARD
END:VTIMEZONE
BEGIN:VEVENT
DTSTART;TZID=Europe/Paris:20260701T100000
DTEND;TZID=Europe/Paris:20260701T130000
DTSTAMP:20260420T164616
CREATED:20260102T075021Z
LAST-MODIFIED:20260102T092511Z
UID:10002776-1782900000-1782910800@annettemorris.art
SUMMARY:USk Languedoc-Roussillon
DESCRIPTION:For details see the Facebook page http://www.facebook.com/urbansketcherslanguedoc/events
URL:https://annettemorris.art/event/usk-languedoc-roussillon-2025-8/2026-07-01/
CATEGORIES:Sketch Languedoc!,Urban Sketchers
ATTACH;FMTTYPE=image/jpeg:https://annettemorris.art/wp-content/uploads/2025/12/usk-lr-logo2026.jpg
ORGANIZER;CN="USk Languedoc":MAILTO:usk@sketchlanguedoc.com
END:VEVENT
BEGIN:VEVENT
DTSTART;TZID=Europe/Paris:20260707T140000
DTEND;TZID=Europe/Paris:20260707T153000
DTSTAMP:20260420T164616
CREATED:20260103T072459Z
LAST-MODIFIED:20260103T072616Z
UID:10002857-1783432800-1783438200@annettemorris.art
SUMMARY:Zoom Workshop
DESCRIPTION:These online sessions are for a small group only and take place via Zoom where you can participate in ‘real time’\, ask questions and get feedback. Even if you are unable to join the Zoom the video from the workshop is recorded and will be available after the event to anyone pre-registered in advance. \nEach Zoom workshop lasts approximately 90 minutes-2 hours.  Before each workshop you will receive an email invite with a Zoom link. \nSummer programme (start time 2pm Paris time (CET) \n\nTuesday 2 June\nTuesday 7 July\nTuesday 4 August\n\nBasic materials suggested: \n\nSketchbook suitable for ink and watercolour\nPencils\nWatercolour pencils\nWatercolours\nWhite gouache\nHairdryer (recommended)\nJar of water\, tissue/paper towel\, scrap paper\, small water spray\n\nFurther information: \n\nLimited participants for a small group setting\nDirect\, live interaction with the artist\nStep by Step instruction\nTime to complete each step in real-time\nRecording available to watch on replay\nAppearing on camera or voice is not necessary\n3-5 days after the live session\, you will get a link to the recording. By purchasing a Zoom workshop\, you agree that other viewers may hear your voice in the recording.\n\nPlease emailme@annettemorris.art if you would like any further information before booking. \n 
URL:https://annettemorris.art/event/zoom-workshop-summer26/2026-07-07/
LOCATION:Online
CATEGORIES:Live,Online Events
ORGANIZER;CN="Annette Morris":MAILTO:sketch@annettemorris.art
END:VEVENT
BEGIN:VEVENT
DTSTART;VALUE=DATE:20260715
DTEND;VALUE=DATE:20260719
DTSTAMP:20260420T164616
CREATED:20260317T102255Z
LAST-MODIFIED:20260317T102437Z
UID:10002896-1784073600-1784419199@annettemorris.art
SUMMARY:Urban Sketchers Symposium 2026
DESCRIPTION:The Urban Sketchers International Symposium is an annual educational event organized by Urban Sketchers (USk)\, a nonprofit dedicated to fostering the practice of on-location observational sketching. The goal of the Symposium is to celebrate and practice the art of on-location sketching in the host city. Each symposium offers valuable field-sketching instruction and opportunities for participants to meet new friends and learn more skills. \nDetails & registration links to follow http://urbansketchers.org
URL:https://annettemorris.art/event/urban-sketchers-symposium-2026/
LOCATION:Toulouse\, Toulouse\, 31000\, France
CATEGORIES:Urban Sketchers
ATTACH;FMTTYPE=image/png:https://annettemorris.art/wp-content/uploads/2026/03/Toulouse-Symposium.png
GEO:43.6046256;1.444205
END:VEVENT
BEGIN:VEVENT
DTSTART;TZID=Europe/Paris:20260715T100000
DTEND;TZID=Europe/Paris:20260715T130000
DTSTAMP:20260420T164616
CREATED:20260407T143254Z
LAST-MODIFIED:20260408T063112Z
UID:10003019-1784109600-1784120400@annettemorris.art
SUMMARY:USk Languedoc-Roussillon
DESCRIPTION:For details see the Facebook page http://www.facebook.com/urbansketcherslanguedoc/events
URL:https://annettemorris.art/event/usk-languedoc-roussillon-12-10-2/2026-07-15/
CATEGORIES:Sketch Languedoc!,Urban Sketchers
ATTACH;FMTTYPE=image/jpeg:https://annettemorris.art/wp-content/uploads/2025/12/usk-lr-logo2026.jpg
ORGANIZER;CN="USk Languedoc":MAILTO:usk@sketchlanguedoc.com
END:VEVENT
END:VCALENDAR